BEGIN:VCALENDAR
VERSION:2.0
PRODID:-//The Humanities Institute - ECPv6.15.20//NONSGML v1.0//EN
CALSCALE:GREGORIAN
METHOD:PUBLISH
X-WR-CALNAME:The Humanities Institute
X-ORIGINAL-URL:https://thi.ucsc.edu
X-WR-CALDESC:Events for The Humanities Institute
REFRESH-INTERVAL;VALUE=DURATION:PT1H
X-Robots-Tag:noindex
X-PUBLISHED-TTL:PT1H
BEGIN:VTIMEZONE
TZID:America/Los_Angeles
BEGIN:DAYLIGHT
TZOFFSETFROM:-0800
TZOFFSETTO:-0700
TZNAME:PDT
DTSTART:20250309T100000
END:DAYLIGHT
BEGIN:STANDARD
TZOFFSETFROM:-0700
TZOFFSETTO:-0800
TZNAME:PST
DTSTART:20251102T090000
END:STANDARD
BEGIN:DAYLIGHT
TZOFFSETFROM:-0800
TZOFFSETTO:-0700
TZNAME:PDT
DTSTART:20260308T100000
END:DAYLIGHT
BEGIN:STANDARD
TZOFFSETFROM:-0700
TZOFFSETTO:-0800
TZNAME:PST
DTSTART:20261101T090000
END:STANDARD
BEGIN:DAYLIGHT
TZOFFSETFROM:-0800
TZOFFSETTO:-0700
TZNAME:PDT
DTSTART:20270314T100000
END:DAYLIGHT
BEGIN:STANDARD
TZOFFSETFROM:-0700
TZOFFSETTO:-0800
TZNAME:PST
DTSTART:20271107T090000
END:STANDARD
END:VTIMEZONE
BEGIN:VEVENT
DTSTART;TZID=America/Los_Angeles:20260418T101500
DTEND;TZID=America/Los_Angeles:20260418T101500
DTSTAMP:20260420T152616
CREATED:20260402T175937Z
LAST-MODIFIED:20260414T205749Z
UID:10007906-1776507300-1776507300@thi.ucsc.edu
SUMMARY:Saturday Shakespeare - Macbeth
DESCRIPTION:Saturday Shakespeare in Santa Cruz Presents Macbeth by William Shakespeare Aptos Library on Aoril 18\, 25\, May 2\, 9 & 16 2026 at 10:15 a.m in the Aptos Library Betty Leonard Community Room (in person or join by Zoom). The first hour will be a conversation with the scheduled guest speaker followed by a volunteer read aloud of the play. On May 16\,a video of a live stage production will be shown. This event series is co-sponsored by the UC Santa Cruz Shakespeare Workshop. \nFor more information\, Zoom Link\, or to volunteer to be a reader\, contact: saturdayshakespeare@gmail.com \nGuest Speakers / Video Recording \n\nApril 18: Julia Reinhard Lupton\, Distinguished Professor Emerita of English & Comparative Literature & Co-Director of the New Swan Shakespeare Center at UC\, Irvine. Reading: Act 1\nApril 25: Charles Pasternak\, Acclaimed New York-based theatre director and actor\, Paul will direct Santa Cruz Shakespeare’s 2026 production of Macbeth. Reading: Act 2 through Act 3\, Scene 3\nMay 2: Abigail Heald\, Lecturer in Literature @ UC Santa Cruz & Stanford. She is writing a book on the relationship between art and emotion in Shakespeare’s work. Reading: Act 3\, Scene 4 through Act 4\, Scene 2\nMay 9: Paul Mullins\, Actor / Director\, Artistic Director of Santa Cruz Shakespeare. Reading: Act 4\, Scene 3 through Act 5\, Scene 8\nMay 16: Video recording of a live stage production at the Globe Theatre\, directed by Tony Award winning director Eve Best\, and starring Joseph Millson (Macbeth) and Samantha Spiro (Lady Macbeth).
URL:https://thi.ucsc.edu/event/saturday-shakespeare-macbeth-april18/
LOCATION:Virtual and In Person
END:VEVENT
END:VCALENDAR