BEGIN:VCALENDAR
VERSION:2.0
PRODID:-//The Humanities Institute - ECPv6.15.20//NONSGML v1.0//EN
CALSCALE:GREGORIAN
METHOD:PUBLISH
X-WR-CALNAME:The Humanities Institute
X-ORIGINAL-URL:https://thi.ucsc.edu
X-WR-CALDESC:Events for The Humanities Institute
REFRESH-INTERVAL;VALUE=DURATION:PT1H
X-Robots-Tag:noindex
X-PUBLISHED-TTL:PT1H
BEGIN:VTIMEZONE
TZID:America/Los_Angeles
BEGIN:DAYLIGHT
TZOFFSETFROM:-0800
TZOFFSETTO:-0700
TZNAME:PDT
DTSTART:20220313T100000
END:DAYLIGHT
BEGIN:STANDARD
TZOFFSETFROM:-0700
TZOFFSETTO:-0800
TZNAME:PST
DTSTART:20221106T090000
END:STANDARD
BEGIN:DAYLIGHT
TZOFFSETFROM:-0800
TZOFFSETTO:-0700
TZNAME:PDT
DTSTART:20230312T100000
END:DAYLIGHT
BEGIN:STANDARD
TZOFFSETFROM:-0700
TZOFFSETTO:-0800
TZNAME:PST
DTSTART:20231105T090000
END:STANDARD
BEGIN:DAYLIGHT
TZOFFSETFROM:-0800
TZOFFSETTO:-0700
TZNAME:PDT
DTSTART:20240310T100000
END:DAYLIGHT
BEGIN:STANDARD
TZOFFSETFROM:-0700
TZOFFSETTO:-0800
TZNAME:PST
DTSTART:20241103T090000
END:STANDARD
END:VTIMEZONE
BEGIN:VEVENT
DTSTART;TZID=America/Los_Angeles:20231005T113000
DTEND;TZID=America/Los_Angeles:20231005T130000
DTSTAMP:20260419T100529
CREATED:20231002T214611Z
LAST-MODIFIED:20231004T135739Z
UID:10007312-1696505400-1696510800@thi.ucsc.edu
SUMMARY:PhD+ Series – Proactive Diversity\, Equity\, and Inclusion with Lorato Anderson
DESCRIPTION:Recommended Reading: Ely\, Robin J.\, and Thomas\, David A. “Getting Serious About Diversity: Enough Already with the Business Case.” Harvard Business Review\, November-December 2020 Magazine Issue. \nHow do you proactively promote diversity\, equity\, and inclusion in your role as a graduate student\, a researcher\, a teaching assistant\, a peer and undergraduate mentor? Learn active steps you can take in every role to promote a just and welcoming environment at UCSC in every space. \nLorato Anderson is the Director of Diversity\, Equity\, and Inclusion at UCSC\nLorato Anderson is the Director of Diversity\, Equity\, and Inclusion in Graduate Studies at UC Santa Cruz. Her role centers on advancing initiatives for minoritized graduate student support across multiple campus-wide projects\, as well as providing direct support to students\, staff\, faculty\, and programs. Lorato graduated with a B.A. in Literature/Writing from UC San Diego and received her M.S. in Higher Education Administration and Policy from Northwestern University\, where she researched and developed assessment models for English Language Learners and created multiple DEI programs that are still active today. She has extensive experience in grant writing\, teaching\, advising\, assessment\, and creating long-lasting research-backed programs to promote minoritized undergraduate and graduate student success. \nLorato has worked on campus since 2016 and received the 2020 Outstanding Staff Achievement Award in Social Sciences. Her previous roles include Graduate Program Advisor and Coordinator for Latin American and Latino Studies (LALS) and Politics\, as well as Undergraduate Advisor for Psychology. She takes pride in incorporating social justice\, as well as empathetic advising strategies and teaching pedagogies\, in her work in advising\, administration\, and grant and program development. \n \nThis workshop is presented by the Division of Graduate Studies and co-sponsored by The Humanities Institute as part of our 2023-2024 PhD+ series. The Division of Graduate Studies’ workshops are for current UC Santa Cruz graduate students and postdoctoral scholars and require an active UC Santa Cruz email address. \nAbout the PhD+ Workshop Series \nJoin us for the eighth year of PhD+ Workshops\, hosted (or co-sponsored) by The Humanities Institute. Our meetings provide the opportunity to discuss possible career paths for PhDs\, internship possibilities\, grant/fellowships\, work/life balance\, elements of style\, online identity issues\, and much\, much more.
URL:https://thi.ucsc.edu/event/phd-series-proactive-diversity-equity-and-inclusion-with-lorato-anderson/
LOCATION:Graduate Student Commons\, Room 204\, 420 Hagar Dr\, Santa Cruz\, 95064
CATEGORIES:PhD+ Event
END:VEVENT
END:VCALENDAR