BEGIN:VCALENDAR
VERSION:2.0
PRODID:-//The Humanities Institute - ECPv6.15.20//NONSGML v1.0//EN
CALSCALE:GREGORIAN
METHOD:PUBLISH
X-ORIGINAL-URL:https://thi.ucsc.edu
X-WR-CALDESC:Events for The Humanities Institute
REFRESH-INTERVAL;VALUE=DURATION:PT1H
X-Robots-Tag:noindex
X-PUBLISHED-TTL:PT1H
BEGIN:VTIMEZONE
TZID:America/Los_Angeles
BEGIN:DAYLIGHT
TZOFFSETFROM:-0800
TZOFFSETTO:-0700
TZNAME:PDT
DTSTART:20090308T100000
END:DAYLIGHT
BEGIN:STANDARD
TZOFFSETFROM:-0700
TZOFFSETTO:-0800
TZNAME:PST
DTSTART:20091101T090000
END:STANDARD
BEGIN:DAYLIGHT
TZOFFSETFROM:-0800
TZOFFSETTO:-0700
TZNAME:PDT
DTSTART:20100314T100000
END:DAYLIGHT
BEGIN:STANDARD
TZOFFSETFROM:-0700
TZOFFSETTO:-0800
TZNAME:PST
DTSTART:20101107T090000
END:STANDARD
BEGIN:DAYLIGHT
TZOFFSETFROM:-0800
TZOFFSETTO:-0700
TZNAME:PDT
DTSTART:20110313T100000
END:DAYLIGHT
BEGIN:STANDARD
TZOFFSETFROM:-0700
TZOFFSETTO:-0800
TZNAME:PST
DTSTART:20111106T090000
END:STANDARD
END:VTIMEZONE
BEGIN:VEVENT
DTSTART;TZID=America/Los_Angeles:20101201T120000
DTEND;TZID=America/Los_Angeles:20101201T140000
DTSTAMP:20260419T190757
CREATED:20101013T011825Z
LAST-MODIFIED:20101013T011825Z
UID:10004622-1291204800-1291212000@thi.ucsc.edu
SUMMARY:Anna Brickhouse: “The Writing of Unsettlement”
DESCRIPTION:This talk discusses the narrative of Hernando Fontaneda de Escalante\, a 16th century former captive and a Creole man born in Cartagena de Indias\, who lived for seventeen years among the Calusa Indians of Florida. His account is considered one of the most extensive repositories of information about the Calusa\, yet it has received little sustained attention from literary scholars. The presentation explores how his text engages juridically with Spanish conquest\, resulting in the emergence of a genre we might call a “narrative of unsettlement.” \nAnna Brickhouse is Professor of English at the University of Virginia. \nSponsored by the Center for Cultural Studies with staff support provided by the Institute for Humanities Research\, UCSC.
URL:https://thi.ucsc.edu/event/anna-brickhouse-the-writing-of-unsettlement-2/
LOCATION:Stevenson Fireside Lounge\, Humanites 1 University of California\, Santa Cruz Cowell College\, Santa Cruz\, CA\, 95064\, United States
END:VEVENT
BEGIN:VEVENT
DTSTART;TZID=America/Los_Angeles:20101202T140000
DTEND;TZID=America/Los_Angeles:20101202T150000
DTSTAMP:20260419T190757
CREATED:20101119T180456Z
LAST-MODIFIED:20101119T180456Z
UID:10004521-1291298400-1291302000@thi.ucsc.edu
SUMMARY:Ethan Michaeli: The Holocaust and 'The Defender:' Two Generations of Jewish Reporters at a Black Newspaper
DESCRIPTION:Ethan Michaeli will explore how The Chicago Defender\, the nation’s most important African American newspaper for much of the twentieth century\, covered the Holocaust.   During the 1940s\, the newspaper’s multi-racial roster of writers\, including a young Jewish editor named Ben Burns\, connected the struggle of African Americans for equal rights to Nazi persecution of Jews. Burns worked closely with poet Langston Hughes and others who placed the Holocaust in the top rank of their concerns. But Burns\, who had started his journalistic career at the Communist publication The Daily Worker\, did not address the Holocaust directly as a Jew.  Instead\, he subsumed his Jewish identity and re-cast himself as a “black newspaperman\, black in my orientation and thinking\, in my concerns and outlook\, in my friends and associations\, black in everything but my skin color.”  A half-century later\, from 1991-1996\, Ethan Michaeli worked as a copy editor and investigative reporter at The Defender\, during a period in which the newspaper was still one of three dailies in Chicago. For Michaeli\, the child of Holocaust survivors from Hungary\, working at The Defender provided a vantage point to re-evaluate American society\, as well as his own identity. \nBio:  Ethan Michaeli is the author of the forthcoming book\, The Defender: How Chicago’s Legendary Black Newspaper Changed America\, from the Age of the Pullman Porters to the Age of Obama (Houghton Mifflin Harcourt\, forthcoming).  In 1991\, Michaeli began working for The Chicago Defender\, the historic African American-owned daily newspaper\, where his investigative reporting on the homeless\, environmental racism\, and police brutality won him awards from the Chicago Association of Black Journalists and the Muhammad Ali Foundation. In 1996\, Ethan launched Residents’ Journal\, an independent news magazine written for and by tenants of Chicago’s low-income public housing developments. He and the staff of Residents’ Journal have won numerous honors\, including the 2006 Studs Terkel Award\, and his writing has appeared in The Nation\, The Chicago Tribune\, In These Times\, and The Forward.  Michaeli’s social justice work is inspired by his parents\, who survived the Auschwitz concentration camp and the Nazi occupation of their native Budapest before emigrating to Israel in 1949 and the United States in 1963.
URL:https://thi.ucsc.edu/event/ethan-michaeli-title-tba-2/
LOCATION:Humanities 1\, Room 620\, Humanites 1 University of California\, Santa Cruz Cowell College\, Santa Cruz\, CA\, 95064\, United States
END:VEVENT
BEGIN:VEVENT
DTSTART;TZID=America/Los_Angeles:20101202T170000
DTEND;TZID=America/Los_Angeles:20101202T180000
DTSTAMP:20260419T190757
CREATED:20101119T181028Z
LAST-MODIFIED:20101119T181028Z
UID:10004522-1291309200-1291312800@thi.ucsc.edu
SUMMARY:Elaine Sullivan: “The Temple of Amun-Ra at Karnak: 2000 Years of Rituals and Renovations”
DESCRIPTION:Dr. Sullivan is currently project coordinator for the Project for the Implementation o f an\nUndergraduate Humanities Curriculum in Digital Cultural Mapping at UCLA. She has\nexcavated at the Greco-Roman site of Karanis in the Egyptian Fayoum for the past two\nseasons as part of the UCLA project at the site. \nPoster availablehere. \nFor more information\, please contact hedrick@ucsc.edu
URL:https://thi.ucsc.edu/event/elaine-sullivan-the-temple-of-amun-ra-at-karnak-2000-years-of-rituals-and-renovations-2/
LOCATION:Stevenson Fireside Lounge\, Humanites 1 University of California\, Santa Cruz Cowell College\, Santa Cruz\, CA\, 95064\, United States
END:VEVENT
BEGIN:VEVENT
DTSTART;TZID=America/Los_Angeles:20101203T153000
DTEND;TZID=America/Los_Angeles:20101203T170000
DTSTAMP:20260419T190757
CREATED:20101013T012426Z
LAST-MODIFIED:20101013T012426Z
UID:10004623-1291390200-1291395600@thi.ucsc.edu
SUMMARY:Catherine Fortin: In Defense of LF Copying: Some Whys and Hows
DESCRIPTION:Abstract: It is well known that the distribution of wh-remnants in sluices\, unlike the distribution of wh-phrases in non-elliptical questions\, is largely immune to island effects\, as illustrated by the contrast below.\n(1) Irv and someone were dancing together\, but I don’t know who. (Ross 1969)\n(2) * Irv and someone were dancing together\, but I don’t know whoj [DP Irv and tj] were dancing together. \nWithin generative syntactic frameworks\, the generation of sluicing uncontroversially involves some type of ellipsis\, but the exact nature of the ellipsis remains an open question. The two primary approaches to sluicing\, ‘PF Deletion’ (Ross 1969\, Merchant 2001\, inter alia) and ‘LF Copying’ (Chung\, Ladusaw\, and McCloskey 1995 (CLM)\, Lobeck 1995\, inter alia)\, differ fundamentally in their account of the above contrast. Under PF Deletion\, sluices are derived identically to non-elliptical questions\, via wh-movement\, and islandhood is a property of PF representations only. Under LF Copying\, in contrast\, wh-remnants are base-generated clause-peripherally. \nIn this talk\, I have three goals. First\, I seek to provide fresh motivation\, assuming a standard Minimalist framework (Chomsky 1995\, 2008)\, for LF Copying. Second\, I propose the outline of a Minimalist-minded LF Copying approach. Finally\, I argue that this approach uniquely accounts for the empirical problem posed by languages which subvert the Preposition Stranding Generalization (Merchant 2001)\, which predicts that only languages which allow preposition stranding in non-elliptical questions will allow prepositions to be deleted under sluicing. \nPresented by the Linguistics Research Center\, UCSC. For more information\, please contact Debbie Belville at irc@ling.ucsc.edu.
URL:https://thi.ucsc.edu/event/syntax-visitor-series-catherine-fortin-2/
LOCATION:Stevenson Fireside Lounge\, Humanites 1 University of California\, Santa Cruz Cowell College\, Santa Cruz\, CA\, 95064\, United States
END:VEVENT
END:VCALENDAR