BEGIN:VCALENDAR
VERSION:2.0
PRODID:-//The Humanities Institute - ECPv6.15.20//NONSGML v1.0//EN
CALSCALE:GREGORIAN
METHOD:PUBLISH
X-WR-CALNAME:The Humanities Institute
X-ORIGINAL-URL:https://thi.ucsc.edu
X-WR-CALDESC:Events for The Humanities Institute
REFRESH-INTERVAL;VALUE=DURATION:PT1H
X-Robots-Tag:noindex
X-PUBLISHED-TTL:PT1H
BEGIN:VTIMEZONE
TZID:America/Los_Angeles
BEGIN:DAYLIGHT
TZOFFSETFROM:-0800
TZOFFSETTO:-0700
TZNAME:PDT
DTSTART:20130310T100000
END:DAYLIGHT
BEGIN:STANDARD
TZOFFSETFROM:-0700
TZOFFSETTO:-0800
TZNAME:PST
DTSTART:20131103T090000
END:STANDARD
BEGIN:DAYLIGHT
TZOFFSETFROM:-0800
TZOFFSETTO:-0700
TZNAME:PDT
DTSTART:20140309T100000
END:DAYLIGHT
BEGIN:STANDARD
TZOFFSETFROM:-0700
TZOFFSETTO:-0800
TZNAME:PST
DTSTART:20141102T090000
END:STANDARD
BEGIN:DAYLIGHT
TZOFFSETFROM:-0800
TZOFFSETTO:-0700
TZNAME:PDT
DTSTART:20150308T100000
END:DAYLIGHT
BEGIN:STANDARD
TZOFFSETFROM:-0700
TZOFFSETTO:-0800
TZNAME:PST
DTSTART:20151101T090000
END:STANDARD
END:VTIMEZONE
BEGIN:VEVENT
DTSTART;VALUE=DATE:20140919
DTEND;VALUE=DATE:20140921
DTSTAMP:20260419T205357
CREATED:20140711T180710Z
LAST-MODIFIED:20140711T180710Z
UID:10005741-1411084800-1411257599@thi.ucsc.edu
SUMMARY:Integrative Graduate Humanities Education and Research Training (IGHERT) Workshop
DESCRIPTION:UC Santa Cruz’s Institute for Humanities Research is one of four CHCI member centers and institutes that will lead the research through 2017 on one of the pilot projects\, Integrative Graduate Humanities Research Education and Training (IGHERT).  The project brings together faculty\, doctoral students\, and post-doctoral scholars in a series of structured collaborations to undertake jointly mentored\, international research. The four partners are the Institute for Humanities Research\, University of California\, Santa Cruz; Center for 21st Century Studies\, The University of Wisconsin-Milwaukee; International Graduate Centre for the Study of Culture\, Justus Liebig University in Giessen; and Humanities Research Centre\, Australian National University\, Canberra. Focusing on the interdisciplinary theme of indigeneity\, together they will engage graduate students in a series of collaborative training and research activities and will test\, refine\, and assess a scalable model of skill training and digital archiving that can be applied in multiple contexts and to multiple themes. \nIGHERT further aims to attune the participants to the larger public contexts in which expert knowledge in the humanities is meaningful and to equip them with the written and oral skills necessary to communicate with these public constituencies more effectively. Students from Ph.D. programs in UC Santa Cruz’s Division of Humanities will be selected to participate in a series of themed meetings and workshops in Santa Cruz\, Milwaukee\, Canberra\, and Giessen\, as well as to receive on-going mentoring from both local and partner faculty participants over the period of the project.  In collaboration with the Division of Graduate Studies\, the IGHERT pilot will provide fellowship and project travel support for our student participants. \nClick here for more info \n  \nEVENT PHOTOS: \nIf you have trouble viewing above images\, you may view this album directly on Flickr.
URL:https://thi.ucsc.edu/event/integrative-graduate-humanities-education-and-research-training-ighert-workshop-2/
LOCATION:Stevenson Fireside Lounge\, Humanites 1 University of California\, Santa Cruz Cowell College\, Santa Cruz\, CA\, 95064\, United States
END:VEVENT
END:VCALENDAR