BEGIN:VCALENDAR
VERSION:2.0
PRODID:-//The Humanities Institute - ECPv6.15.20//NONSGML v1.0//EN
CALSCALE:GREGORIAN
METHOD:PUBLISH
X-ORIGINAL-URL:https://thi.ucsc.edu
X-WR-CALDESC:Events for The Humanities Institute
REFRESH-INTERVAL;VALUE=DURATION:PT1H
X-Robots-Tag:noindex
X-PUBLISHED-TTL:PT1H
BEGIN:VTIMEZONE
TZID:America/Los_Angeles
BEGIN:DAYLIGHT
TZOFFSETFROM:-0800
TZOFFSETTO:-0700
TZNAME:PDT
DTSTART:20150308T100000
END:DAYLIGHT
BEGIN:STANDARD
TZOFFSETFROM:-0700
TZOFFSETTO:-0800
TZNAME:PST
DTSTART:20151101T090000
END:STANDARD
BEGIN:DAYLIGHT
TZOFFSETFROM:-0800
TZOFFSETTO:-0700
TZNAME:PDT
DTSTART:20160313T100000
END:DAYLIGHT
BEGIN:STANDARD
TZOFFSETFROM:-0700
TZOFFSETTO:-0800
TZNAME:PST
DTSTART:20161106T090000
END:STANDARD
BEGIN:DAYLIGHT
TZOFFSETFROM:-0800
TZOFFSETTO:-0700
TZNAME:PDT
DTSTART:20170312T100000
END:DAYLIGHT
BEGIN:STANDARD
TZOFFSETFROM:-0700
TZOFFSETTO:-0800
TZNAME:PST
DTSTART:20171105T090000
END:STANDARD
END:VTIMEZONE
BEGIN:VEVENT
DTSTART;TZID=America/Los_Angeles:20160914T090000
DTEND;TZID=America/Los_Angeles:20160914T170000
DTSTAMP:20260419T173238
CREATED:20160628T174711Z
LAST-MODIFIED:20160628T174711Z
UID:10005254-1473843600-1473872400@thi.ucsc.edu
SUMMARY:Digital Exhibit Building Symposium
DESCRIPTION:The Digital Exhibit Building Symposium will consider the value of curating digital exhibits\, communicating with online audiences\, and implementing new digital assignments in the classroom. We will also offer hands on workshops that can help you get started. By reorienting the conversation around digital exhibit building away from specific platforms\, we will explore the process of building research projects online from inspiration and incubation to sustainability and preservation. \nThis event is targeted at researchers\, librarians\, archivists\, instructors\, IT professionals and Digital Humanists from across the UC system and beyond. The event is open to all interested and will be especially of interest to those working in Omeka or Scalar as well as those frustrated by platform limitations who want to think beyond the tools of digital curation. \nMore information and registration: digitalscholarship.ucsc.edu
URL:https://thi.ucsc.edu/event/building-digital-exhibits-symposium-3/
LOCATION:McHenry Library\, Digital Commons
ATTACH;FMTTYPE=image/png:https://thi.ucsc.edu/wp-content/uploads/2016/06/Digital-Exhibit-Symposium-Flyer-Sept-14.png
END:VEVENT
BEGIN:VEVENT
DTSTART;TZID=America/Los_Angeles:20160928T160000
DTEND;TZID=America/Los_Angeles:20160928T210000
DTSTAMP:20260419T173238
CREATED:20160914T161748Z
LAST-MODIFIED:20160914T161748Z
UID:10005267-1475078400-1475096400@thi.ucsc.edu
SUMMARY:Silicon Valley Campus Grand Opening
DESCRIPTION:Please join us for the opening celebration of the UC Santa Cruz Silicon Valley Campus\, a multidisciplinary teaching and research hub. \nThe evening will include an open house\, ribbon-cutting\, reception\, and TED-style talks. We welcome you to choose one or all. \nWednesday\, September 28\, 4-9 p.m.\n4-7 p.m. Silicon Valley Campus open house\n6-6:15 p.m. Ribbon cutting 2.0\n6:15-7 p.m. Small bites reception\n7-9 p.m. Evening program with research talks \nUC Santa Cruz Silicon Valley Campus\, 3175 Bowers Ave\, Santa Clara \n \nRegister by September 21 \nQuestions? Contact specialevents@ucsc.edu or (831) 459-5003
URL:https://thi.ucsc.edu/event/silicon-valley-campus-grand-opening-3/
LOCATION:UC Santa Cruz Silicon Valley
ATTACH;FMTTYPE=image/jpeg:https://thi.ucsc.edu/wp-content/uploads/2016/09/banner.jpg
END:VEVENT
BEGIN:VEVENT
DTSTART;TZID=America/Los_Angeles:20160929T172000
DTEND;TZID=America/Los_Angeles:20160929T190000
DTSTAMP:20260419T173238
CREATED:20160913T193447Z
LAST-MODIFIED:20160913T193447Z
UID:10006402-1475169600-1475175600@thi.ucsc.edu
SUMMARY:Living Writers: Chanan Tigay
DESCRIPTION:Author of the forthcoming Unholy Scriptures: Fraud\, Suicide\, Scandal—and the Bible that Rocked the Holy City (Ecco/HarperCollins)\, and two long works of nonfiction\, The Special Populations Unit: Arab Soldiers in Israel’s Army (McSweeney’s) and Nuclear Meltdown\, released on the one-year anniversary of the Fukushima nuclear disaster in Japan (Rodale Press). Tigay was awarded the UC Berkeley Graduate School of Journalism’s 2011-2012 Investigative Reporting Fellowship\, where he worked on a documentary film about Israel’s opposition to the Iranian nuclear program for PBS “Frontline.” His journalism has appeared in publications including Newsweek\, the Wall Street Journal\, New York magazine\, the San Francisco Chronicle and The Jerusalem Post. Tigay has taught courses in Stanford University’s Continuing Studies Program on novel writing\, the “writing life\,” creative non-fiction\, magazine and feature writing; and was a writing instructor at Stanford’s Graduate School of Business. He has received residency fellowships at Yaddo\, the Blue Mountain Center and the Mesa Refuge. He holds an MFA in creative writing from Columbia University and a BA in Political Science from the University of Pennsylvania. Born in Jerusalem and raised in Philadelphia\, Tigay is an assistant professor at San Francisco State. \nLiving Writers is a series of events that are free to students and the public\, and happens every Thursday night from 6-7:45pm in the Humanities Lecture Hall\, room 206. This series will be focusing on fiction writers as well as filmmakers. It’s going to be an exciting series and we hope to see you there!  For more details\, please email us at cwintern@gmail.com \nLiving Writers Fall 2016 \n10/6 poet Jennifer Chang\, author most recently of the book Some Say The Lark \n10/13 experimental memoirist Michelle Tea\, author most recently of the apocalyptic memoir Black Wave \n10/20 novelist Alfredo Vea\, author most recently of The Mexican Flyboy\, about a Latino super hero who goes back in time to save historical heroes from painful deaths \n10/27 poet and Pulitzer prize finalist Elizabeth Willis \n11/10 fiction and non-fiction writer Peter Orner\, author most recently of Am I Alone Here\, a memoir-essay hybrid about living to read/reading to live \nReadings sponsored by The Humanities Division\, The Porter Hitchcock Poetry Fund\, The Literature Department and Poets and Writers Inc.
URL:https://thi.ucsc.edu/event/living-writers-chanan-tigay-3/
LOCATION:Humanities Lecture Hall\, Room 206\, UCSC Humanities Lecture Hall\, 1156 High Street\, Santa Cruz\, CA\, 95064\, United States
ATTACH;FMTTYPE=image/jpeg:https://thi.ucsc.edu/wp-content/uploads/2016/09/tigay-thumb.jpg
END:VEVENT
BEGIN:VEVENT
DTSTART;TZID=America/Los_Angeles:20160930T110000
DTEND;TZID=America/Los_Angeles:20160930T123000
DTSTAMP:20260419T173238
CREATED:20160908T231652Z
LAST-MODIFIED:20201204T193015Z
UID:10006387-1475233200-1475238600@thi.ucsc.edu
SUMMARY:PhD+: Arts and Humanities Grants & Fellowships Workshop for Graduate Students
DESCRIPTION:Join us for a conversation about funding opportunities\, nuts and bolts of grant proposal writing\, and campus resources available to you in the Arts and Humanities Divisions. \nIn this workshop we will focus on Fall deadlines and introduce a new research development service for graduate students in the two divisions: one-on-one consultations! \nFriday\, September 30\, 2016\n11-12:30pm\nHumanities 1 Bldg\, Room 210 \nPresenters:\nDorian Bell\, Associate Professor of Literature\, UC Santa Cruz\nSandra Harvey\, Graduate Research Development Fellow\nStephanie Moore\, Research Grants Coordinator\, Arts Division\nIrena Polic\, Managing Director\, Institute for Humanities Research\nSamuael Topiary\, Graduate Research Development Fellow \nLunch with be provided. Please register below by Friday\, September 23rd and let us know in advance if you have any questions you’d like to see addressed. \nCheck out the IHR website for other workshops in our monthly PhD+ Series! \nEVENT PHOTOS:\nIf you have trouble viewing above images\, you may view this album directly on Flickr.  \nLoading…
URL:https://thi.ucsc.edu/event/phd-arts-and-humanities-grants-fellowships-workshop-for-graduate-students-3/
LOCATION:Stevenson Fireside Lounge\, Humanites 1 University of California\, Santa Cruz Cowell College\, Santa Cruz\, CA\, 95064\, United States
CATEGORIES:PhD+ Event
END:VEVENT
END:VCALENDAR