BEGIN:VCALENDAR
VERSION:2.0
PRODID:-//The Humanities Institute - ECPv6.15.20//NONSGML v1.0//EN
CALSCALE:GREGORIAN
METHOD:PUBLISH
X-WR-CALNAME:The Humanities Institute
X-ORIGINAL-URL:https://thi.ucsc.edu
X-WR-CALDESC:Events for The Humanities Institute
REFRESH-INTERVAL;VALUE=DURATION:PT1H
X-Robots-Tag:noindex
X-PUBLISHED-TTL:PT1H
BEGIN:VTIMEZONE
TZID:America/Los_Angeles
BEGIN:DAYLIGHT
TZOFFSETFROM:-0800
TZOFFSETTO:-0700
TZNAME:PDT
DTSTART:20180311T100000
END:DAYLIGHT
BEGIN:STANDARD
TZOFFSETFROM:-0700
TZOFFSETTO:-0800
TZNAME:PST
DTSTART:20181104T090000
END:STANDARD
BEGIN:DAYLIGHT
TZOFFSETFROM:-0800
TZOFFSETTO:-0700
TZNAME:PDT
DTSTART:20190310T100000
END:DAYLIGHT
BEGIN:STANDARD
TZOFFSETFROM:-0700
TZOFFSETTO:-0800
TZNAME:PST
DTSTART:20191103T090000
END:STANDARD
BEGIN:DAYLIGHT
TZOFFSETFROM:-0800
TZOFFSETTO:-0700
TZNAME:PDT
DTSTART:20200308T100000
END:DAYLIGHT
BEGIN:STANDARD
TZOFFSETFROM:-0700
TZOFFSETTO:-0800
TZNAME:PST
DTSTART:20201101T090000
END:STANDARD
END:VTIMEZONE
BEGIN:VEVENT
DTSTART;TZID=America/Los_Angeles:20190808T190000
DTEND;TZID=America/Los_Angeles:20190808T210000
DTSTAMP:20260420T000529
CREATED:20190604T202608Z
LAST-MODIFIED:20190721T215921Z
UID:10006751-1565290800-1565298000@thi.ucsc.edu
SUMMARY:Cabrillo Festival of Contemporary Music - Community Night
DESCRIPTION:Community Night is back by popular demand! Last season Cabrillo Festival and Music Director Cristi Măcelaru opened their doors in a whole new way and attracted capacity crowds and wild enthusiasm! This year Cristi and members of the Festival Orchestra have designed another captivating concert of new or recent chamber works showcasing these extraordinary musicians as soloists and in small ensembles. This is an invitation for long time Festival-goers and first-timers alike to get a more intimate perspective on the talented artists who come from across the globe to be a part of this phenomenal orchestra. Bring your neighbors! Bring your friends! All seating is general admission. Tickets are required\, but pricing is on a pay-what-you-can basis to ensure access for all. It’s going to be another high-spirited evening of live music—complete with special surprises. \nTHI is pleased to partner with the Cabrillo Festival to offer a limited number of free tickets to Community Night. Use the code: 2019THI (maximum six per order). \nMEETUP! Stay after the show to sip wine and chat with these remarkable performers! \nCo-sponsored by: The Humanities Institute\, Santa Cruz County Bank\, Eric Hanson CFP
URL:https://thi.ucsc.edu/event/cabrillo-festival-community-night/
LOCATION:Santa Cruz Civic Auditorium
ATTACH;FMTTYPE=image/jpeg:https://thi.ucsc.edu/wp-content/uploads/2019/06/CFCM_2019_Concert_Pages_Banners_CommunityNight_R1.jpg
END:VEVENT
BEGIN:VEVENT
DTSTART;VALUE=DATE:20190817
DTEND;VALUE=DATE:20190819
DTSTAMP:20260420T000529
CREATED:20190325T171652Z
LAST-MODIFIED:20190903T222206Z
UID:10005593-1566000000-1566172799@thi.ucsc.edu
SUMMARY:Weekend with Shakespeare
DESCRIPTION:Event Photos by Crystal Birns: \nIf you have trouble viewing above images\, you may view this album directly on Flickr. \n  \nJoin Shakespeare scholars and artists for two days of lectures\, discussions\, and demonstrations about the 2019 Season’s main stage productions\, Winter’s Tale and Comedy of Errors. \nWeekend with Shakespeare Lecture Series: This year\, the Weekend With Shakespeare Lecture Series is free! However\, we suggest interested participants RSVP through The Santa Cruz Shakespeare website. \n \nWeekend with Shakespeare is sponsored in partnership with Santa Cruz Shakespeare. \nLecture Series on Shakespeare’s The Winter’s Tale: Saturday\, August 17 \n12-12:15PM Intro by Dr. Sean Keilen\, Provost\, Porter College\, UC Santa Cruz.\n12:15-1:15PM Q&A with actors from The Winter’s Tale\, moderated by Artistic Director Mike Ryan.\n1:15-1:30PM Break.\n1:30-2:30PM In conversation with Ariane Helou\, dramaturg of The Winter’s Tale.\n2:30-3PM Break with refreshments.\n3-4PM Conversation with Professor Sandra Logan and SCS actor Tommy Gomez. \nFor those who have purchased a ticket to see the evening performance of The Winter’s Tale:\n7-7:15PM Pre-performance discussion of ‘5 Things to Look Out For’ with Ariane Helou.\n8PM Performance of The Winter’s Tale at The Grove. \nLecture Series on Shakespeare’s The Comedy of Errors: Sunday\, August 18 \n12-12:15PM Intro by Dr. Sean Keilen\, Provost\, Porter College\, UC Santa Cruz.\n12:15-1:15PM In conversation with Professor Gina Bloom.\n1:15-1:30PM Break.\n1:30-2:30PM In conversation with Ashley Herum\, dramaturg of The Comedy of Errors\, and Dr. Michael Warren\, Head of Dramaturgy at Santa Cruz Shakespeare.\n2:30-3PM Break with refreshments.\n3-4PM Presentation with Mike Ryan and The Comedy of Errors director Kirsten Brandt on “The opportunities and challenges using one actor to represent twins.” \nFor those who have purchased a ticket to see the evening performance of The Comedy of Errors:\n6-6:15PM Pre-performance discussion of ‘5 Things to Look Out For’ with Professor Gina Bloom.\n7PM Performance of The Comedy of Errors at The Grove. \nFeaturing guest speakers Gina Bloom (UC Davis) and Ariane Helou (UCLA). \nGina Bloom is Professor of English at the University of California\, Davis. Her research and teaching focus on Shakespeare\, gender\, theater history and performance\, digital arts/humanities\, and education. In addition to numerous articles\, she has published two books. Voice in Motion: Staging Gender\, Shaping Sound in Early Modern England (University of Pennsylvania Press\, 2007) won the award for best book of the year from The Society for the Study of Early Modern Women. Gaming the Stage: Playable Media and the Rise of English Commercial Theater (University of Michigan Press\, 2018) was named Runner Up for Outstanding Book Award from the Association for Theatre in Higher Education (ATHE) and is available open access. With colleagues in the ModLab at UC Davis\, Bloom created the mixed reality Shakespeare game Play the Knave\, which has been exhibited in theaters\, cultural institutions\, libraries and classrooms around the world. Bloom serves on the Executive Committeefor the Shakespeare Forum of the Modern Language Association and has just completed a term as a Trustee for the Shakespeare Association if America. \n  \nAriane Helou teaches in the Department of French & Francophone Studies at UCLA. Her research focuses on drama\, music\, and poetry in early modern Italy\, England\, and France. She has held fellowships from the Mellon Foundation and the American Council of Learned Societies; the Huntington Library; UCLA’s William Andrews Clark Memorial Library and Center for 17th- and 18th-Century Studies\, among others. Ariane is the co-editor (with Julia R. Lupton) of Romeo and Juliet in Diaspora: Shakespeare Among the Arts and in Translation\, forthcoming from The Arden Shakespeare. In addition to publishing scholarship on Shakespeare studies and early modern Italian drama\, Ariane is also a translator; a dramaturg; and a performing artist whose background spans early music\, theater\, and opera. Ariane has been a company member of the Santa Cruz Shakespeare festival since 2012 and is a dramaturg and producing partner of the Los Angeles-based theater company Collaborative Artists Bloc.
URL:https://thi.ucsc.edu/event/weekend-with-shakespeare-3/
LOCATION:Humanities 1\, Room 210\, 1156 high st\, Santa cruz\, CA\, 95060\, United States
END:VEVENT
BEGIN:VEVENT
DTSTART;TZID=America/Los_Angeles:20190823T190000
DTEND;TZID=America/Los_Angeles:20190823T190000
DTSTAMP:20260420T000529
CREATED:20190529T174954Z
LAST-MODIFIED:20190617T202438Z
UID:10006749-1566586800-1566586800@thi.ucsc.edu
SUMMARY:Téa Obreht - Inland: A Novel
DESCRIPTION:Bookshop Santa Cruz is delighted to welcome Téa Obreht\, National Book Award finalist and bestselling author of The Tiger’s Wife\, back to the store for a reading and signing of her new novel\, INLAND—an epic journey across an unforgettable landscape\, a stunning tale of perseverance and family\, and a love letter to the complicated and glorious American West. This event is co-sponsored by The Humanities Institute at UC Santa Cruz. \nIn the lawless\, drought-ridden lands of the Arizona Territory in 1893\, two extraordinary lives collide. Nora is an unflinching frontierswoman awaiting the return of the men in her life—her husband\, a newspaperman who has gone in search of water for the parched household\, and her elder sons\, who have vanished after an explosive argument. Nora is biding her time (and enduring her thirst) with her youngest son\, who is convinced that a mysterious beast is stalking the land around their home\, and her husband’s seventeen-year-old cousin\, who communes with spirits. \nLurie is an immigrant—a man born under Ottoman rule who comes to America as a child—and a former outlaw who is haunted by ghosts. He sees lost souls who want something from him\, and he finds reprieve from their longing in an unexpected companion who inspires a momentous expedition across the West. The way in which Nora’s and Lurie’s stories intertwine is the surprise and suspense of this brilliant novel. \nTéa Obreht is the author of The Tiger’s Wife\, a finalist for the National Book Award and winner of the 2011 Orange Prize for Fiction. An international bestseller\, it has sold over a million copies worldwide\, with rights sold in 37 countries. Obreht was a National Book Foundation 5 Under 35 honoree and was named by The New Yorker as one of the twenty best American fiction writers under forty. She was the 2013 Rona Jaffe Foundation fellow at the Cullman Center for Scholars and Writers and was a recipient of the 2016 National Endowment for the Arts fellowship. She was born in Belgrade\, in the former Yugoslavia\, in 1985 and has lived in the United States since the age of twelve. She currently lives in New York City and teaches at Hunter College. \nThis free event will take place at Bookshop Santa Cruz. Chairs for open seating are usually set up about an hour before the event begins. If you have any ADA accommodation requests\, please e-mail info@bookshopsantacruz.com by August 21st.
URL:https://thi.ucsc.edu/event/tea-obreht-inland-a-novel/
LOCATION:Bookshop Santa Cruz\, 1520 Pacific Avenue\, Santa Cruz\, CA\, 95060\, United States
ATTACH;FMTTYPE=image/jpeg:https://thi.ucsc.edu/wp-content/uploads/2019/05/Tea-Obreht-750-copy.jpg
END:VEVENT
END:VCALENDAR