BEGIN:VCALENDAR
VERSION:2.0
PRODID:-//The Humanities Institute - ECPv6.15.20//NONSGML v1.0//EN
CALSCALE:GREGORIAN
METHOD:PUBLISH
X-WR-CALNAME:The Humanities Institute
X-ORIGINAL-URL:https://thi.ucsc.edu
X-WR-CALDESC:Events for The Humanities Institute
REFRESH-INTERVAL;VALUE=DURATION:PT1H
X-Robots-Tag:noindex
X-PUBLISHED-TTL:PT1H
BEGIN:VTIMEZONE
TZID:America/Los_Angeles
BEGIN:DAYLIGHT
TZOFFSETFROM:-0800
TZOFFSETTO:-0700
TZNAME:PDT
DTSTART:20150308T100000
END:DAYLIGHT
BEGIN:STANDARD
TZOFFSETFROM:-0700
TZOFFSETTO:-0800
TZNAME:PST
DTSTART:20151101T090000
END:STANDARD
BEGIN:DAYLIGHT
TZOFFSETFROM:-0800
TZOFFSETTO:-0700
TZNAME:PDT
DTSTART:20160313T100000
END:DAYLIGHT
BEGIN:STANDARD
TZOFFSETFROM:-0700
TZOFFSETTO:-0800
TZNAME:PST
DTSTART:20161106T090000
END:STANDARD
BEGIN:DAYLIGHT
TZOFFSETFROM:-0800
TZOFFSETTO:-0700
TZNAME:PDT
DTSTART:20170312T100000
END:DAYLIGHT
BEGIN:STANDARD
TZOFFSETFROM:-0700
TZOFFSETTO:-0800
TZNAME:PST
DTSTART:20171105T090000
END:STANDARD
END:VTIMEZONE
BEGIN:VEVENT
DTSTART;TZID=America/Los_Angeles:20161101T173000
DTEND;TZID=America/Los_Angeles:20161101T190000
DTSTAMP:20260425T202935
CREATED:20161027T182733Z
LAST-MODIFIED:20161027T182733Z
UID:10005291-1478021400-1478026800@thi.ucsc.edu
SUMMARY:Ronaldo V. Wilson: "Farther Traveler: Poetry\, Prose\, Other"
DESCRIPTION:Ronaldo V. Wilson is the author of Narrative of the Life of the Brown Boy and the White Man (2008)\, Poems of the Black Object (2009)\, and Lucy 72 (2015). He is co-founder of the Black Took Collective\, and is currently Associate Professor of Poetry\, Fiction\, and Literature at UC Santa Cruz. \nFarther Traveler is an expansive\, complex hybrid of poetry\, prose\, and memoir. Wilson writes of loss\, desire\, abjection and radical possibility\, traversing and transgressing boundaries of genre to produce a searing meditation on race\, sexuality\, and contemporary culture.
URL:https://thi.ucsc.edu/event/ronaldo-v-wilson-reading-from-farther-traveler-poetry-prose-other-2/
LOCATION:Humanities 2\, Room 259
ATTACH;FMTTYPE=image/jpeg:https://thi.ucsc.edu/wp-content/uploads/2016/10/WILSON-poster.jpg
END:VEVENT
BEGIN:VEVENT
DTSTART;TZID=America/Los_Angeles:20161102T120000
DTEND;TZID=America/Los_Angeles:20161102T133000
DTSTAMP:20260425T202936
CREATED:20160913T191558Z
LAST-MODIFIED:20160913T191558Z
UID:10006399-1478088000-1478093400@thi.ucsc.edu
SUMMARY:Anna Tsing & Isabelle Carbonell: “‘Golden Snail Opera’: The More-than-human Performance of Friendly Farming on Taiwan’s Lanyang Plain”
DESCRIPTION:Written by Anna Tsing\, Isabelle Carbonell\, Joelle Chevrier and Yen-ling Tsai (Associate Professor of Anthropology at National Chaio Tung University Taiwan)\, Golden Snail Opera combines video and performance-oriented text into a genre-bending o-pei-la. This piece is a multispecies enactment of experimental natural history considering the “golden treasure snail\,” imported to Taiwan in 1979\, which is now major pest of rice agriculture. Whereas farmers in the Green Revolution’s legacy use poison to exterminate snails\, a new generation of “friendly farmers” attempts to insert farming as one among many multispecies life ways within the paddy. \nAnna Tsing is Professor of Anthropology at UC Santa Cruz and Co-Director of Aarhus University Research on the Anthropocene (AURA). \nIsabelle Carbonell is a PhD student in Film and Digital Media at UC Santa Cruz and a documentary filmmaker. \nThe Center for Cultural Studies will continue to host a Wednesday colloquium series\, which features current cultural studies work by campus faculty and visitors. The sessions are informal\, normally consisting of a 30-40 minute presentation followed by discussion. We gather at noon\, with presentations beginning at 12:15. Participants are encouraged to bring their own lunches; the Center will provide coffee\, tea\, and cookies. \nFall 2016 Colloquium Dates \nNovember 2 Anna Tsing / Isbelle Carbonell \nNovember 9 Joan Wallach Scott \nNovember 16 Robin Hunicke
URL:https://thi.ucsc.edu/event/anna-tsing-isbelle-carbonell-3/
LOCATION:Stevenson Fireside Lounge\, Humanites 1 University of California\, Santa Cruz Cowell College\, Santa Cruz\, CA\, 95064\, United States
ATTACH;FMTTYPE=image/jpeg:https://thi.ucsc.edu/wp-content/uploads/2016/09/AnnaTsingBio-300x300.jpg
END:VEVENT
BEGIN:VEVENT
DTSTART;TZID=America/Los_Angeles:20161109T121500
DTEND;TZID=America/Los_Angeles:20161109T133000
DTSTAMP:20260425T202936
CREATED:20160913T191704Z
LAST-MODIFIED:20160913T191704Z
UID:10006400-1478693700-1478698200@thi.ucsc.edu
SUMMARY:Joan Wallach Scott: “Sex and Secularism”
DESCRIPTION:Joan Wallach Scott’s recent books\, including The Fantasy of Feminist History (2011)\, focus on the relationship of the particularity of gender to the universalizing force of democratic politics. Her recent work tracks the mutually constitutive operations of gender and politics by examining the discourses of secularism from their nineteenth century anti-clerical origins to their current deployment in anti-Muslim campaigns. \nScott is Professor Emerita of the School of Social Science at the Institute for Advanced Study\, Princeton University. \nCo-Sponsored by the Center for Emerging Worlds \nThe Center for Cultural Studies will continue to host a Wednesday colloquium series\, which features current cultural studies work by campus faculty and visitors. The sessions are informal\, normally consisting of a 30-40 minute presentation followed by discussion. We gather at noon\, with presentations beginning at 12:15. Participants are encouraged to bring their own lunches; the Center will provide coffee\, tea\, and cookies. \nFall 2016 Colloquium Dates \nNovember 16 Robin Hunicke
URL:https://thi.ucsc.edu/event/joan-wallach-scott-3/
LOCATION:Stevenson Fireside Lounge\, Humanites 1 University of California\, Santa Cruz Cowell College\, Santa Cruz\, CA\, 95064\, United States
ATTACH;FMTTYPE=image/jpeg:https://thi.ucsc.edu/wp-content/uploads/2016/09/1249-joan-wallach-scott.jpg
END:VEVENT
BEGIN:VEVENT
DTSTART;TZID=America/Los_Angeles:20161116T121500
DTEND;TZID=America/Los_Angeles:20161116T133000
DTSTAMP:20260425T202936
CREATED:20160913T191815Z
LAST-MODIFIED:20160913T191815Z
UID:10006401-1479298500-1479303000@thi.ucsc.edu
SUMMARY:Robin Hunicke: “The Art of Feel Engineering: Design\, Art\, Games & Playable Media at UCSC”
DESCRIPTION:Robin Hunicke’s practice focuses on creating boundary-expanding\, experimental game experiences by combining unique concepts and technologies. She works to create games that deliver unexpected emotional outcomes to players. This includes games that are peaceful and introspective\, creative and healing as well as experiences that encourage intergenerational and international communication and play. \nHunicke is Associate Professor of Digital Arts & New Media at UC Santa Cruz. \n  \nThe Center for Cultural Studies will continue to host a Wednesday colloquium series\, which features current cultural studies work by campus faculty and visitors. The sessions are informal\, normally consisting of a 30-40 minute presentation followed by discussion. We gather at noon\, with presentations beginning at 12:15. Participants are encouraged to bring their own lunches; the Center will provide coffee\, tea\, and cookies. \n 
URL:https://thi.ucsc.edu/event/robin-hunicke-3/
LOCATION:Stevenson Fireside Lounge\, Humanites 1 University of California\, Santa Cruz Cowell College\, Santa Cruz\, CA\, 95064\, United States
ATTACH;FMTTYPE=image/jpeg:https://thi.ucsc.edu/wp-content/uploads/2016/09/Robinhunicke-300x300.jpg
END:VEVENT
BEGIN:VEVENT
DTSTART;TZID=America/Los_Angeles:20161129T114000
DTEND;TZID=America/Los_Angeles:20161129T131500
DTSTAMP:20260425T202936
CREATED:20161027T190303Z
LAST-MODIFIED:20161027T190303Z
UID:10005293-1480419600-1480425300@thi.ucsc.edu
SUMMARY:The Devil's Wheels: Men and Motorcycling in the Weimar Republic
DESCRIPTION:“The Devil’s Wheels Men and Motorcycling in the Weimar Republic” by Sasha Disko \nDuring the high days of modernization fever\, among the many disorienting changes Germans experienced in the Weimar Republic was an unprecedented mingling of consumption and identity: increasingly\, what one bought signaled who one was. Exemplary of this volatile dynamic was the era’s burgeoning motorcycle culture. With automobiles largely a luxury of the upper classes\, motorcycles complexly symbolized masculinity and freedom\, embodying a widespread desire to embrace progress as well as profound anxieties over the course of social transformation. Through its richly textured account of the motorcycle as both icon and commodity\, The Devil’s Wheels teases out the intricacies of gender and class in the Weimar years. \n\nSasha Disko is a historian and independent scholar. She is an alumnus of UCSC (BA in History and German Studies\, 1997) and received her PhD in History from New York University. She has been living and working in Germany since 2008. Her research interests include the history of motorization\, industrialization\, business administration\, and leisure. She currently lives in Hamburg\, Germany.
URL:https://thi.ucsc.edu/event/the-devils-wheels-men-and-motorcycling-in-the-weimar-republic-2/
LOCATION:Rachel Carson College\, Room 301\, Rachel Carson College 1156 High Stree\, Santa Cruz\, CA\, 95064\, United States
ATTACH;FMTTYPE=image/jpeg:https://thi.ucsc.edu/wp-content/uploads/2016/10/disko-november29-flyer.jpg
END:VEVENT
END:VCALENDAR