BEGIN:VCALENDAR
VERSION:2.0
PRODID:-//The Humanities Institute - ECPv6.15.20//NONSGML v1.0//EN
CALSCALE:GREGORIAN
METHOD:PUBLISH
X-ORIGINAL-URL:https://thi.ucsc.edu
X-WR-CALDESC:Events for The Humanities Institute
REFRESH-INTERVAL;VALUE=DURATION:PT1H
X-Robots-Tag:noindex
X-PUBLISHED-TTL:PT1H
BEGIN:VTIMEZONE
TZID:America/Los_Angeles
BEGIN:DAYLIGHT
TZOFFSETFROM:-0800
TZOFFSETTO:-0700
TZNAME:PDT
DTSTART:20110313T100000
END:DAYLIGHT
BEGIN:STANDARD
TZOFFSETFROM:-0700
TZOFFSETTO:-0800
TZNAME:PST
DTSTART:20111106T090000
END:STANDARD
BEGIN:DAYLIGHT
TZOFFSETFROM:-0800
TZOFFSETTO:-0700
TZNAME:PDT
DTSTART:20120311T100000
END:DAYLIGHT
BEGIN:STANDARD
TZOFFSETFROM:-0700
TZOFFSETTO:-0800
TZNAME:PST
DTSTART:20121104T090000
END:STANDARD
BEGIN:DAYLIGHT
TZOFFSETFROM:-0800
TZOFFSETTO:-0700
TZNAME:PDT
DTSTART:20130310T100000
END:DAYLIGHT
BEGIN:STANDARD
TZOFFSETFROM:-0700
TZOFFSETTO:-0800
TZNAME:PST
DTSTART:20131103T090000
END:STANDARD
END:VTIMEZONE
BEGIN:VEVENT
DTSTART;TZID=America/Los_Angeles:20120307T120000
DTEND;TZID=America/Los_Angeles:20120307T133000
DTSTAMP:20260423T045208
CREATED:20120214T174432Z
LAST-MODIFIED:20120214T174432Z
UID:10004667-1331121600-1331127000@thi.ucsc.edu
SUMMARY:Tracie McMillian: "Real Food vs. Affordable Food: Can we have both?"
DESCRIPTION:Join journalist Tracie McMillan to discuss her work for The American Way of Eating\, which chronicles her experience in three undercover jobs across the American food system: California farmworker\, produce clerk in a Detroit-area Walmart\, New York City Applebee’s kitchen wretch. Weaving policy and agricultural economics into personal narrative\, McMillan explores what it would cost to grow food fairly. \nTracie McMillan\, a freelance journalist whose work centers on food and class\, is a Senior Fellow at the Schuster Institute for Investigative Journalism at Brandeis University. Her first book\, The American Way of Eating: Undercover at Walmart\, Applebee’s\, Farm Fields and the Dinner Table\, will be published by Scribner in February 2012. Learn more on her website. \nPresented by the Studies of Food and the Body Multicampus Research Program.  Support is provided by the University of California Office of the President.  Staff support is provided by the Institute for Humanities Research.
URL:https://thi.ucsc.edu/event/tracie-mcmillian-real-food-vs-affordable-food-can-we-have-both-3/
LOCATION:Oakes Mural Room\, Room 223\,  Oakes College‎ 150 Heller Drive\, Santa Cruz\, CA\, 95064\, United States
END:VEVENT
END:VCALENDAR