BEGIN:VCALENDAR
VERSION:2.0
PRODID:-//The Humanities Institute - ECPv6.15.20//NONSGML v1.0//EN
CALSCALE:GREGORIAN
METHOD:PUBLISH
X-ORIGINAL-URL:https://thi.ucsc.edu
X-WR-CALDESC:Events for The Humanities Institute
REFRESH-INTERVAL;VALUE=DURATION:PT1H
X-Robots-Tag:noindex
X-PUBLISHED-TTL:PT1H
BEGIN:VTIMEZONE
TZID:America/Los_Angeles
BEGIN:DAYLIGHT
TZOFFSETFROM:-0800
TZOFFSETTO:-0700
TZNAME:PDT
DTSTART:20150308T100000
END:DAYLIGHT
BEGIN:STANDARD
TZOFFSETFROM:-0700
TZOFFSETTO:-0800
TZNAME:PST
DTSTART:20151101T090000
END:STANDARD
BEGIN:DAYLIGHT
TZOFFSETFROM:-0800
TZOFFSETTO:-0700
TZNAME:PDT
DTSTART:20160313T100000
END:DAYLIGHT
BEGIN:STANDARD
TZOFFSETFROM:-0700
TZOFFSETTO:-0800
TZNAME:PST
DTSTART:20161106T090000
END:STANDARD
BEGIN:DAYLIGHT
TZOFFSETFROM:-0800
TZOFFSETTO:-0700
TZNAME:PDT
DTSTART:20170312T100000
END:DAYLIGHT
BEGIN:STANDARD
TZOFFSETFROM:-0700
TZOFFSETTO:-0800
TZNAME:PST
DTSTART:20171105T090000
END:STANDARD
END:VTIMEZONE
BEGIN:VEVENT
DTSTART;TZID=America/Los_Angeles:20160526T180000
DTEND;TZID=America/Los_Angeles:20160526T194500
DTSTAMP:20260419T133630
CREATED:20160405T165551Z
LAST-MODIFIED:20160405T165551Z
UID:10006361-1464285600-1464291900@thi.ucsc.edu
SUMMARY:Living Writers: Emily Hunt & Julien Poirier
DESCRIPTION:Emily Hunt is the author of the poetry collection Dark Green (The Song Cave\, 2015). She holds an MFA from the University of Massachusetts Amherst\, and her poems have appeared in the Iowa Review\, the PEN Poetry Series\, The Academy of American Poets Poem-a-Day Feature\, TYPO\, The Volta\, Diagram\, and elsewhere. In 2013\, Brave Men Press published This Always Happens\, a book of her drawings\, and she has provided cover art for several poetry collections. She lives in Oakland\, CA. \n  \nPoet Julien Poirier grew up in the San Francisco Bay area and was educated at Columbia University. He has described his poems as a system or a conversation already in progress\, aligning observed and spoken ephemera with sound echoes\, tracing the movement of a restless mind across themes of politics\, poetics\, and daily life. In an article on reading Poirier for EOAGH: A Journal of the Arts\, poet Filip Marinovich stated\, “Poirier is a Genius in the classical sense: a resident spirit of Poetry\, arcangeling words through the top of one’s lifted head. …” In a 2013 interview with Noel Black for BOMB Magazine\, Poirier offered the following: “It’s exciting to be writing poems now … because if you can plunge into the simultaneity of all of these events that warped you in some way\, drove you crazy or forced you to find some narrow streak of optimism in the evident relentless disaster\, then you might\, as a poet\, be able to get deeper and deeper into an understanding of what’s happening. You might be able to understand the way things work together and make a poem map\, ‘a map to the map’ as my friend Tony said\, before you forget. And it’s incredibly exciting because there are about a million ways to go about doing this.” \nPoirier is the author of the full-length poetry collection El Golpe Chileño (2010); several chapbooks\, including Flying Over the Fence with Amadou Diallo (2000)\,Short Stack (2005)\, and Stained Glass Windows of California (2012); and the formally innovative newspaper novel Living! Go and Dream (2005). \nA founding member of Ugly Duckling Presse Collective\, Poirier edited the New York Nights newspaper from 2001 to 2006. He has taught poetry in New York City public schools and at San Quentin State Prison. He lives in Berkeley with his wife and two daughters. \n\n  \nSpring 2016 Living Writers Series: Out of Line \nWhy Out of Line? \n“I chose the theme Out of Line because it characterizes the way many of these writers work across genre\, in different genres\, and generally seem to prize the element of surprise in their writing. I’m hoping it will encourage our students to think outside the box and have fun with their writing. In general\, I’m confident this will be a really fun series with a lot of writers with great senses of humor as well as deep interests in the political.” – Professor Micah Perks \nThis event is free and open to the public! Books from the authors will be on sale at the event by the Bay Tree Book Store. Get a book and get it signed by our marvelous visiting authors! \nThursdays\, 6:00-7:45 PM\nHumanities Lecture Hall\, 206 \nApril 7: Githa Hariharan (CANCELED)\nApril 14: Kate Schatz\nApril 21: Manuel Gonzales\nApril 28: Charlie Jane Anders\nMay 5: NO READING\nMay 12: Elizabeth McKenzie\nMay 19: Lev Grossman\nMay 26: Emily Hunt & Julien Poirier\nJune 2: Student Reading
URL:https://thi.ucsc.edu/event/living-writers-emily-hunt-julien-poirier-3/
LOCATION:Humanities Lecture Hall\, Room 206\, UCSC Humanities Lecture Hall\, 1156 High Street\, Santa Cruz\, CA\, 95064\, United States
ATTACH;FMTTYPE=image/jpeg:https://thi.ucsc.edu/wp-content/uploads/2016/04/Living-Writerss.jpg
END:VEVENT
END:VCALENDAR