BEGIN:VCALENDAR
VERSION:2.0
PRODID:-//The Humanities Institute - ECPv6.15.20//NONSGML v1.0//EN
CALSCALE:GREGORIAN
METHOD:PUBLISH
X-WR-CALNAME:The Humanities Institute
X-ORIGINAL-URL:https://thi.ucsc.edu
X-WR-CALDESC:Events for The Humanities Institute
REFRESH-INTERVAL;VALUE=DURATION:PT1H
X-Robots-Tag:noindex
X-PUBLISHED-TTL:PT1H
BEGIN:VTIMEZONE
TZID:America/Los_Angeles
BEGIN:DAYLIGHT
TZOFFSETFROM:-0800
TZOFFSETTO:-0700
TZNAME:PDT
DTSTART:20100314T100000
END:DAYLIGHT
BEGIN:STANDARD
TZOFFSETFROM:-0700
TZOFFSETTO:-0800
TZNAME:PST
DTSTART:20101107T090000
END:STANDARD
BEGIN:DAYLIGHT
TZOFFSETFROM:-0800
TZOFFSETTO:-0700
TZNAME:PDT
DTSTART:20110313T100000
END:DAYLIGHT
BEGIN:STANDARD
TZOFFSETFROM:-0700
TZOFFSETTO:-0800
TZNAME:PST
DTSTART:20111106T090000
END:STANDARD
BEGIN:DAYLIGHT
TZOFFSETFROM:-0800
TZOFFSETTO:-0700
TZNAME:PDT
DTSTART:20120311T100000
END:DAYLIGHT
BEGIN:STANDARD
TZOFFSETFROM:-0700
TZOFFSETTO:-0800
TZNAME:PST
DTSTART:20121104T090000
END:STANDARD
END:VTIMEZONE
BEGIN:VEVENT
DTSTART;TZID=America/Los_Angeles:20110308T160000
DTEND;TZID=America/Los_Angeles:20110308T173000
DTSTAMP:20260422T192412
CREATED:20110223T192617Z
LAST-MODIFIED:20110223T192617Z
UID:10004754-1299600000-1299605400@thi.ucsc.edu
SUMMARY:Miguel Tamen: "Resistance and Interpretation"
DESCRIPTION:Miguel Tamen specializes in philosophy and literature and Portuguese literature. His interests include the philosophy of language\, interpretation\, and moral philosophy\, as well as aesthetics. He is Professor of Literary Theory and Chair of the Program in Literary Theory at the University of Lisbon. He has been a visiting professor at the University of Chicago since 2000. His first book won the Portuguese PEN Club Essay Award (1987). He is the author of six books\, among which are Friends of Interpretable Objects (2001) and The Matter of the Facts (2000). Two more books are forthcoming. In 2010/11 Tamen is a Rockefeller Foundation Fellow at the National Humanities Center. \nProfessor Tamen’ talk is sponsored by the Department of Literature and co-sponsored by the departments of History of Consciousness and History of Art and Visual Culture.
URL:https://thi.ucsc.edu/event/miguel-tamen-resistance-and-interpretation-2/
LOCATION:Humanites 1\, Room 320\, Humanities and Social Science Facility\, Santa Cruz\, CA\, 95064\, United States
END:VEVENT
BEGIN:VEVENT
DTSTART;TZID=America/Los_Angeles:20110308T160000
DTEND;TZID=America/Los_Angeles:20110308T180000
DTSTAMP:20260422T192412
CREATED:20101124T031056Z
LAST-MODIFIED:20101124T031056Z
UID:10004694-1299600000-1299607200@thi.ucsc.edu
SUMMARY:Noel King Memorial Lecture: Jonathan Brown and Nathaniel Deutsch
DESCRIPTION:Noel King Memorial Lecture \nSpeakers: Jonathan Brown (Georgetown) and Nathaniel Deutsch (UCSC) \nTitle: “Muslims\, Jews\, and Modernity: Religious\, Cultural\, and Intellectual Responses” \nReception to Follow
URL:https://thi.ucsc.edu/event/jonathan-brown-noel-king-memorial-lecture-2/
LOCATION:Stevenson Fireside Lounge\, Humanites 1 University of California\, Santa Cruz Cowell College\, Santa Cruz\, CA\, 95064\, United States
END:VEVENT
BEGIN:VEVENT
DTSTART;TZID=America/Los_Angeles:20110309T080000
DTEND;TZID=America/Los_Angeles:20110309T091000
DTSTAMP:20260422T192412
CREATED:20110302T225222Z
LAST-MODIFIED:20110302T225222Z
UID:10004559-1299657600-1299661800@thi.ucsc.edu
SUMMARY:James Young: "Holocaust Memorials and the 9/11 New York Memorial"
DESCRIPTION:Professor James Young\, Director of Jewish and Holocaust Studies at UMass Amherst\, will speak Wednesday March 9 at UCSC. His talk will take place in Classroom Building Unit 2 from 8 -9:10 am as part of a class on the Holocaust and is open to the general public. Professor Young was the Chair of the Berlin Holocaust Commission and is the Chair of the 9/11 Memorial Commission in New York City. \nHe will be speaking about “Holocaust Memorials and the 9/11 New York Memorial” — Professor Young is an alumnus of UCSC and holds a PhD from the campus. He is the General Editor of the Posen Library of Jewish Civilization\, published by Yale University Press\, and the author of important books on the Holocaust and Visual Memory\, including At Memory’s Edge.
URL:https://thi.ucsc.edu/event/james-young-2/
LOCATION:Classroom Unit 2\,      Classroom Unit‎ University of California Santa Cruz\, UC Santa Cruz\, CA\, 95064\, United States
END:VEVENT
BEGIN:VEVENT
DTSTART;TZID=America/Los_Angeles:20110309T121500
DTEND;TZID=America/Los_Angeles:20110309T133000
DTSTAMP:20260422T192412
CREATED:20110111T195559Z
LAST-MODIFIED:20110111T195559Z
UID:10004717-1299672900-1299677400@thi.ucsc.edu
SUMMARY:Marcia Ochoa: "'La moda nace en Paris y muere en Caracas': Fashion\, Beauty and Consumption on the (Trans) National"
DESCRIPTION:Professor Ochoa works at the conjuncture of the ethnography of media\, modernity in Latin America\, and queer/transgender studies. Queen for a Day: Transformistas\, Misses and Mass Media in Venezuela (Duke\, forthcoming) is a queer diasporic ethnography of femininity\, spectacle\, and nation in Venezuela. \nMarcia Ochoa is Assistant Professor of Community Studies at UCSC.\n  \nSponsored by the Center for Cultural Studies with staff support provided by the Institute for Humanities Research\, UCSC.
URL:https://thi.ucsc.edu/event/marcia-ochoa-la-moda-nace-en-paris-y-muere-en-caracas-fashion-beauty-and-consumption-on-the-trans-national-2/
LOCATION:Stevenson Fireside Lounge\, Humanites 1 University of California\, Santa Cruz Cowell College\, Santa Cruz\, CA\, 95064\, United States
END:VEVENT
BEGIN:VEVENT
DTSTART;TZID=America/Los_Angeles:20110310T180000
DTEND;TZID=America/Los_Angeles:20110310T194500
DTSTAMP:20260422T192412
CREATED:20110110T193804Z
LAST-MODIFIED:20110110T193804Z
UID:10004709-1299780000-1299786300@thi.ucsc.edu
SUMMARY:Living Writers Series: Graduate Student Readings
DESCRIPTION:This week the Living Writers Series offers a selection of readings by UCSC Graduate Students\, including Juliana Leslie\, Tim Yamamura\, Jake Thomas\, Andrea Quaid\, and Eireene Nealand. \nCo-sponsored by the Creative Writing Program\, the Literature Department\, and the Porter Hitchcock Poetry Fund.
URL:https://thi.ucsc.edu/event/living-writers-series-graduate-student-readings-2/
LOCATION:Humanities Lecture Hall\, Room 206\, UCSC Humanities Lecture Hall\, 1156 High Street\, Santa Cruz\, CA\, 95064\, United States
END:VEVENT
BEGIN:VEVENT
DTSTART;TZID=America/Los_Angeles:20110310T190000
DTEND;TZID=America/Los_Angeles:20110310T203000
DTSTAMP:20260422T192412
CREATED:20110307T185633Z
LAST-MODIFIED:20110307T185633Z
UID:10004561-1299783600-1299789000@thi.ucsc.edu
SUMMARY:The Writing Program’s 2011 Reading Series
DESCRIPTION:The Writing Program’s 2011 Reading Series \nPlease join us in welcoming two new voices to the Faculty Reading Series:  Terry Terhaar will be reading non-fiction and Travis Mossetti will be reading poetry.  A returning reader\, Maureen Foster\, will also be reading poetry.  As we add new teachers to our faculty\, it is a pleasure to add their work to our annual series.  Please join us for a fantastic evening\, and see that we all do far more than teach in the classroom.
URL:https://thi.ucsc.edu/event/the-writing-programs-2011-reading-series-3-2/
LOCATION:Charles E. Merrill Lounge
END:VEVENT
BEGIN:VEVENT
DTSTART;TZID=America/Los_Angeles:20110311T160000
DTEND;TZID=America/Los_Angeles:20110311T173000
DTSTAMP:20260422T192412
CREATED:20110302T204326Z
LAST-MODIFIED:20110302T204326Z
UID:10004558-1299859200-1299864600@thi.ucsc.edu
SUMMARY:Norvin Richards: "Generalized Contiguity"
DESCRIPTION:In Richards (2010) I posited a universal condition on the prosody of wh-questions\, which was intended to predict whether a given language would move its wh-phrases or leave them in situ.  The condition requires a wh-phrase to be in the same prosodic domain as the interrogative complementizer which Agrees with it.  Whether a language has to move its wh-phrases then depends on how its prosody is organized.  Some languages can leave wh-phrases in situ and manipulate the prosody of the sentence to satisfy the prosodic requirement; others cannot do this\, and must move the wh-phrase to make it sufficiently prosodically close to C. \nIn this talk I will generalize the prosodic requirement I posited for the relation between C and wh-phrases\, applying it to all pairs of syntactic objects that are related either by Agree or by selection.  Data handled by the resulting theory include a variety of facts about the placement of adverbs in languages like English and French (traditionally accounted for via claims about the structural height of verbs)\, the Final-over-Final Constraint of Biberauer et al (2010)\, and the requirement that clauses with English quotative inversion cannot have auxiliaries. \nNorvin Richards\, Professor of Linguistics at MIT\, will give this talk as part of the CrISP Distinguished Visitors Series.
URL:https://thi.ucsc.edu/event/norvin-richards-generalized-contiguity-2/
LOCATION:Stevenson Fireside Lounge\, Humanites 1 University of California\, Santa Cruz Cowell College\, Santa Cruz\, CA\, 95064\, United States
END:VEVENT
END:VCALENDAR