BEGIN:VCALENDAR
VERSION:2.0
PRODID:-//The Humanities Institute - ECPv6.15.20//NONSGML v1.0//EN
CALSCALE:GREGORIAN
METHOD:PUBLISH
X-WR-CALNAME:The Humanities Institute
X-ORIGINAL-URL:https://thi.ucsc.edu
X-WR-CALDESC:Events for The Humanities Institute
REFRESH-INTERVAL;VALUE=DURATION:PT1H
X-Robots-Tag:noindex
X-PUBLISHED-TTL:PT1H
BEGIN:VTIMEZONE
TZID:America/Los_Angeles
BEGIN:DAYLIGHT
TZOFFSETFROM:-0800
TZOFFSETTO:-0700
TZNAME:PDT
DTSTART:20100314T100000
END:DAYLIGHT
BEGIN:STANDARD
TZOFFSETFROM:-0700
TZOFFSETTO:-0800
TZNAME:PST
DTSTART:20101107T090000
END:STANDARD
BEGIN:DAYLIGHT
TZOFFSETFROM:-0800
TZOFFSETTO:-0700
TZNAME:PDT
DTSTART:20110313T100000
END:DAYLIGHT
BEGIN:STANDARD
TZOFFSETFROM:-0700
TZOFFSETTO:-0800
TZNAME:PST
DTSTART:20111106T090000
END:STANDARD
BEGIN:DAYLIGHT
TZOFFSETFROM:-0800
TZOFFSETTO:-0700
TZNAME:PDT
DTSTART:20120311T100000
END:DAYLIGHT
BEGIN:STANDARD
TZOFFSETFROM:-0700
TZOFFSETTO:-0800
TZNAME:PST
DTSTART:20121104T090000
END:STANDARD
END:VTIMEZONE
BEGIN:VEVENT
DTSTART;TZID=America/Los_Angeles:20110425T140000
DTEND;TZID=America/Los_Angeles:20110425T153000
DTSTAMP:20260422T171107
CREATED:20110418T222921Z
LAST-MODIFIED:20110418T222921Z
UID:10004581-1303740000-1303745400@thi.ucsc.edu
SUMMARY:Bettina Aptheker: "The Passion and Pageantry of Shirley Graham {Du Bois}: Composer & Playwright\, 1920s-1930s"
DESCRIPTION:Shirley Graham {Du Bois} (1896-1977) had a successful early career as composer\, performer and playwright that included her formal studies at the Oberlin Conservatory of Music\, Yale University\, and the near completion of a Ph D at NYU. In 1932 her opera\, “Tom-Tom” for which she wrote the libretto and composed the music\, was performed as part of the Cleveland (Ohio) Summer Opera Festival to a capacity audience of 15\,000 on opening night; the opera was a sensation. She later won a coveted two-year Young Playwrights Fellowship to Yale\, a Guggenheim Fellowship\, and became the Director of Negro Theater for the Federal Theater Project in Chicago in the 1930s. This presentation will examine the passion and pageantry of her work\, focusing in particular on her operatic/composing career and its historical significance. Unable to pursue her artistic life because she was a single mother with two young children in the midst of the Depression\, Graham went onto work in a variety of race-related and increasingly radical political projects\, and became the very successful author of young adult biographies of famous Black Americans in the 1940s and 1950s. She married Dr. W.E.B. Du Bois in 1951. In addition to extensive archival work\, this presentation is based upon Aptheker’s friendship with the Du Bois’. \nThis colloquium is presented at the invitation of the Music Department; all are welcome to attend.
URL:https://thi.ucsc.edu/event/bettina-aptheker-the-passion-and-pageantry-of-shirley-graham-du-bois-composer-playwright-1920s-1930s-2/
LOCATION:Music Center Recital Hall\, Music Center\, Santa Cruz\, CA\, 95064\, United States
END:VEVENT
BEGIN:VEVENT
DTSTART;TZID=America/Los_Angeles:20110425T190000
DTEND;TZID=America/Los_Angeles:20110425T203000
DTSTAMP:20260422T171107
CREATED:20110417T232239Z
LAST-MODIFIED:20110417T232239Z
UID:10004808-1303758000-1303763400@thi.ucsc.edu
SUMMARY:The Writing Program's Reading Series
DESCRIPTION:Please join us for an evening of poetry and prose with past and present Writing Program faculty: \nChuck Atkinson\,  Jeff Arnett\, Roxi Power Hamilton\, Ingrid Moody\,  Robin Sommers\, and Stephen Sweat
URL:https://thi.ucsc.edu/event/the-writing-programs-reading-series-2/
LOCATION:Silverman Conference Room\, Stevenson\, Stevenson College\, Santa Cruz\, CA\, 95064\, United States
END:VEVENT
BEGIN:VEVENT
DTSTART;TZID=America/Los_Angeles:20110426T160000
DTEND;TZID=America/Los_Angeles:20110426T180000
DTSTAMP:20260422T171107
CREATED:20110216T004621Z
LAST-MODIFIED:20110216T004621Z
UID:10004751-1303833600-1303840800@thi.ucsc.edu
SUMMARY:Paul Horwich: "Wittgenstein's Meta-Philosophy"
DESCRIPTION:My aim will be to describe and assess Wittgenstein’s anti-theoretical view of why philosophy ought not to be in conducted in the traditional way\, how it should instead be done\, and what can be accomplished by pursuing it properly. I will be especially concerned with the questions: (1) of how this view is related to his conception of ‘meaning’ as use’\, (2) of whether it is self-defeatingly ‘theoretical’\, (3) of how it evolved from his earlier (Tractatus) position\, and (4) of whether his departures from that position were sufficiently radical. \nProfessor Paul Horwich (BA Oxford 1966\, MA Yale 1969\, PhD Cornell 1974) will be speaking on Tuesday\, April 26\, 2011 at the invitation of the Linguistics and Philosophy Group.  His talk is co-sponsored by the Institute for Humanities research and the UCSC Philosophy Department.  Prof. Horwich’s principle contributions to the field have been a probabilistic account of scientific methodology\, a unified explanation of temporally asymmetric phenomena\, a deflationary conception of truth\, and a naturalistic use-theory of meaning. He has received fellowship support for his work from the National Endowment for the Humanities\, the National Science Foundation\, and the Guggenheim Foundation. He has been on the faculties of the Massachusetts Institute of Technology (73-95)\, University College London (95-00)\, and the Graduate Center of the City University of New York (00-05). He has also given courses at UCLA\, the CNRS Institute d’Histoire et Philosophie des Sciences et Technique\, the University of Sydney\, the École Normale Supérieure\, and the University of Tokyo. His main present project is a monograph on Wittgenstein’s meta-philosophy.
URL:https://thi.ucsc.edu/event/paul-horwich-2/
LOCATION:Stevenson Fireside Lounge\, Humanites 1 University of California\, Santa Cruz Cowell College\, Santa Cruz\, CA\, 95064\, United States
END:VEVENT
BEGIN:VEVENT
DTSTART;TZID=America/Los_Angeles:20110427T100000
DTEND;TZID=America/Los_Angeles:20110427T120000
DTSTAMP:20260422T171107
CREATED:20110418T145305Z
LAST-MODIFIED:20110418T145305Z
UID:10004580-1303898400-1303905600@thi.ucsc.edu
SUMMARY:Afro-Latinos in the Américas
DESCRIPTION:A panel with Juan Flores (NYU)\,  Miriam Jiménez Román (The Schomburg Center)\,  Nancy Raquel Mirabal (SFSU)\, and Mark Anderson (UCSC).   \nLourdes Martínez Echazábal (Literature) will be respondent. Juan Poblete (Literature) will moderate \nIn celebration of the recent publication of Juan Flores and Miriam Jimenez Roman’s “Afro-Latin@ Reader” (Duke\, 2011)   \nThe Afro-Latin@ Reader focuses attention on a large\, vibrant\, yet oddly invisible community in the United States: people of African descent from Latin America and the Caribbean. The presence of Afro-Latin@s in the United States (and throughout the Americas) belies the notion that Blacks and Latin@s are two distinct categories or cultures. Afro-Latin@s are uniquely situated to bridge the widening social divide between Latin@s and African Americans; at the same time\, their experiences reveal pervasive racism among Latin@s and ethnocentrism among African Americans. \nQuestions? Contact Shannon Mahoney at kresgeprovostassistant@ucsc.edu
URL:https://thi.ucsc.edu/event/afro-latinos-in-the-americas-2/
LOCATION:Kresge\, Room 159\, Kresge College\, UC Santa Cruz\, Kresge College\, Santa Cruz\, CA\, 95064\, United States
END:VEVENT
BEGIN:VEVENT
DTSTART;TZID=America/Los_Angeles:20110427T121500
DTEND;TZID=America/Los_Angeles:20110427T133000
DTSTAMP:20260422T171107
CREATED:20110313T193450Z
LAST-MODIFIED:20110313T193450Z
UID:10004780-1303906500-1303911000@thi.ucsc.edu
SUMMARY:Matt O'Hara: “The History of the Future in Mexico”
DESCRIPTION:The Center for Cultural Studies Colloquium Series Presents: \nMatt O’Hara\,  History\,  UCSC\n“The History of the Future in Mexico” \nHistorians of Latin America have spent much energy studying historical legacies. The notion that “the past weighs heavily on the present” is a standard frame for historical analysis. Stepping outside this paradigm\, Professor O’Hara’s book project examines how Mexicans thought about\, planned for\, and accessed the future from the mid-colonial period into the early republic. \nMatthew O’Hara is Associate Professor of History at UCSC \nStaff support provided by the Institute for Humanities Research
URL:https://thi.ucsc.edu/event/matt-ohara-2/
LOCATION:Stevenson Fireside Lounge\, Humanites 1 University of California\, Santa Cruz Cowell College\, Santa Cruz\, CA\, 95064\, United States
END:VEVENT
BEGIN:VEVENT
DTSTART;TZID=America/Los_Angeles:20110427T163000
DTEND;TZID=America/Los_Angeles:20110427T183000
DTSTAMP:20260422T171107
CREATED:20110328T032023Z
LAST-MODIFIED:20110328T032023Z
UID:10004569-1303921800-1303929000@thi.ucsc.edu
SUMMARY:Jennifer L. Morgan: "Quotidian Erasures: Gender and the Records of the Trans-­Atlantic Slave Trade"
DESCRIPTION:“Quotidian Erasures: Gender and the Records of the Trans-Atlantic Slave Trade” will argue that the emergence of what early modern political theorists described as “political arithmetic”—and what we term demography—is a product of the trade in slaves that bolstered the colonial economies they were at pains to describe. Numeracy\, political arithmetic\, and the science of demography emerged in the crucible of the trans-Atlantic slave trade and early modern mercantilism. Thus\, those of us charting the lives of women and men of African descent in the Atlantic must turn careful attention to the ways in which demography both supports our work and comprises a core part of the legacies of archival violence with which we must grapple. Demography is evidence\, but it is also a critical problem of early modern ideology—as is what the gathering of demographic evidence meant to those who were both collecting it and being collected. \nHow do we move from a world in which the free African man Anthony Johnson can petition for and receive special to one in which English travelers to Africa as early as the sixteenth century routinely glossed men and women as “merchandize?” The power of numerical reckoning is not a new question for scholars of the post-colonial. But a clear disciplinary boundary is drawn in the early modern period\, between those working on the political valence demography\, and those working on the demographic parameters of the trans-Atlantic slave trade. It is in this juncture between histories of political science and economic studies of the trade that I am interested in staking a embedded in numerical evidence\, the development of “political arithmetic\,” and the ways in which men and women were and are reduced to and embedded in a system of monetary or commercial value? \nJennifer L. Morgan is Professor in the departments of Social and Cultural Analysis and History at New York University. She is the author of Laboring Women: Gender and Reproduction in the Making of New World Slavery (University of Pennsylvania Press\, 2003). Her research examines the intersections of gender and race in colonial America. She is currently at work on a project that considers colonial numeracy\, racism and the rise of the trans-Atlantic Slave Trade tentatively entitled Accounting for the Women in Slavery. \nThis event is made possible through generous contributions from the Departments of History\, American Studies and Sociology.
URL:https://thi.ucsc.edu/event/jennifer-l-morgan-quotidian-erasures-gender-and-the-records-of-the-trans-%c2%adatlantic-slave-trade-2/
LOCATION:Stevenson Fireside Lounge\, Humanites 1 University of California\, Santa Cruz Cowell College\, Santa Cruz\, CA\, 95064\, United States
END:VEVENT
BEGIN:VEVENT
DTSTART;TZID=America/Los_Angeles:20110428T120000
DTEND;TZID=America/Los_Angeles:20110428T133000
DTSTAMP:20260422T171107
CREATED:20110425T152952Z
LAST-MODIFIED:20110425T152952Z
UID:10004582-1303992000-1303997400@thi.ucsc.edu
SUMMARY:Clive Sinclair: "The Belmont Quota"
DESCRIPTION:Clive Sinclair has published 14 books of fiction – The Lady and the Laptop received major critical acclaim in England and he is noted for his criticism\, including a study of Isaac Bashevis and Isaac Joshua Singer\, –  a collection of his stories\, Bedbugs\, was published last year by Syracuse University Press. \nClive Sinclair will speak on English attitudes to Venice\, discussing Dreamers of the Ghetto– the stories of Israel Zangwill (1898) – as well as Shakespeare’s Merchant of Venice. \nThis talk will take place in Murray Baumgarten’s class “Jewish Writers and the European City.”  It is open to the public and will be followed by a discussion.
URL:https://thi.ucsc.edu/event/clive-sinclair-the-belmont-quota-2/
LOCATION:Kresge\, Room 325\, Kresge College\, UC Santa Cruz\, Kresge College\, Santa Cruz\, CA\, 95064\, United States
END:VEVENT
BEGIN:VEVENT
DTSTART;TZID=America/Los_Angeles:20110428T160000
DTEND;TZID=America/Los_Angeles:20110428T173000
DTSTAMP:20260422T171107
CREATED:20110310T190807Z
LAST-MODIFIED:20110310T190807Z
UID:10004565-1304006400-1304011800@thi.ucsc.edu
SUMMARY:Alicia Schmidt Camacho: "When Human Beings Become Illegal"
DESCRIPTION:Drawing on migrant testimony\, this talk will discuss the implications of government refusals to recognize and protect the mobility of poor people in their pursuit of economic survival. Migrants routinely experience grave abuses and assault in the course of their travels through the North American migratory circuit at the hands of both state and criminal actors. This violence\, Schmidt Camacho argues\, arises from transformations in the nature of sovereign power arising from economic restructuring and democratic state failure in the region. The increased use of force in immigration law enforcement is symptomatic of a pronounced rise in state violence during the last decade\, roundly legitimated by governments as defending the rule of law. \nAlicia Schmidt Camacho is Professor of American Studies and Ethnicity\, Race\, and Migration at Yale University.  She is the author of Migrant Imaginaries: Latino Cultural Politics in the U.S.-Mexico Borderlands (NYU\, 2008). She is currently at work on a book about state security and social violence along the North American migratory circuit. \nStaff support provided by the Institute for Humanities Research.
URL:https://thi.ucsc.edu/event/alicia-schmidt-camacho-when-human-beings-become-illegal-2/
LOCATION:Stevenson Fireside Lounge\, Humanites 1 University of California\, Santa Cruz Cowell College\, Santa Cruz\, CA\, 95064\, United States
END:VEVENT
BEGIN:VEVENT
DTSTART;TZID=America/Los_Angeles:20110428T180000
DTEND;TZID=America/Los_Angeles:20110428T194500
DTSTAMP:20260422T171107
CREATED:20110404T055708Z
LAST-MODIFIED:20110404T055708Z
UID:10004789-1304013600-1304019900@thi.ucsc.edu
SUMMARY:Living Writers Series: Claudia Rankine
DESCRIPTION:Claudia Rankine was born in Jamaica in 1963. She is the author of four collections of poetry\, including Don’t Let Me Be Lonely\, The End of the Alphabet\, and Nothing in Nature is Private (1995)\, which received the Cleveland State Poetry Prize. Rankine is co-editor of American Women Poets in the Twenty-First Century (Wesleyan University Press). Her poetry is also included in several anthologies\, including Great American Prose Poems: From Poe to the Present\, Best American Poetry 2001\, Giant Step: African American Writing at the Crossroads of the Century\, and The Garden Thrives: Twentieth Century African-American Poetry. She teaches in the writing program at the University of Houston. \nEach quarter\, the Living Writers Reading Series brings visiting authors and poets to UC Santa Cruz to give students an in-depth look into the world of the working writer.  Sponsored by Oakes College and the Porter Hitchcock Poetry Fund.
URL:https://thi.ucsc.edu/event/living-writers-series-claudia-rankine-2/
LOCATION:Humanities Lecture Hall\, Room 206\, UCSC Humanities Lecture Hall\, 1156 High Street\, Santa Cruz\, CA\, 95064\, United States
END:VEVENT
BEGIN:VEVENT
DTSTART;VALUE=DATE:20110429
DTEND;VALUE=DATE:20110501
DTSTAMP:20260422T171107
CREATED:20110329T233405Z
LAST-MODIFIED:20110329T233405Z
UID:10004571-1304035200-1304207999@thi.ucsc.edu
SUMMARY:Pasolini's Body: New Directions in Pasolini Scholarship
DESCRIPTION:Pier Paolo Pasolini (1922-1975) — poet\, film director\, screenwriter and theatre critic\, playwright\, essayist\, journalist\, graphic artist\, and novelist — was one of the great Italian artistic and intellectual figures of the twentieth century.  Since his mysterious murder in 1975\, Pasolini has been reviled; then sanctified. Our goal is to historicize Pasolini. This conference focuses on configurations of the body and gesture that arise in Pasolini’s performative\, visual\, and poetic practices with respect to the artist image\, the ‘popular body’\, the Third World\, narrative and choreographic movement\, Pasolini’s life\, and his conceptions of the political and eroticism as they intersect history\, culture\, and myth. \nThursday \n7:30-10 pm – Film Screening: Arabian Nights \nIntroduction: Peter Limbrick\, UCSC \nLocation: Studio C\, Communications Building \nFriday  \n8:30-9:00 – Coffee  \n9:00-9:30 – Opening Remarks\nDavid Yager\, Dean of the Arts\,\nMark Franko\, Director of the Center for Visual and Performance Studies \n9:30-11:30 – Panel: Corporeal Poetics\nTyrus Miller\, UCSC\n“Transhumanize and Organize: Pasolini’s Crossing of Philology and Biopolitics” \nArmando Maggi\, U. Chicago\n“Norman O. Brown’s Love’s Body and Pasolini’s Calderón” \nColleen Ryan-Scheutz\, Indiana U.\n“Pasolini’s Final Word(s): From the Divina Mimesis to Petrolio and Salo” \nModerator: Deanna Shemek\, UCSC \n11:30-1:00 – Lunch  \n1:00-3:00 – Panel: Visualizing the Body  \nGian Maria Annovi\, Columbia\n“Pasolini’s Cinematographic Body” \nMark Franko\, UCSC\n“Notes on Pasolini and the ‘Language’ of Dance” \nSilvestra Mariniello\, U. Montreal\n“Myth and the Pace of Life. Pasolini’s Poetics of History” \nModerator: Cathy Soussloff\, UBC \n3:00-3:30 – Break  \n3:30-5:30 – Panel: Political Kinesthetics  \nStaisey Divorski\, UCLA\n“The Heretical Absence of the Word: Pasolini’s Teorema” \nEvan Calder Williams\, UCSC\n“A Vital Desperation: On Rage and Communist Pessimism” \nWlad Godzich\, UCSC\n“Body\, Narrative\, and Politics” \nModerator: Karen Bassi\, UCSC \n5:30-7:30 – Reception & Film Screening: Notes on an African Orestes \nIntroduction: Peter Limbrick\, UCSC \nLocation: Studio C\, Communications Building \nSaturday \n10:00-10:30 – Coffee  \n10:30-1:00 – Panel: Postcolonial Figurations \nDavid Pendleton\, Harvard\n“Pasolini on the Beach: Semiosis\, Erotics and the Politics of the Image” \nDerek Duncan\, U. Bristol\n“Graceless: Pasolini’s Postcolonial Body” \nGiovanna Trento\, French Center for Ethiopian Studies\n“Il corpo popolare according to Pier Paolo Pasolini: body\, sexuality\, subalternity\, reality\, resistance\, agency and death” \nLuca Caminati\, Concodria\n“Notes on Pasolini’s Third World” \nModerator: Peter Limbrick  \nSponsored by UCSC Arts Division\, UCSC Arts Research Institute\, Istituto Italiano di Cultura di San Francisco\,  Cowell College\, Theater Arts Department\, Literature  Department\, Film and Digital Media Department\, History of Art and Visual Culture Department\,  History of Consciousness Department\, Feminist Studies Department\, and History Department
URL:https://thi.ucsc.edu/event/pasolinis-body-vps-conference-2/
LOCATION:Cowell Conference Room\, Cowell College\, Santa Cruz\, CA\, 95064\, United States
END:VEVENT
BEGIN:VEVENT
DTSTART;TZID=America/Los_Angeles:20110429T160000
DTEND;TZID=America/Los_Angeles:20110429T180000
DTSTAMP:20260422T171107
CREATED:20110425T153710Z
LAST-MODIFIED:20110425T153710Z
UID:10004583-1304092800-1304100000@thi.ucsc.edu
SUMMARY:Bhanu Kapil: "Performance and Narrative: Writing (not writing) a tragic scene: NOTES: towards the Southall Race Riot of 1979"
DESCRIPTION:Bhanu Kapil has written four full-length cross-genre works: The Vertical Interrogation of Strangers (Kelsey Street Press\, 2001)\, Incubation: a space for monsters (Leon Works\, 2006)\, humanimal [a project for future children] (Kelsey Street Press\, 2009)\, and Schizophrene (forthcoming\, Nightboat Books). Recent classes at Naropa have engaged architecture\, somatics\, biology and memory as ways to approach or navigate contemporary narrative and poetics. An on-going experimental pedagogy and reflection can be found at her blog: “Was Jack Kerouac a Punjabi? [A Day in the Life of a Naropa University Writing Professor.]” \nPoetry and Politics is a research cluster of the Institute for Humanities Research\, which has provided staff support for this event. Sponsored by the UC Humanities Network. Cosponsored by UCSC Porter College Hitchcock Poetry Fund the Center for Cultural Studies\, and the Literature Department. \nPlease contact Andrea Quaid (aquaid@ucsc.edu) or Juliana Leslie (julianaleslie@gmail.com) with any questions.
URL:https://thi.ucsc.edu/event/bhanu-kapil-performance-and-narrative-writing-not-writing-a-tragic-scene-notes-towards-the-southall-race-riot-of-1979-2/
LOCATION:Stevenson Fireside Lounge\, Humanites 1 University of California\, Santa Cruz Cowell College\, Santa Cruz\, CA\, 95064\, United States
END:VEVENT
BEGIN:VEVENT
DTSTART;TZID=America/Los_Angeles:20110429T190000
DTEND;TZID=America/Los_Angeles:20110429T210000
DTSTAMP:20260422T171107
CREATED:20110425T154207Z
LAST-MODIFIED:20110425T154207Z
UID:10004584-1304103600-1304110800@thi.ucsc.edu
SUMMARY:Poetry Reading: Bhanu Kapil and Sesshu Foster
DESCRIPTION:Bhanu Kapil has written four full-length cross-genre works: The Vertical Interrogation of Strangers (Kelsey Street Press\, 2001)\, Incubation: a space for monsters (Leon Works\, 2006)\, humanimal [a project for future children] (Kelsey Street Press\, 2009)\, and Schizophrene (forthcoming\, Nightboat Books). Recent classes at Naropa have engaged architecture\, somatics\, biology and memory as ways to approach or navigate contemporary narrative and poetics. An on-going experimental pedagogy and reflection can be found at her blog: “Was Jack Kerouac a Punjabi? [A Day in the Life of a Naropa University Writing Professor.]” \nSesshu Foster has taught writing in East Los Angeles for 20 years in addition to teaching at the University of Iowa\, the California Institute for the Arts\, and UC Santa Cruz. He is the author of Atomik Aztex; World Ball Notebook; American Loneliness: Selected Poems; and City Terrace Field Manual\, a finalist for the PEN Center West Poetry Prize. He also co-edited Invocation LA: Urban Multicultural Poetry. \nPoetry and Politics is a research cluster of the Institute for Humanities Research\, which has provided staff support for this event. Sponsored by the UC Humanities Network. Cosponsored by UCSC Porter College Hitchcock Poetry Fund the Center for Cultural Studies\, and the Literature Department. \nPlease contact Andrea Quaid (aquaid@ucsc.edu) or Juliana Leslie (julianaleslie@gmail.com) with any questions.
URL:https://thi.ucsc.edu/event/poetry-reading-bhanu-kapil-and-sesshu-foster-2/
LOCATION:Felix Kulpa Gallery\, 107 Elm Street\, Santa Cruz\, 95060\, United States
END:VEVENT
BEGIN:VEVENT
DTSTART;VALUE=DATE:20110430
DTEND;VALUE=DATE:20110501
DTSTAMP:20260422T171107
CREATED:20110108T001304Z
LAST-MODIFIED:20110108T001304Z
UID:10004533-1304121600-1304207999@thi.ucsc.edu
SUMMARY:Day by the Bay
DESCRIPTION:An exciting array of events and activities are planned on campus during UCSC’s upcoming “Day By The Bay” event. The campus’s annual  reunion weekend will take place this year from Friday\, April 29\, through Sunday\, May 1. \nA complete schedule of events — and all related details — can be found at: http://events.ucsc.edu/daybythebay/ \nWe hope you will join us for as many of the following special events as possible: \nSaturday\, April 30\nIntellectual Forum\n11 a.m.–12:30 p.m.\, Humanities Lecture Hall\n“Game Changers: Green Chemistry and Social Change Philanthropy” \nOakes Provost Kimberly Lau will moderate a discussion between UCSC alumni who are creating major paradigm shifts in our collective approach to meeting social\, environmental\, and economic challenges. Featured speakers are: \nDrummond Pike (Stevenson ’70) founder of Tides and cofounder of Working Assets\nMichael Wilson (Stevenson ’84) research scientist and pioneer in the emerging field of “green” chemistry \nPlease register for this free event on the Day by the Bay web site. \nDay by the Bay Picnic\n12–3 p.m.\, East Field\nDelicious local food\, microbrews\, and wine. Fun activities for kids (including a bounce house and climbing wall)\, robotics displays\, displays from the colleges\, student entertainment\, and much\, much more. \nThis year\, we have also planned for a “Faculty & Staff Lounge” at the site of the picnic. In the largest tent in the center of the picnic\, the “lounge” will be provide another opportunity for alumni to reconnect with favorite professors and staff. There will be comfy lounge furniture and coffee for you to enjoy while you reminisce along with alumni from all eras. \nPlease register for this free event on the Day by the Bay web site. \nAll Alumni Wine Reception\nCowell Provost House Lawn\, 3–4:30 p.m.\nJoin us for a toast to celebrate our alumni. Reconnect with old classmates and faculty\, meet new friends and share your story about how UCSC has impacted your life. \nPlease register for this free event on the Day by the Bay web site.\n\nUCSC Class of 1971 40-Year Reunion Dinner\nUniversity Center\, 6 p.m.\nReconnect with fellow alumni and your favorite faculty and staff for a night of mingling and memories to celebrate the last 40 years.\nTickets to this event cost $45. \nPlease register for this event by Friday\, April 15\, on the Day by the Bay web site. \nSunday\, May 1\nWriters Life: A celebration of writing at UC Santa Cruz\nHumanities Lecture Hall and Plaza\, 9 a.m.-6 p.m. \nHumanities is hosting a selection of alumni writers–novelists\, journalists\, and screenwriters–coming together for a community event to focus on the joys and challenges of writing as a living\, the business of writing\, and trends for the future.
URL:https://thi.ucsc.edu/event/day-by-the-bay-2-2/
LOCATION:UC Santa Cruz
END:VEVENT
END:VCALENDAR