BEGIN:VCALENDAR
VERSION:2.0
PRODID:-//The Humanities Institute - ECPv6.15.20//NONSGML v1.0//EN
CALSCALE:GREGORIAN
METHOD:PUBLISH
X-WR-CALNAME:The Humanities Institute
X-ORIGINAL-URL:https://thi.ucsc.edu
X-WR-CALDESC:Events for The Humanities Institute
REFRESH-INTERVAL;VALUE=DURATION:PT1H
X-Robots-Tag:noindex
X-PUBLISHED-TTL:PT1H
BEGIN:VTIMEZONE
TZID:America/Los_Angeles
BEGIN:DAYLIGHT
TZOFFSETFROM:-0800
TZOFFSETTO:-0700
TZNAME:PDT
DTSTART:20100314T100000
END:DAYLIGHT
BEGIN:STANDARD
TZOFFSETFROM:-0700
TZOFFSETTO:-0800
TZNAME:PST
DTSTART:20101107T090000
END:STANDARD
BEGIN:DAYLIGHT
TZOFFSETFROM:-0800
TZOFFSETTO:-0700
TZNAME:PDT
DTSTART:20110313T100000
END:DAYLIGHT
BEGIN:STANDARD
TZOFFSETFROM:-0700
TZOFFSETTO:-0800
TZNAME:PST
DTSTART:20111106T090000
END:STANDARD
BEGIN:DAYLIGHT
TZOFFSETFROM:-0800
TZOFFSETTO:-0700
TZNAME:PDT
DTSTART:20120311T100000
END:DAYLIGHT
BEGIN:STANDARD
TZOFFSETFROM:-0700
TZOFFSETTO:-0800
TZNAME:PST
DTSTART:20121104T090000
END:STANDARD
END:VTIMEZONE
BEGIN:VEVENT
DTSTART;TZID=America/Los_Angeles:20110501T100000
DTEND;TZID=America/Los_Angeles:20110501T160000
DTSTAMP:20260422T170535
CREATED:20110108T001602Z
LAST-MODIFIED:20110108T001602Z
UID:10004534-1304244000-1304265600@thi.ucsc.edu
SUMMARY:A Writer's Life
DESCRIPTION:Join us on May 1\, 2011\, (10am to 4pm) in celebrating writing at UCSC. As part of UCSC’s Day By The Bay celebrations\, Humanities is hosting a selection of alumni writers – novelists\, journalists\, and screenwriters—coming together for a community event to focus on the joys and challenges of writing as a living\, the business of writing\, and trends for the future.\n  \nUCSC students\, alumni and Santa Cruz community members are all welcome to this free event. The day begins at 10am with a keynote speech by alumnus David Talbot founder of Salon.com and best-selling author of Brothers: The Hidden History of the Kennedy Years. Other writers participating in this event are: Susan Blackaby – children’s book author; David Ehrman – screenwriter; Charlie Haas – author; Claire Hoffman – freelance journalist; Robert Irion – freelance magazine journalist; Laurie King – author; Dan Pulcrano – CEO and Executive Editor\, Metro Newspapers; Matt Skenazy – freelance journalist; and Gary Young – poet.\n  \nThe day will conclude with a book faire and reception with the panelists.\n  \nFor more information\, visit http://writerslife.ucsc.edu/. Visit our registration site to RSVP.
URL:https://thi.ucsc.edu/event/a-writers-life-2/
LOCATION:Humanities Lecture Hall\, Room 206\, UCSC Humanities Lecture Hall\, 1156 High Street\, Santa Cruz\, CA\, 95064\, United States
END:VEVENT
BEGIN:VEVENT
DTSTART;TZID=America/Los_Angeles:20110503T120000
DTEND;TZID=America/Los_Angeles:20110503T130000
DTSTAMP:20260422T170535
CREATED:20110426T181841Z
LAST-MODIFIED:20110426T181841Z
UID:10004586-1304424000-1304427600@thi.ucsc.edu
SUMMARY:Herbie Lee: "Computer Model Emulation"
DESCRIPTION:Many modern problems involve computer simulations of physical or social processes. The field of statistics provides a range of tools to help with the design\, analysis\, and use of computer simulators. This talk will give an overview of these problems and the statistical perspective\, with applications ranging from rocket science to hydrology to health care policy. \nHerbie Lee is Professor of Applied Mathematics and Statistics and Interim Vice Provost for Academic Affairs\, UCSC. Dr. Lee’s research focuses on Bayesian statistics\, particularly computer models and connections between statistics and machine learning. He has published numerous articles and two books: Multiscale Modeling: A Bayesian Perspective (Springer) and Bayesian Nonparametrics via Neural Networks (SIAM). He is also well known as an outstanding teacher of statistics at all levels. \nThis talk is present as part of the The Linguistics Research Center Brown Bag Lunch Series.
URL:https://thi.ucsc.edu/event/herbie-lee-computer-model-emulation-2/
LOCATION:Stevenson Fireside Lounge\, Humanites 1 University of California\, Santa Cruz Cowell College\, Santa Cruz\, CA\, 95064\, United States
END:VEVENT
BEGIN:VEVENT
DTSTART;TZID=America/Los_Angeles:20110504T121500
DTEND;TZID=America/Los_Angeles:20110504T133000
DTSTAMP:20260422T170535
CREATED:20110313T193815Z
LAST-MODIFIED:20110313T193815Z
UID:10004782-1304511300-1304515800@thi.ucsc.edu
SUMMARY:Jacob Metcalf: "Meet Shmeat: Animal Biotechnologies and the Philosophical Tensions of the New Foods Movements"
DESCRIPTION:The Center for Cultural Studies Colloquium Series Presents: \nJacob Metcalf\, Science and Social Justice Postdoctoral Fellow\, UCSC\n“Meet Shmeat: Animal Biotechnologies and the Philosophical Tensions of the New Foods Movements” \nDoctor Metcalf is the Postdoctoral Fellow in an NSF-funded program training graduate students in interdisciplinary inquiry on the co-constitution of ethics and scientific knowledge. His research concerns the construction of ethical inquiry. He proposes new applied ethics methodologies that account for the boundaries drawn within techno-scientific apparatuses\, and asks how science and technology might become more responsive to the conditions and consequences of those boundaries. \nStaff support provided by the Institute for Humanities Research
URL:https://thi.ucsc.edu/event/jacob-metcalf-meet-shmeat-animal-biotechnologies-and-the-philosophical-tensions-of-the-new-foods-movements-2/
LOCATION:Stevenson Fireside Lounge\, Humanites 1 University of California\, Santa Cruz Cowell College\, Santa Cruz\, CA\, 95064\, United States
END:VEVENT
BEGIN:VEVENT
DTSTART;TZID=America/Los_Angeles:20110505T160000
DTEND;TZID=America/Los_Angeles:20110505T173000
DTSTAMP:20260422T170535
CREATED:20110311T210104Z
LAST-MODIFIED:20110311T210104Z
UID:10004567-1304611200-1304616600@thi.ucsc.edu
SUMMARY:Regine Basha: "Tuning Baghdad"
DESCRIPTION:Regine Basha has been an curator of contemporary art and art writer since the early 1990s. Her exhibition and writing history can be found on bashaprojects.com. Amongst her most recent projects is Tuning Baghdad\, an audio-visual forum for chronicling Iraqi-Jewish music scene and their house parties (based on her own background). This ongoing project brings to light the movement of this diasporic community and their displacement from Iraq as evidenced through their love of Arabic music and the Iraqi Maqam. Basha currently sits on the board of the foundation Art Matters (New York)\, Aurora Picture Show (Houston) and is a Curatorial Host to Cabinet Magazine’s new space in Gowanus\, Brooklyn. \nRegine Basha will discuss the background of Tuning Baghdad\, the decisions behind creating it online and not as a documentary\, and the future plans for the site. During the course of the talk\, she will show video\, play audio collages and present books related to the subject. If all goes according to plan\, a surprise guest may be invited to sing over Skype video. \nRegine Basha will give this talk in her capacity as visiting scholar at the Center for Jewish Studies. \nStaff support provided by the Institute for Humanities Research.
URL:https://thi.ucsc.edu/event/regine-basha-2/
LOCATION:Stevenson Fireside Lounge\, Humanites 1 University of California\, Santa Cruz Cowell College\, Santa Cruz\, CA\, 95064\, United States
END:VEVENT
BEGIN:VEVENT
DTSTART;TZID=America/Los_Angeles:20110505T180000
DTEND;TZID=America/Los_Angeles:20110505T194500
DTSTAMP:20260422T170535
CREATED:20110404T060213Z
LAST-MODIFIED:20110404T060213Z
UID:10004790-1304618400-1304624700@thi.ucsc.edu
SUMMARY:Living Writers Series: Jessica Hagedorn
DESCRIPTION:Jessica Hagedorn received her education at the American Conservatory Theater training program. To further pursue playwriting and music\, she moved to New York in 1978. Joseph Papp produced her first play Mango Tango in 1978. Hagedorn’s other productions include Tenement Lover\, Holy Food\, and Teenytown. Her mixed media style often incorporates song\, poetry\, images\, and spoken dialogue. Hagerdorn is the author of the novel Dogeaters\, which illuminates many different aspects of Filipino experience\, focusing on the influence of America through radio\, television\, and movie theaters\, and which earned a 1990 National Book Award nomination and an American Book Award. \nEach quarter\, the Living Writers Reading Series brings visiting authors and poets to UC Santa Cruz to give students an in-depth look into the world of the working writer.  Sponsored by Oakes College and the Porter Hitchcock Poetry Fund.
URL:https://thi.ucsc.edu/event/living-writers-series-jessica-hagedorn-2/
LOCATION:Humanities Lecture Hall\, Room 206\, UCSC Humanities Lecture Hall\, 1156 High Street\, Santa Cruz\, CA\, 95064\, United States
END:VEVENT
BEGIN:VEVENT
DTSTART;TZID=America/Los_Angeles:20110506T153000
DTEND;TZID=America/Los_Angeles:20110506T170000
DTSTAMP:20260422T170535
CREATED:20110401T192214Z
LAST-MODIFIED:20110401T192214Z
UID:10004576-1304695800-1304701200@thi.ucsc.edu
SUMMARY:Susanne Gahl: "Why So Short? Competing Explanations for Variation"
DESCRIPTION:Frequent or contextually-predictable words are often phonetically reduced\, e.g. shortened or produced with articulatory undershoot. Three common explanations for this phenomenon attribute phonetic reduction\, and pronunciation variation generally\, to variation in (1) intelligibility\, (2) speed of lexical access\, and (3) probabilistic properties of whole utterances. In this talk\, I discuss recent results (Gahl\, Yao & Johnson\, under review; Gahl\, in prep.) investigating the sources of pronunciation variation. While these results are consistent with speaker-internal approaches to variation\, I argue that they are best explained by moving beyond the listener vs. speaker dichotomy: Some perceptually-based effects are speaker-internal; and some production-based effects give rise to structured variation in intelligibility resulting in usable cues for recognition.
URL:https://thi.ucsc.edu/event/susanne-gahl-2/
LOCATION:Stevenson Fireside Lounge\, Humanites 1 University of California\, Santa Cruz Cowell College\, Santa Cruz\, CA\, 95064\, United States
END:VEVENT
END:VCALENDAR