BEGIN:VCALENDAR
VERSION:2.0
PRODID:-//The Humanities Institute - ECPv6.15.20//NONSGML v1.0//EN
CALSCALE:GREGORIAN
METHOD:PUBLISH
X-ORIGINAL-URL:https://thi.ucsc.edu
X-WR-CALDESC:Events for The Humanities Institute
REFRESH-INTERVAL;VALUE=DURATION:PT1H
X-Robots-Tag:noindex
X-PUBLISHED-TTL:PT1H
BEGIN:VTIMEZONE
TZID:America/Los_Angeles
BEGIN:DAYLIGHT
TZOFFSETFROM:-0800
TZOFFSETTO:-0700
TZNAME:PDT
DTSTART:20100314T100000
END:DAYLIGHT
BEGIN:STANDARD
TZOFFSETFROM:-0700
TZOFFSETTO:-0800
TZNAME:PST
DTSTART:20101107T090000
END:STANDARD
BEGIN:DAYLIGHT
TZOFFSETFROM:-0800
TZOFFSETTO:-0700
TZNAME:PDT
DTSTART:20110313T100000
END:DAYLIGHT
BEGIN:STANDARD
TZOFFSETFROM:-0700
TZOFFSETTO:-0800
TZNAME:PST
DTSTART:20111106T090000
END:STANDARD
BEGIN:DAYLIGHT
TZOFFSETFROM:-0800
TZOFFSETTO:-0700
TZNAME:PDT
DTSTART:20120311T100000
END:DAYLIGHT
BEGIN:STANDARD
TZOFFSETFROM:-0700
TZOFFSETTO:-0800
TZNAME:PST
DTSTART:20121104T090000
END:STANDARD
END:VTIMEZONE
BEGIN:VEVENT
DTSTART;TZID=America/Los_Angeles:20110516T140000
DTEND;TZID=America/Los_Angeles:20110516T153000
DTSTAMP:20260422T170659
CREATED:20110513T152353Z
LAST-MODIFIED:20110513T152353Z
UID:10004817-1305554400-1305559800@thi.ucsc.edu
SUMMARY:Jessica Enevold: "Mama Ludens vs Fanboi – What is wrong with the Gaming Revolution?"
DESCRIPTION:It has been hailed for a while\, in articles\, book introductions and sales reports: the gaming revolution. Fun for all is finally here and if we put our minds to it\, games may even save the world! Then\, what is wrong with the gaming revolution? The question can be read both as a complaint and a celebration of what is happening. This talk questions the gaming revolution by playfully pitting Mama Ludens vs Fan-boi\, here representing everyday playing practices of adult female gamers and conservative discursive elements of game culture\, in a symbolic battle over ludic fun. It nevertheless welcomes the gaming revolution as a cultural evolution\, but calls for a more profound and radical ludic revolution. \nJessica Enevold is Assistant Professor at the Department of Arts and Cultural Sciences\, section for ethnology at Lund University\, Sweden where she organizes the Digital Cultures and Games Lecture and Lab Series and works as course coordinator\, supervisor and teacher in the Master’s Program Applied Cultural Analysis (MACA). She runs the research projects “Gaming Moms: Juggling Time\, Play and Family Life” and “Games and Play – For Better For Worse”. She currently co-edits an anthology on Game Love and is the Managing Editor for the international journal Game Studies.
URL:https://thi.ucsc.edu/event/jessica-enevold-mama-ludens-vs-fanboi-what-is-wrong-with-the-gaming-revolution-2/
LOCATION:Engineering 2\, Room 599\,  Engineering 2\, 1156 High St‎ University of California Santa Cruz\, Santa Cruz\, CA\, 95064\, United States
END:VEVENT
BEGIN:VEVENT
DTSTART;TZID=America/Los_Angeles:20110517T120000
DTEND;TZID=America/Los_Angeles:20110517T133000
DTSTAMP:20260422T170659
CREATED:20110513T152819Z
LAST-MODIFIED:20110513T152819Z
UID:10004819-1305633600-1305639000@thi.ucsc.edu
SUMMARY:John Davison: "What will the games business look like in 5 years?"
DESCRIPTION:John Davison\, VP of programming at CBS Interactive – GameSpot and Metacritic\, will look at the way the audience for games is changing\, and how the games industry is adjusting and adapting to new tastes\, technology\, and trends. \nJohn Davison is VP of programming at CBS Interactive for GameSpot and Metacritic. Davison comes to CBS’ gaming properties from IDG’s GamePro\, where he served as Executive Vice President of Content. Davison’s career in game journalism spans nearly 20 years and includes high-ranking positions at outlets including Electronic Gaming Monthly\, the Official PlayStation Magazine\, and What They Play\, a family-focused consumer site which he founded and later sold to IGN Entertainment.
URL:https://thi.ucsc.edu/event/john-davison-what-will-the-games-business-look-like-in-5-years-2/
LOCATION:Media Theater\, M110
END:VEVENT
BEGIN:VEVENT
DTSTART;TZID=America/Los_Angeles:20110518T121500
DTEND;TZID=America/Los_Angeles:20110518T133000
DTSTAMP:20260422T170659
CREATED:20110313T195114Z
LAST-MODIFIED:20110313T195114Z
UID:10004786-1305720900-1305725400@thi.ucsc.edu
SUMMARY:Mark Franko: "Myth\, Nationalism\, and Embodiment in Martha Graham's American Document"
DESCRIPTION:The Center for Cultural Studies Colloquium Series Presents: \nMark Franko\, Dance and Performance Studies\, UCSC\n“Myth\, Nationalism\, and Embodiment in Martha Graham’s American Document“ \nProfessor Franko\, a UC Humanities Network Scholar\, is editor of Dance Research Journal\, founding editor of the Oxford Studies in Dance Theory book series\, and Director of the Center for Visual and Performance Studies at UCSC. He is finishing a book on Martha Graham in the 1940s (Oxford) supported by an NEH research fellowship and a UC President’s Research Fellowship. \nMark Franko is Professor of Dance and Performance Studies in Theater Arts at UCSC. \nStaff support provided by the Institute for Humanities Research
URL:https://thi.ucsc.edu/event/mark-franko-myth-nationalism-and-embodiment-in-martha-grahams-american-document-2/
LOCATION:Stevenson Fireside Lounge\, Humanites 1 University of California\, Santa Cruz Cowell College\, Santa Cruz\, CA\, 95064\, United States
END:VEVENT
BEGIN:VEVENT
DTSTART;TZID=America/Los_Angeles:20110518T140000
DTEND;TZID=America/Los_Angeles:20110518T170000
DTSTAMP:20260422T170659
CREATED:20110517T175343Z
LAST-MODIFIED:20110517T175343Z
UID:10004592-1305727200-1305738000@thi.ucsc.edu
SUMMARY:Professor William Ladusaw’s Vision for the Humanities
DESCRIPTION:University of California\, Santa Cruz \nHUMANITIES DEAN CANDIDATE PRESENTATION \nProfessor William Ladusaw’s Vision for the Humanities \nThe presentation will be followed by a brief question and answer session. Meetings will be held for Humanities Faculty\, Students\, and Staff\, beginning at 2:45PM \n2:00 – 2:45pm    Candidate Presentation \n2:45 – 3:30pm   Humanities Faculty and Department Chairs \n3:30 – 4:00pm   Humanities Graduate Students \n4:00 – 4:30pm   Humanities Undergraduate Students \n4:30 – 5:00pm   Humanities Staff & Department Managers
URL:https://thi.ucsc.edu/event/professor-william-ladusaws-vision-for-the-humanities-2/
LOCATION:Stevenson Fireside Lounge\, Humanites 1 University of California\, Santa Cruz Cowell College\, Santa Cruz\, CA\, 95064\, United States
END:VEVENT
BEGIN:VEVENT
DTSTART;TZID=America/Los_Angeles:20110519T090000
DTEND;TZID=America/Los_Angeles:20110519T160000
DTSTAMP:20260422T170659
CREATED:20110507T231534Z
LAST-MODIFIED:20110507T231534Z
UID:10004811-1305795600-1305820800@thi.ucsc.edu
SUMMARY:Literature Undergraduate Colloquium
DESCRIPTION:All members of the UCSC community and the general public are invited to attend the Twelfth Annual UCSC Literature Undergraduate Colloquium onThursday\, May 19\, 2011 in Humanities 1\, room 210. The Undergraduate Colloquium is a day-long event showcasing and celebrating undergraduate academic work in the Literature Department\, and is free and open to the public. Refreshments will be available throughout the day. For more information please see literature.ucsc.edu or call (831) 459-4778. \nThe colloquium schedule is as follows: \nOpening Remarks\n9:00 – 9:10 a.m.\nKaren Bassi\, Literature Department Chair \nPanel One: Morphologies\n9:10 – 10:30 a.m.\nModerator: John O. Jordan\nKirby A. Conrod\, Dialog and Morphology in the Novel\nNicole Green\, Explorations of the Nature of Reality in To the Lighthouse\nAshley Overhouse\, Read Between the Paratexts: Resistance in the 19th Century Race Novel\nAlicia Roll\, Poetic Inspiration \nPanel Two: Pacific Crossings\n10:45 a.m. – 12:05 p.m.\nModerator: Tim Yamamura\nAlyssa Benveniste\, The Body of a Woman: Exploring the Nation in Chang Rae Lee’s A Gesture Life\nDavid Manalo\, An Investigation Into The Literary Sublime of the 21st Century Asian Diaspora\nKyle Murphy\, Kerouac and Oriental Worlding \nLunch Buffet 12:10 – 12:55 p.m. \nPanel Three: Creative Writing\n1:00 – 2:20 p.m.\nModerator: Juliana Leslie\nJohan Flyvbjerg\, Flakes and Cherries\nKatharine Elyse Wheeler-Dubin\, Inside Games\nJessica Jones\, The Garden Not Forgotten \nPanel Four: Negotiating Identity\n2:30 – 3:50 p.m.\nModerator: A. Hunter Bivens\nJulia Franceschini\, Comic-book Cinema: How Maus Captures Reality\nBrenda Houser\, Zoot Suit: Pachuco Mythology and the Redefinition of Chicano Identity\nJessica Mead\, Liberating Cuba: The Use of Historical Romance to Imagine a Nation\nMegan Susman\, Jews\, Errants\, Disaster: From the Destruction of the Second Temple to Michael Chabon’s Kavalier and Clay
URL:https://thi.ucsc.edu/event/literature-undergraduate-colloquium-2/
LOCATION:Stevenson Fireside Lounge\, Humanites 1 University of California\, Santa Cruz Cowell College\, Santa Cruz\, CA\, 95064\, United States
END:VEVENT
BEGIN:VEVENT
DTSTART;TZID=America/Los_Angeles:20110519T170000
DTEND;TZID=America/Los_Angeles:20110519T190000
DTSTAMP:20260422T170659
CREATED:20110512T173349Z
LAST-MODIFIED:20110512T173349Z
UID:10004812-1305824400-1305831600@thi.ucsc.edu
SUMMARY:Emily Greenwood: "Regarding Priam: Reconciliation and Classical Reception"
DESCRIPTION:The UCSC Classical Studies Program and the President’s Chair in Ancient Studies present the annual Carl Deppe Lecture: \nIn light of David Malouf’s 2009 novel Ransom\, based on Priam’s supplication of Achilles in Book 24 of Homer’s Iliad\, the lecture will consider the figure of Priam as a vehicle for reconciling cultures and histories via the study of classical receptions\, paying particular attention to debates about restorative justice. \nEmily Greenwood is Associate Professor of Classics at Yale University. Her research interests include ancient Greek historiography\, Greek prose literature of the fifth and fourth centuries BCE\, twentieth century classical receptions (especially uses of Classics in Africa\, Britain\, the Caribbean\, and Greece)\, Classics and Postcolonialism\, and the theory and practice of translating the ‘classics’ of Greek and Roman literature. She is the author of Afro-Greeks: Dialogues Between Anglophone Caribbean Literature and Classics in the Twentieth Century (Oxford University Press\, 2010). \nReception to follow.
URL:https://thi.ucsc.edu/event/emily-greenwood-regarding-priam-reconciliation-and-classical-reception-2/
LOCATION:Cowell Provost House\,  Cowell Provost House\, Cowell Service Rd‎ University of California Santa Cruz\, Cowell College\, Santa Cruz\, CA\, 95064\, United States
END:VEVENT
BEGIN:VEVENT
DTSTART;TZID=America/Los_Angeles:20110519T190000
DTEND;TZID=America/Los_Angeles:20110519T210000
DTSTAMP:20260422T170659
CREATED:20110512T174554Z
LAST-MODIFIED:20110512T174554Z
UID:10004815-1305831600-1305838800@thi.ucsc.edu
SUMMARY:Film Screening: "La Carta: Sagrario nunca has muerto para mí"
DESCRIPTION:On Friday\, May 20th\, contributors to the book Terrorizing Women: Feminicide in the Américas\, will be speaking about their research and activism in the campaign to end feminicide in Mexico and on the borderlands.  The speakers will also address the human rights crisis in Mexico\, violence targeting human rights activists\, and the social movement for peace and an end to violence in Mexico. \nSpeakers:  Héctor Domínguez-Ruvalcaba (University of Texas at Austin)\, Eva Arce (Ciudad Juárez)\, Alma Gómez (Centro de Derechos Humanos\, Chihuahua City)\, and Cynthia Bejarano (New Mexico State University). \nTIME & PLACE: 12-2 PM @ Namaste Lounge\, College 9 \nOn Thursday evening\, May 19th\, there will be a screening: La Carta: Sagrario nunca has muerto para mí (English sub-titles) directed by Rafael Bonilla.  The film documents the life of Paula Bonilla Flores and her struggle for justice on behalf of her daughter and other murdered and disappeared women. \nQ&A with Paula Flores (director of Fundación María Sagrario and mother of feminicide victim\, María Sagrario González from Ciudad Juárez); and Hector Domínguez-Ruvalcaba (University of Texas\, Austin). \nTIME & PLACE: 7-9 PM @ Merrill College Cultural Center \nPlease note that ALL PROCEEDS FROM THE SALE OF THE BOOK\, Terrorizing Women: Feminicide in the Américas\, go to select organizations listed in www.stopterrorizingwomen.com \nSponsored by the Latin American and Latino Studies\, El Centro (Chicano/Latino Resource Center)\, Chicano/Latino Research Center\, and the Women’s Center.
URL:https://thi.ucsc.edu/event/film-screening-la-carta-sagrario-nunca-has-muerto-para-mi-2/
LOCATION:Cultural Center at Merrill\, Merrill Cultural Center\, UC Santa Cruz\, Merrill College\, Santa Cruz\, CA\, 95064\, United States
END:VEVENT
BEGIN:VEVENT
DTSTART;TZID=America/Los_Angeles:20110520T110000
DTEND;TZID=America/Los_Angeles:20110520T123000
DTSTAMP:20260422T170659
CREATED:20110513T153252Z
LAST-MODIFIED:20110513T153252Z
UID:10004821-1305889200-1305894600@thi.ucsc.edu
SUMMARY:Damon Brown: "Porn and Pong"
DESCRIPTION:McDonald’s has “Fast Food Nation\,” the fish industry has “Cod\,” but no book has successfully weaved the cautionary tales and humorous history of the world of video games into our modern society… until now. For “Porn and Pong” Playboy Magazine journalist Damon Brown spent five years exploring how the $20 billion video game industry traces our evolution in sexual mores\, technological dependence and personal interaction. The VCR and the dawn of the modern porn industry parallels the first Atari systems\, Reality TV skyrocketed the same year as The Sims\, and the surgically-endowed Pamela Anderson was only outshined by one other woman: Lara Croft. In one of the most stimulating moments\, Brown examines Presidential hopeful Hillary Rodham Clinton’s 2005 tirade against Grand Theft Auto\, and how politics\, hidden agendas and financial pressure affect all controversial art forms. \nDamon Brown writes about sex\, technology\, music and video games for Playboy\, New York Post and Family Circle\, and is the tech columnist for AARP Online and PlanetOut. He is the author of several books\, most recently Porn & Pong: How Grand Theft Auto\, Tomb Raider and Other Sexy Games Changed Our Culture. Damon has a Masters in Magazine Publishing from Chicago’s Northwestern University and a degree in Journalism and Computing from Detroit’s Oakland University. The Jersey native considers New Orleans\, Chicago and Lansing (Michigan) his hometowns\, but recently established his secret headquarters in Northern California.
URL:https://thi.ucsc.edu/event/damon-brown-porn-and-pong-2/
LOCATION:Engineering 2\, Simularium\, Room 180\, Baskin Engineering\, Santa Cruz\, CA\, 95064\, United States
END:VEVENT
BEGIN:VEVENT
DTSTART;TZID=America/Los_Angeles:20110520T120000
DTEND;TZID=America/Los_Angeles:20110520T140000
DTSTAMP:20260422T170659
CREATED:20110512T174140Z
LAST-MODIFIED:20110512T174140Z
UID:10004813-1305892800-1305900000@thi.ucsc.edu
SUMMARY:Gender Violence in Mexico
DESCRIPTION:On Friday\, May 20th\, contributors to the book Terrorizing Women: Feminicide in the Américas\, will be speaking about their research and activism in the campaign to end feminicide in Mexico and on the borderlands.  The speakers will also address the human rights crisis in Mexico\, violence targeting human rights activists\, and the social movement for peace and an end to violence in Mexico. \nSpeakers:  Héctor Domínguez-Ruvalcaba (University of Texas at Austin)\, Eva Arce (Ciudad Juárez)\, Alma Gómez (Centro de Derechos Humanos\, Chihuahua City)\, and Cynthia Bejarano (New Mexico State University). \nTIME & PLACE: 12-2 PM @ Namaste Lounge\, College 9 \nOn Thursday evening\, May 19th\, there will be a screening: La Carta: Sagrario nunca has muerto para mí (English sub-titles) directed by Rafael Bonilla.  The film documents the life of Paula Bonilla Flores and her struggle for justice on behalf of her daughter and other murdered and disappeared women. \nQ&A with Paula Flores (director of Fundación María Sagrario and mother of feminicide victim\, María Sagrario González from Ciudad Juárez); and Hector Domínguez-Ruvalcaba (University of Texas\, Austin). \nTIME & PLACE: 7-9 PM @ Merrill College Cultural Center \nPlease note that ALL PROCEEDS FROM THE SALE OF THE BOOK\, Terrorizing Women: Feminicide in the Américas\, go to select organizations listed in www.stopterrorizingwomen.com \nSponsored by the Latin American and Latino Studies\, El Centro (Chicano/Latino Resource Center)\, Chicano/Latino Research Center\, and the Women’s Center.
URL:https://thi.ucsc.edu/event/gender-violence-in-mexico-2/
LOCATION:Namaste Lounge – College 9\, Namaste Lounge\, Santa Cruz\, CA\, 95064\, United States
END:VEVENT
BEGIN:VEVENT
DTSTART;TZID=America/Los_Angeles:20110520T153000
DTEND;TZID=America/Los_Angeles:20110520T170000
DTSTAMP:20260422T170659
CREATED:20110425T214359Z
LAST-MODIFIED:20110425T214359Z
UID:10004585-1305905400-1305910800@thi.ucsc.edu
SUMMARY:Scott AnderBois: "What is a Question? An Answer from Yucatec Maya"
DESCRIPTION:The act of questioning is central to human conversation\, but how do we know if a given sentence is a question in the first place? Looking at English\, there are two reasonable accounts we might give. First\, questions are defined by their semantics: i.e. questions have a particular kind of meaning which is distinct from that of other sentences\, and\, in particular\, from assertions. Alternatively\, questions might be defined by their syntax: i.e. the form of questions make use of particular elements (e.g. question words like `who’\, `what’\, and `why’) which distinguish them from assertions. \nThis talk addresses the title question from the perspective of Yucatec Maya\, an indigenous language of Mexico spoken by roughly 800\,000 people. Questions in Yucatec Maya often have no single element in their form which distinguishes them from assertions. Rather\, they consist of particular combinations of elements\, each of which occurs on its own in sentences which are clearly not questions. To understand why such sentences are questions\, then\, requires a particular understanding of the meaning of these elements individually\, and of how these meanings interact in a given sentence. In so doing\, we not only shed light on the nature of questions across languages\, but also on the nature of the elements from which questions are built. \nScott AnderBois is a fifth year grad student in Linguistics. His dissertation research investigates the grammatical properties of questions and related constructions\, such as indefinite pronouns (i.e. words like ‘someone’\, ‘something’) whose function is to introduce issues for immediate or future conversation. In order to address these general questions\, Mr. AnderBois has been engaged in primary fieldwork on the properties of these constructions in Yukatek Maya\, an indigenous language of Mexico\, currently spoken by approximately 800\,000 people in the Yucatán Peninsula. Whereas questions in English are clearly identified by the presence of question words like ‘who’ and ‘what’\, analogous questions in Yukatek Maya are formed by placing a word which otherwise means ‘someone’ or ‘something’ in a particular position within the sentence. Expanding on this exploration of the tight relationship between indefinite pronouns and questions in Yukatek Maya\, Mr. AnderBois’s research sheds light on the meanings of both constructions as a general phenomenon in human language. \nThis event is made possible by the UC Society of Fellows and the UC Humanities Network.  Staff support provided by the Institute for Humanities Research\, UC Santa Cruz.
URL:https://thi.ucsc.edu/event/scott-anderbois-2/
LOCATION:Stevenson Fireside Lounge\, Humanites 1 University of California\, Santa Cruz Cowell College\, Santa Cruz\, CA\, 95064\, United States
END:VEVENT
END:VCALENDAR