BEGIN:VCALENDAR
VERSION:2.0
PRODID:-//The Humanities Institute - ECPv6.15.20//NONSGML v1.0//EN
CALSCALE:GREGORIAN
METHOD:PUBLISH
X-ORIGINAL-URL:https://thi.ucsc.edu
X-WR-CALDESC:Events for The Humanities Institute
REFRESH-INTERVAL;VALUE=DURATION:PT1H
X-Robots-Tag:noindex
X-PUBLISHED-TTL:PT1H
BEGIN:VTIMEZONE
TZID:America/Los_Angeles
BEGIN:DAYLIGHT
TZOFFSETFROM:-0800
TZOFFSETTO:-0700
TZNAME:PDT
DTSTART:20100314T100000
END:DAYLIGHT
BEGIN:STANDARD
TZOFFSETFROM:-0700
TZOFFSETTO:-0800
TZNAME:PST
DTSTART:20101107T090000
END:STANDARD
BEGIN:DAYLIGHT
TZOFFSETFROM:-0800
TZOFFSETTO:-0700
TZNAME:PDT
DTSTART:20110313T100000
END:DAYLIGHT
BEGIN:STANDARD
TZOFFSETFROM:-0700
TZOFFSETTO:-0800
TZNAME:PST
DTSTART:20111106T090000
END:STANDARD
BEGIN:DAYLIGHT
TZOFFSETFROM:-0800
TZOFFSETTO:-0700
TZNAME:PDT
DTSTART:20120311T100000
END:DAYLIGHT
BEGIN:STANDARD
TZOFFSETFROM:-0700
TZOFFSETTO:-0800
TZNAME:PST
DTSTART:20121104T090000
END:STANDARD
END:VTIMEZONE
BEGIN:VEVENT
DTSTART;VALUE=DATE:20110528
DTEND;VALUE=DATE:20110530
DTSTAMP:20260423T055648
CREATED:20101013T030030Z
LAST-MODIFIED:20101013T030030Z
UID:10004628-1306540800-1306713540@thi.ucsc.edu
SUMMARY:Music and Greek Drama: History\, Theory\, and Practice
DESCRIPTION:University of California\, Santa Cruz Presents:\nMusic and Greek Drama: History\, Theory\, and Practice\nAn International Conference\n \nIn connection with the UCSC Theater Arts production of Orestes Terrorist\,\na new version of Euripides’ Orestes by Mary-Kay Gamel\,\nMainstage Theater\, UCSC\, May 20-29\n \nMay 28-29\, 2011\nCollege 8\, Room 240\n \nScholars and theater practitioners will discuss how music affects the meaning and impact of dramatic performance ancient and modern. How do scholars and musicians reconstruct the likely sounds and styles of ancient Greek music and dance? How did the music of the Athenian theater respond to\, and in turn shape\, the socio-cultural trends and political controversies of the day? What can and should be the role of music in modern productions of Greek drama? The use of music in the theatrical production of Orestes Terrorist will serve as a case study.\n \nKeynote Address by Peter Kivy\, Rutgers University\n \nSpeakers\nAmy R. Cohen\, Randolph College\nPhilip Collins\, New Music Works\, Santa Cruz\nMichael Ewans\, University of Newcastle\nJohn C. Franklin\, University of Vermont\nMary-Kay Gamel\, UC Santa Cruz\nMark Griffith\, UC Berkeley\nStefan Hagel\, Austrian Academy of Sciences\nRobert Ketterer\, University of Iowa\nPauline Le Van\, Yale University\nFiona Macintosh\, University of Oxford\nC.W. Marshall\, University of British Columbia\nDonald Mastronarde\, UC Berkeley\nLucia Prauscello\, University of Cambridge\nDanny Scheie\, UC Santa Cruz\nAndrew Simpson\, Catholic University of America\n \nThis conference is presented by University of California Humanities Research Institute\, with generous support from the Klio Distinguished Professorship\, UC Berkeley; Institute for Humanities Research\, UCSC; Committee on Research\, UCSC.\nFor further information\, including disabled access\, contact Courtney Mahaney at the UCSC Institute for Humanities Research\, cmahaney@ucsc.edu\, (831) 459-3527; web: http://ihr.ucsc.edu/. Maps: http://maps.ucsc.edu. Staffing provided by the UCSC Institute for Humanities Research.
URL:https://thi.ucsc.edu/event/music-in-greek-tragedy-2/
LOCATION:College 8\, Room 240\,  College Eight 1156 High Street\, Santa Cruz\, CA\, 95064\, United States
END:VEVENT
BEGIN:VEVENT
DTSTART;TZID=America/Los_Angeles:20110531T100000
DTEND;TZID=America/Los_Angeles:20110531T130000
DTSTAMP:20260423T055648
CREATED:20110310T183944Z
LAST-MODIFIED:20110310T183944Z
UID:10004563-1306836000-1306846800@thi.ucsc.edu
SUMMARY:Humanities Undergraduate Research Award Presentations
DESCRIPTION:Recipients of this years Humanities Undergraduate Research Award (HUGRA) will be presenting their projects during Student Achievement week. All are welcome and encouraged to support these students!\n  \nIn 1996\, the Humanities Division began awarding undergraduate students to support and encourage innovative research projects.   This year’s Humanities Undergraduate Research Awards (HUGRA) symposium brings together a unique blend of projects ranging from historical narratives to linguistic experimentations.
URL:https://thi.ucsc.edu/event/humanities-undergraduate-research-award-presentations-2/
LOCATION:Stevenson Fireside Lounge\, Humanites 1 University of California\, Santa Cruz Cowell College\, Santa Cruz\, CA\, 95064\, United States
END:VEVENT
BEGIN:VEVENT
DTSTART;VALUE=DATE:20110601
DTEND;VALUE=DATE:20110602
DTSTAMP:20260423T055648
CREATED:20110602T152930Z
LAST-MODIFIED:20110602T152930Z
UID:10004598-1306886400-1306972799@thi.ucsc.edu
SUMMARY:Teach-In on Islamaphobia: Between the War on Terror and Arab Revolution
DESCRIPTION:Speakers:\nSnehal Shingavi\, English and South Asian Studies\, UT Austin\nZahra Billoo\, Council on American-Islamic Relations \nWednesday\, June 1\n6 p.m.\nKresge Town Hall \nSnehal Shingavi is Assistant Professor in the Department of English at the University of Texas\, Austin. He got his PhD from UC Berkeley where he was involved in a number of social justice campaigns. He was a shop steward for the Association of Graduate Student Employees (AGSE/UAW local 2865)\, a participant in the 1999 strike for Ethnic Studies organized by the third world Liberation Front (twLF)\, a member of the International Socialist Organization\, a member of the Campaign to the End Death Penalty (CEDP)\, an organizer against the NATO bombing of Yugoslavia\, a former member of the coordinating committee of the United Students Against Sweatshops (USAS)\, a participant in the 2000 antiglobalization protests and the protest at the Democratic National Convention in LA\, a founding member of the Students for Justice in Palestine (SJP)\, a founding member of the Berkeley Stop the War Coalition (BSTW) which organized against the wars in both Afghanistan and Iraq\, a member of Friends of South Asia (FOSA)\, a member of the Students for Nader campaign in 2000\, campaign manager for Aimee Allison – Green Party candidate for Oakland City Council in 2006\, a member of the Texas State Employees Union (TSEU CWA local 6186)\, and the Stop the Cuts Coalition at the University of Texas. He has published pieces in The Nation\, Counterpunch\, Z Magazine\, and the International Socialist Review\, and has appeared on Democracy Now\, Flashpoints with Dennis Bernstein\, the Real News Network\, as well as on MSNBC\, CNN\, and Fox News. \nA community organizer and labor and civil rights advocate committed to promoting justice and understanding at local and national levels\, Zahra Billoo is Executive Director for the CAIR San Francisco Bay Area (CAIR-SFBA) chapter. She frequently provides trainings at local mosques and universities as part of CAIR’s efforts to empower the community\, while building bridges with allies on key civil rights issues. At her direction\, CAIR-SFBA filed a lawsuit against the Department of Justice challenging their warrantless use of GPS tracking devices to target American Muslims. Her work with CAIR-SFBA has been highlighted in local and national media outlets. Most notably\, she made waves when she appeared on FOX O’Reilly Factor to discuss invasive TSA practices. As an undergraduate\, she worked with the California Faculty Association on issues including faculty salaries and the defunding of public higher education. A 2010 recipient of the San Francisco Minority Bar Coalition’s Unity Award\, she earned her J.D. from UC Hastings. \nCo-sponsored by Asian Diasporas Research Cluster of the Institute for Humanities Research\, UC Center for New Racial Studies\, Ethnic Resource Centers\, Asian American and Pacific Islander Resource Center\, Muslim Student Association\, Olive Tree Initiative\, Committee for Justice in Palestine\, Resource Center for Nonviolence\, Palestine-Israel Action Committee. \nThis event is free and open to the public.
URL:https://thi.ucsc.edu/event/teach-in-on-islamaphobia-between-the-war-on-terror-and-arab-revolution-2/
LOCATION:Kresge Town Hall
END:VEVENT
BEGIN:VEVENT
DTSTART;TZID=America/Los_Angeles:20110601T121500
DTEND;TZID=America/Los_Angeles:20110601T133000
DTSTAMP:20260423T055648
CREATED:20110313T195908Z
LAST-MODIFIED:20110313T195908Z
UID:10004568-1306930500-1306935000@thi.ucsc.edu
SUMMARY:Erik Butler: "The Ruse of Faith: Spiritual Politics in Der Nister's Soviet Symbolism"
DESCRIPTION:The Center for Cultural Studies Colloquium Series and the Center for Jewish Studies Present: \nErik Butler\, German Studies\, Emory University\n“The Ruse of Faith: Spiritual Politics in Der Nister’s Soviet Symbolism” \nProfessor Butler has published Metamorphoses of the Vampire in Literature and Film (Camden House\, 2010) and The Bellum Grammaticale and the Rise of European Literature (Ashgate\, 2010). His translation of Der Nister’s Regrowth (Vidervuks) is forthcoming (Northwestern\, 2011). The current book\, Cruelty and Mystification\, explores violence and ruse in modernist fiction. \nErik Butler is Assistant Professor of German Studies at Emory University. \nStaff support provided by the Institute for Humanities Research
URL:https://thi.ucsc.edu/event/erik-butler-the-ruse-of-faith-spiritual-politics-in-der-nisters-soviet-symbolism-2/
LOCATION:Stevenson Fireside Lounge\, Humanites 1 University of California\, Santa Cruz Cowell College\, Santa Cruz\, CA\, 95064\, United States
END:VEVENT
BEGIN:VEVENT
DTSTART;TZID=America/Los_Angeles:20110604T090000
DTEND;TZID=America/Los_Angeles:20110604T190000
DTSTAMP:20260423T055648
CREATED:20110528T193141Z
LAST-MODIFIED:20110528T193141Z
UID:10004596-1307178000-1307214000@thi.ucsc.edu
SUMMARY:Between the Disciplines
DESCRIPTION:Please join us on June 4th in Humanities I\, room 210 as we take the opportunity presented by the current state of crisis to evaluate and re-imagine interdisciplinary work as both a project and an enterprise. Now that interdisciplinarity has itself become something of a philosopher’s stone\, a general panacea for the woes and wiles of University research\, what is it that those of us engaged in interdisciplinary research are doing and how does that fit in the remaking of University research and education? As the disciplines themselves seek to dissolve their disciplinary boundaries\, what sort of work could justify the continued existence of a space and a program that aims to investigate what is left out or discouraged in disciplinary work? And\, further\, what is the status of disciplinary work itself? As cuts to public higher education and shifting administrative priorities threaten to sink Interdisciplinary programs across the country\, we might use this occasion as an opportunity to grasp the foundations and delicate lineaments of the Interdisciplinary project. \n9-10: breakfast \n10-11:30 – Questioning Crisis: Adam Dylan Hefty (Valences of Discipline in the Times of Imperiled Institutions)\, Surya Parekh (Graduate Work)\, and Mario Diaz-Perez (Max Weber and the Crises of the Sciences) \n11:45-1:15 – Articulating Histories: Todd Chretien (Listening to the Subaltern Speak: Methods for Recovering History)\, Joshua Brahinsky (Tentative Musings on the Friction Between Disciplines when Making Resistances from Speaking Tongues)\, and Fritzie de Mata (Dead Bodies and the Balikbayan Boxes: Unpacking Spatial Linkages in the Subaltern Pacific) \n2:15-3:45 – Perceiving Violence: Maya Gonzalez (On Primitive Accumulation)\, Steve Carter (Military Reading as Interdisciplinary Approach)\, Aaron Reed (What If I’m the Bad Guy) \n4-5:30 – Thinking With/Partaking in the World: Madeline McDonald (On the Problem of Utopias: Toward an Edge-Topology of ‘Post-Sixties Narratives’)\, Erin Ellison (The Girls are Alright: Addressing Gendered Power Dynamics Within a Youth Participatory Action Research Setting)\, Joshua LaBare (The Ecology of Everyday Life) \n5:45-6:45 – Symposium of HistCon Alumni \n6:45-following – refreshments
URL:https://thi.ucsc.edu/event/between-the-disciplines-2/
LOCATION:Stevenson Fireside Lounge\, Humanites 1 University of California\, Santa Cruz Cowell College\, Santa Cruz\, CA\, 95064\, United States
END:VEVENT
END:VCALENDAR