BEGIN:VCALENDAR
VERSION:2.0
PRODID:-//The Humanities Institute - ECPv6.15.20//NONSGML v1.0//EN
CALSCALE:GREGORIAN
METHOD:PUBLISH
X-ORIGINAL-URL:https://thi.ucsc.edu
X-WR-CALDESC:Events for The Humanities Institute
REFRESH-INTERVAL;VALUE=DURATION:PT1H
X-Robots-Tag:noindex
X-PUBLISHED-TTL:PT1H
BEGIN:VTIMEZONE
TZID:America/Los_Angeles
BEGIN:DAYLIGHT
TZOFFSETFROM:-0800
TZOFFSETTO:-0700
TZNAME:PDT
DTSTART:20110313T100000
END:DAYLIGHT
BEGIN:STANDARD
TZOFFSETFROM:-0700
TZOFFSETTO:-0800
TZNAME:PST
DTSTART:20111106T090000
END:STANDARD
BEGIN:DAYLIGHT
TZOFFSETFROM:-0800
TZOFFSETTO:-0700
TZNAME:PDT
DTSTART:20120311T100000
END:DAYLIGHT
BEGIN:STANDARD
TZOFFSETFROM:-0700
TZOFFSETTO:-0800
TZNAME:PST
DTSTART:20121104T090000
END:STANDARD
BEGIN:DAYLIGHT
TZOFFSETFROM:-0800
TZOFFSETTO:-0700
TZNAME:PDT
DTSTART:20130310T100000
END:DAYLIGHT
BEGIN:STANDARD
TZOFFSETFROM:-0700
TZOFFSETTO:-0800
TZNAME:PST
DTSTART:20131103T090000
END:STANDARD
END:VTIMEZONE
BEGIN:VEVENT
DTSTART;TZID=America/Los_Angeles:20121031T121500
DTEND;TZID=America/Los_Angeles:20121031T140000
DTSTAMP:20260421T031649
CREATED:20121023T171710Z
LAST-MODIFIED:20121023T171710Z
UID:10005166-1351685700-1351692000@thi.ucsc.edu
SUMMARY:Jenny Reardon: "The Post-Genomic Condition: Ethics\, Justice\, Knowledge after the Genome"
DESCRIPTION:Jenny Reardon is currently working on a manuscript entitled The Post-Genomic Condition: Ethics\, Justice\, Knowledge after the Genome. This book traces the efforts to transform genomics from a fields that in the 1990s sparked fears of racism and dehumanization to one that todays claims the banners of democracy and justice. \nJenny Reardon is Associate Professor of Sociology\, Faculty Affiliate in the Center for Biomolecular Sciences\, Director of the Science and Justice Research Center\, and the Co-Director of the Science and Justice Training Program at UC Santa Cruz.
URL:https://thi.ucsc.edu/event/jenny-reardon-the-post-genomic-condition-ethics-justice-knowledge-after-the-genome-3/
LOCATION:Stevenson Fireside Lounge\, Humanites 1 University of California\, Santa Cruz Cowell College\, Santa Cruz\, CA\, 95064\, United States
END:VEVENT
BEGIN:VEVENT
DTSTART;TZID=America/Los_Angeles:20121031T190000
DTEND;TZID=America/Los_Angeles:20121031T210000
DTSTAMP:20260421T031649
CREATED:20121030T185534Z
LAST-MODIFIED:20121030T185534Z
UID:10005200-1351710000-1351717200@thi.ucsc.edu
SUMMARY:World Melodrama Film Series - Aventurera
DESCRIPTION:Aventurera (1950; dir. Alberto Gout) Mexico \nEvan Calder Williams and Erik Bachman in the Literature Department are running a new film series this quarter on world melodrama\, from all across the globe in the 20th century. All are welcome. Every Wednesday at 7pm. Contact: evanw@ucsc.edu
URL:https://thi.ucsc.edu/event/world-melodrama-film-series-aventurera-3/
LOCATION:Social Sciences I\, Room 110\,  Social Sciences 1‎ University of California Santa Cruz\, Santa Cruz\, CA\, 95064\, United States
END:VEVENT
BEGIN:VEVENT
DTSTART;TZID=America/Los_Angeles:20121101T120000
DTEND;TZID=America/Los_Angeles:20121101T130000
DTSTAMP:20260421T031649
CREATED:20121030T214408Z
LAST-MODIFIED:20121030T214408Z
UID:10005238-1351771200-1351774800@thi.ucsc.edu
SUMMARY:Funding Database Workshop
DESCRIPTION:Come learn how to navigate the Community of Science database to best aid your research funding explorations. This database is the best way to search and track funding opportunities that fit your exact research areas and funding needs. \n1) It is easy to use. All you need is a ucsc email account to log in.\n2) It contains the most comprehensive listing of funding opportunities in all fields\, billions of dollars worth of funding.\n3) It has RSS feeds\, one of which is Humanities and Social Science Funding News.\n4) The searches are sophisticated and can be customized just for you. \nPlease join us. You will be amazed at what’s in there.
URL:https://thi.ucsc.edu/event/funding-database-workshop-3/
LOCATION:Stevenson Fireside Lounge\, Humanites 1 University of California\, Santa Cruz Cowell College\, Santa Cruz\, CA\, 95064\, United States
END:VEVENT
BEGIN:VEVENT
DTSTART;TZID=America/Los_Angeles:20121101T180000
DTEND;TZID=America/Los_Angeles:20121101T194500
DTSTAMP:20260421T031649
CREATED:20121023T174246Z
LAST-MODIFIED:20121023T174246Z
UID:10005179-1351792800-1351799100@thi.ucsc.edu
SUMMARY:The Living Writers Reading Series: Peter Orner
DESCRIPTION:Into Archives—Across Genres is a reading/performance series featuring poets\, critics\, memoirists\, activists\, visual artists\, essayists\, short story writers\, and novelists who mine various archives to investigate race\, gender\, sexuality\, and class. Writing across multiple disciplines – whether via the epistle\, film & photo essay\, poem\, story\, collage or hybrid text – these authors mine history and present day experience\, exploring and complicating the possibilities and features of genre in their art. \nPeter Orner is the author of four books of fiction including\, Love and Shame and Love\, a New York Times Editor’s Choice Book\, and The Second Coming of Mavala Shikongo\, winner of the Bard Fiction Prize. His first book\, Esther Stories\, will be re-issued next year with a forward by Marilynne Robinson. His latest collection\, Last Car Over the Sagamore Bridge will also be published next year. Recepient of a Guggenheim Fellowship\, Orner is a professor of creative writing at San Francisco State University. \nCo-Sponsored by Porter College George Hitchcock Poetry Fund; Poets & Writers through the grant from the James Irvine Foundation; Asian American/Pacific Islander Resource Center; Literature Department and the Creative Writing Program; UC Presidential Chair Feminist Critical Race & Ethnic Studies; Music Department; Laurie Sain Creative Writing Endowment; The Ethnic Resource Centers and the African American Resource & Cultural Center; Institute for Humanities Research.
URL:https://thi.ucsc.edu/event/the-living-writers-reading-series-peter-orner-3/
LOCATION:Humanities Lecture Hall\, Room 206\, UCSC Humanities Lecture Hall\, 1156 High Street\, Santa Cruz\, CA\, 95064\, United States
END:VEVENT
BEGIN:VEVENT
DTSTART;TZID=America/Los_Angeles:20121101T190000
DTEND;TZID=America/Los_Angeles:20121101T210000
DTSTAMP:20260421T031649
CREATED:20121023T000153Z
LAST-MODIFIED:20121023T000153Z
UID:10005164-1351796400-1351803600@thi.ucsc.edu
SUMMARY:Satyajit Ray Film Series: Pather Panchali ("Song of the Road")
DESCRIPTION:Satyajit Ray is regarded as one of the greatest filmmakers of the 20th century. The Ray Film and Study Center (RayFASC) is newly located at Crown College and holds the largest collections of Ray’s films outside of India. \nPlease join us for a showing of Pather Panchali (“Song of the Road”)\, with an introduction by Dr. Dilip Basu\, Founding Director of RayFASC.
URL:https://thi.ucsc.edu/event/satyajit-ray-film-series-pather-panchali-song-of-the-road-3/
LOCATION:Crown Fireside Lounge\, Fireside Lounge‎ University of California Santa Cruz\, Crown College\, Santa Cruz\, CA\, 95064\, United States
END:VEVENT
BEGIN:VEVENT
DTSTART;TZID=America/Los_Angeles:20121102T140000
DTEND;TZID=America/Los_Angeles:20121102T170000
DTSTAMP:20260421T031649
CREATED:20121101T163314Z
LAST-MODIFIED:20121101T163314Z
UID:10004730-1351864800-1351875600@thi.ucsc.edu
SUMMARY:Lewis Watts: New Orleans Suite\, First Friday - Curator's Walk Through
DESCRIPTION:New Orleans Suite presents a window into the landscape of life in New Orleans before and after Hurricane Katrina. Vivid black and white photography exposes the contrast of devastation and humanity in such a rich sector of American jazz culture. Additionally the gallery will showcase some of Watts’ new work from Cuba\, where he is continuing his photographic research \nLewis Watts is a photographer\, archivist and Professor of Art at the University of California\, Santa Cruz. He is co-author of “Harlem of the West\, The San Francisco Fillmore Jazz Era” which consists of found photographs and oral histories of an African American Community that sprang up as a result of the migration west during WW II and that was “urban renewed” out of existence in the late 1960s. He is also the co-author with Professor Eric Porter of “New Orleans Suite” scheduled for publication by the University of California Press in 2013. \nNew Orleans Suite will be at the Sesnon Gallery from October 3 – November 21\, 2012. \nOther programming includes:\n* Ongoing every Wed. eve 5-8p open mic for jazz groups\, film and photography discussions\n* Sunday\, November 4 at 4:00pm – special weekend event featuring music from Cuba\, Flor de Caña \nMore information available at Sesnon Gallery web site – http://art.ucsc.edu/galleries/sesnon/current
URL:https://thi.ucsc.edu/event/lewis-watts-new-orleans-suite-first-friday-curators-walk-through-3/
LOCATION:Mary Porter Sesnon Art Gallery
END:VEVENT
BEGIN:VEVENT
DTSTART;TZID=America/Los_Angeles:20121102T160000
DTEND;TZID=America/Los_Angeles:20121102T173000
DTSTAMP:20260421T031649
CREATED:20121029T162239Z
LAST-MODIFIED:20121029T162239Z
UID:10004727-1351872000-1351877400@thi.ucsc.edu
SUMMARY:Ben Munson: "Perceived gender and fricative identification"
DESCRIPTION:Two theoretical problems have stood at the core of psycholinguistic research in syntactic comprehension: (1) the resolution of local ambiguity; and (2) syntactic complexity\, or the difficulty incurred in processing locally unambiguous structures. This talk describes a unified treatment of these two problems through the theory of surprisal\, which proposes that comprehenders rationally deploy probabilistic knowledge to yield variability in word-by-word processing difficulty that reflects a wide range of evidential information sources. I present computational modeling and experimental studies showing how surprisal effects account for a range of both garden-path ambiguity resolution and syntactic complexity effects\, and give empirical evidence for the specific quantitative relationship between subjective probability and processing difficulty — as measured by word-by-word reading times — proposed by surprisal theory. For problems of syntactic complexity I compare the predictions of surprisal theory to those of theories positing a primary role of distance-sensitive locality due to memory constraints\, and present new empirical data from studies on German and Russian syntactic processing that provide evidence of both surprisal and locality effects. I close with speculation on possible ways forward toward a unified theory of probabilistic knowledge and memory constraints in incremental sentence comprehension. \nBen Munson is Associate Professor and Director of Graduate Studies in the Department of Speech-Language-Hearing Sciences at the University of Minnesota.
URL:https://thi.ucsc.edu/event/ben-munson-perceived-gender-and-fricative-identification-3/
LOCATION:Santa Cruz\, CA\, 95064\, United States
END:VEVENT
END:VCALENDAR