BEGIN:VCALENDAR
VERSION:2.0
PRODID:-//The Humanities Institute - ECPv6.15.20//NONSGML v1.0//EN
CALSCALE:GREGORIAN
METHOD:PUBLISH
X-WR-CALNAME:The Humanities Institute
X-ORIGINAL-URL:https://thi.ucsc.edu
X-WR-CALDESC:Events for The Humanities Institute
REFRESH-INTERVAL;VALUE=DURATION:PT1H
X-Robots-Tag:noindex
X-PUBLISHED-TTL:PT1H
BEGIN:VTIMEZONE
TZID:America/Los_Angeles
BEGIN:DAYLIGHT
TZOFFSETFROM:-0800
TZOFFSETTO:-0700
TZNAME:PDT
DTSTART:20120311T100000
END:DAYLIGHT
BEGIN:STANDARD
TZOFFSETFROM:-0700
TZOFFSETTO:-0800
TZNAME:PST
DTSTART:20121104T090000
END:STANDARD
BEGIN:DAYLIGHT
TZOFFSETFROM:-0800
TZOFFSETTO:-0700
TZNAME:PDT
DTSTART:20130310T100000
END:DAYLIGHT
BEGIN:STANDARD
TZOFFSETFROM:-0700
TZOFFSETTO:-0800
TZNAME:PST
DTSTART:20131103T090000
END:STANDARD
BEGIN:DAYLIGHT
TZOFFSETFROM:-0800
TZOFFSETTO:-0700
TZNAME:PDT
DTSTART:20140309T100000
END:DAYLIGHT
BEGIN:STANDARD
TZOFFSETFROM:-0700
TZOFFSETTO:-0800
TZNAME:PST
DTSTART:20141102T090000
END:STANDARD
END:VTIMEZONE
BEGIN:VEVENT
DTSTART;TZID=America/Los_Angeles:20130220T120000
DTEND;TZID=America/Los_Angeles:20130220T140000
DTSTAMP:20260419T232333
CREATED:20130201T000833Z
LAST-MODIFIED:20130201T000833Z
UID:10005348-1361361600-1361368800@thi.ucsc.edu
SUMMARY:American Indian Writers Series: Rain Archambeau-Marshall
DESCRIPTION:Rain L. Archambeau Marshall (Yankton/Choctaw) is an attorney and professor in Native American Environmental Studies at Humboldt State University. Formerly Attorney General for the Rosebud Sioux tribe\, Rain is a American Civil Liberties Union Ira Glasser Racial Justice Fellow. She will speak on civil rights in education. \nThis project is co-sponsored by the American Indian Resource Center\, Care Council\, The Departments of American Studies\, Literature\, and the UC Presidential Chair in Feminist Critical Race and Ethnic Studies.
URL:https://thi.ucsc.edu/event/american-indian-writers-series-rain-archambeau-marshall-2/
LOCATION:Cervantes & Velasquez Room\, Baytree Conference Center\, Bay Tree Conference Center\, UC Santa Cruz\, CA\, 95064\, United States
END:VEVENT
BEGIN:VEVENT
DTSTART;TZID=America/Los_Angeles:20130220T121500
DTEND;TZID=America/Los_Angeles:20130220T140000
DTSTAMP:20260419T232333
CREATED:20121113T233612Z
LAST-MODIFIED:20121113T233612Z
UID:10005242-1361362500-1361368800@thi.ucsc.edu
SUMMARY:Janette Dinishak: "Autism & Neurodiversity"
DESCRIPTION:Janette Dinishak’s work explores how Wittgenstein’s concept “noticing an aspect” can provide a frame for capturing and understanding commonly neglected phenomena that are characteristic of autistic experience. She also traces the inter-relations between scientific\, cultural\, and first-person perspectives on autism and how these perspectives interact in shaping our understanding of autism. \nJanette Dinishak is Visiting Assistant Professor of Philosophy at UC Santa Cruz.
URL:https://thi.ucsc.edu/event/ccs-janette-dinishak-3/
LOCATION:Stevenson Fireside Lounge\, Humanites 1 University of California\, Santa Cruz Cowell College\, Santa Cruz\, CA\, 95064\, United States
END:VEVENT
BEGIN:VEVENT
DTSTART;TZID=America/Los_Angeles:20130220T153000
DTEND;TZID=America/Los_Angeles:20130220T170000
DTSTAMP:20260419T232333
CREATED:20130117T233158Z
LAST-MODIFIED:20130117T233158Z
UID:10005320-1361374200-1361379600@thi.ucsc.edu
SUMMARY:Creative Writing Reading by Amaranth Borsuk
DESCRIPTION:Amaranth Borsuk is the author of Handiwork (Slope\, 2012)\, selected by Paul Hoover for the 2011 Slope Books Prize\, and\, together with programmer Brad Bouse\, of Between Page and Screen (Siglio\, 2012)\, a book of augmented-reality poems. In 2010\, her chapbook-length erasure\, Tonal Saw\, was published by The Song Cave. Her poems\, essays\, translations and reviews have appeared widely in print and online\, and pieces have recently appeared or are forthcoming in The Chicago Review\, Spoon River Poetry Review\, American Letters & Commentary\, and The Sonnets: Translating and Rewriting Shakespeare. Her intermedia project Abra\, a hybrid book-performance collaboration with Kate Durbin\, Zach Kleyn\, and Ian Hatcher\, recently received an Expanded Artists’ Books grant from the Center for Book and Paper Arts in Chicago and will be issued as an artist’s book and iOS app in fall of 2013. She teaches in the MFA in Creative Writing and Poetics at the University of Washington\, Bothell.
URL:https://thi.ucsc.edu/event/creative-writing-reading-by-amaranth-borsuk-2/
LOCATION:Stevenson Fireside Lounge\, Humanites 1 University of California\, Santa Cruz Cowell College\, Santa Cruz\, CA\, 95064\, United States
END:VEVENT
BEGIN:VEVENT
DTSTART;TZID=America/Los_Angeles:20130220T160000
DTEND;TZID=America/Los_Angeles:20130220T180000
DTSTAMP:20260419T232333
CREATED:20130201T001535Z
LAST-MODIFIED:20130201T001535Z
UID:10005349-1361376000-1361383200@thi.ucsc.edu
SUMMARY:American Indian Writers Series: Rain Gomez
DESCRIPTION:Rain Gomez won the 2009 First Book Award in poetry for Smoked Mullet Cornbread Crawdad Memory (Mongrel Empire Press\, Fall 2012). A self described “TriRacially Fluffy and Fabulous” Louisiana Méstiza\,poet\, academic and musician.Her critical work\, “Brackish Bayou Blood: Weaving Mixed Blood Indian Creole Identity Outside the Written Record\,” appears in American Indian Culture and Research Journal. \nThis project is co-sponsored by the American Indian Resource Center\, Care Council\, The Departments of American Studies\, Literature\, and the UC Presidential Chair in Feminist Critical Race and Ethnic Studies.
URL:https://thi.ucsc.edu/event/american-indian-writers-series-rain-gomez-2/
LOCATION:Ethnic Resource Lounge\, Bay Tree Conference Center\, Bay Tree Conference Center\, Santa Cruz\, CA\, 95064\, United States
END:VEVENT
BEGIN:VEVENT
DTSTART;TZID=America/Los_Angeles:20130221T120000
DTEND;TZID=America/Los_Angeles:20130221T140000
DTSTAMP:20260419T232333
CREATED:20130216T020626Z
LAST-MODIFIED:20130216T020626Z
UID:10005371-1361448000-1361455200@thi.ucsc.edu
SUMMARY:Joseph Sabbagh: "Specificity and Objecthood in Tagalog"
DESCRIPTION:LINGUISTICS COLLOQUIUM\nJoseph Sabbagh (UT Arlington) \nCurrent analyses of the syntax of transitive constructions in Tagalog (Austronesian\, Philippines) are constructed around the claim that the theme argument of a transitive verb\, if it is semantically specific\, must be realized as the subject of a ‘theme-subject’ clause. In reality\, a specific theme may be realized in one of three different ways: (i) as the subject of a ‘theme-subject’ clause; (ii) as an oblique-marked direct object of an `actor-subject’ clause; or (iii) as an “ordinary” (genitive marked) direct object of an ‘actor-subject’ clause. Which of these options is available depends on the type of theme involved: Option(iii) is not available for pronouns or proper nouns\, but is available for other specific and non-specific themes; options (i) and (ii) are unavailable for non-specific themes; and all three are available for all other types of specific theme. \nUnderlying these different morpho-syntactic options\, I argue\, is a clause structure in which there are at least three distinct syntactic positions available for theme arguments. Pronoun and proper noun themes obligatorily occur in the highest of these three positions (a position that is above the external argument)\, while non-specific themes occupy the lowest of these positions (the base/theta-position of the theme). Otherspecific themes occupy an intermediate position within vP (below the external argument\, but above the base/theta-position of the theme). Much of the talk is devoted to motivating these three syntactic positions. This particular distribution of syntactic positions provides positive evidence for proposals that postulate a direct\,formally coded\, correspondence between syntactic prominence and the semantic/pragmatic prominence relations posited by relational/markedness hierarchies—in particular\, the Definiteness Scale (Pronoun > Proper noun > Definite > Specific (indefinite)).
URL:https://thi.ucsc.edu/event/joseph-sabbagh-specificity-and-objecthood-in-tagalog-2/
LOCATION:Santa Cruz\, CA\, 95064\, United States
END:VEVENT
BEGIN:VEVENT
DTSTART;TZID=America/Los_Angeles:20130221T160000
DTEND;TZID=America/Los_Angeles:20130221T180000
DTSTAMP:20260419T232333
CREATED:20121214T185015Z
LAST-MODIFIED:20121214T185015Z
UID:10005261-1361462400-1361469600@thi.ucsc.edu
SUMMARY:"Asian America: Triangulations about a Semisphere"
DESCRIPTION:The UC Presidential Chair in Feminist Critical Race and Ethnic Studies presents: \nAsian America: Triangulations about a Semisphere\nA creative presentation\, Karen Tei Yamashita will read excerpts from her novel\, I Hotel\, forthcoming book of performances\, Anime Wong\, and the essay “Borges & I\,” as an opportunity think about the past 45 years of Asian American and Ethnic Studies with respect to our present and future. This will be followed by an informal conversation with Aimee Bahng and Alondra Nelson. \n  \nKaren Tei Yamashita (photo by Carolyn Lagattuta)\nKaren Tei Yamashita is the author of Through the Arc of the Rain Forest\, Brazil-Maru\, Tropic of Orange\, Circle K Cycles\, and I Hotel\, all published by Coffee House Press. I Hotel was selected as a finalist for the National Book Award and awarded the California Book Award\, the American Book Award\, the Asian/Pacific American Librarians Association Award\, and the Association for Asian American Studies Book Award. She is currently a US Artists Ford Foundation Fellow and Professor of Literature and Creative Writing at the University of California\, Santa Cruz. \n  \n  \nAimee Bahng\nAimee Bahng is an assistant professor of English at Dartmouth College with affiliations in Women’s and Gender Studies\, Asian American Studies\, and Asian & Middle Eastern Studies. Her work on postcolonial science fiction has appeared in MELUS and Critical Studies. Her current book manuscript on speculation examines competing narratives of futurity in contemporary fiction\, film\, and finance. \n  \n  \nAlondra Nelson\nAlondra Nelson is Associate Professor of Sociology and Gender Studies at Columbia University. An interdisciplinary social scientist\, she writes about the intersections of science\, technology\, medicine\, and inequality. Her first book\, Body and Soul: The Black Panther Party and the Fight against Medical Discrimination\, was recognized with several professional prizes\, including the Letitia Woods Brown Award from the Association of Black Women Historians. She is also an editor of Genetics and the Unsettled Past: The Collision of DNA\, Race\, and History; Technicolor: Race\, Technology\, and Everyday Life; and “Afrofuturism” a special issue of Social Text. Her next book\, The Social Life of DNA\, will be published by Beacon Press.\nThis event is organized and sponsored by the UC Presidential Chair in Feminist Critical Race and Ethnic Studies. Staff support provided by the Institute of Humanities Research. For further information\, including disabled access\, please contact Shann Ritchie\, sritchie@ucsc.edu\, (831) 459-5655. Maps: http://maps.ucsc.edu.
URL:https://thi.ucsc.edu/event/asian-america-triangulations-about-a-semisphere-2/
LOCATION:Stevenson Fireside Lounge\, Humanites 1 University of California\, Santa Cruz Cowell College\, Santa Cruz\, CA\, 95064\, United States
END:VEVENT
BEGIN:VEVENT
DTSTART;TZID=America/Los_Angeles:20130221T180000
DTEND;TZID=America/Los_Angeles:20130221T193000
DTSTAMP:20260419T232333
CREATED:20130117T233435Z
LAST-MODIFIED:20130117T233435Z
UID:10005322-1361469600-1361475000@thi.ucsc.edu
SUMMARY:Living Writers Reading by Amaranth Borsuk
DESCRIPTION:Amaranth Borsuk is the author of Handiwork (Slope\, 2012)\, selected by Paul Hoover for the 2011 Slope Books Prize\, and\, together with programmer Brad Bouse\, of Between Page and Screen (Siglio\, 2012)\, a book of augmented-reality poems. In 2010\, her chapbook-length erasure\, Tonal Saw\, was published by The Song Cave. Her poems\, essays\, translations and reviews have appeared widely in print and online\, and pieces have recently appeared or are forthcoming in The Chicago Review\, Spoon River Poetry Review\, American Letters & Commentary\, and The Sonnets: Translating and Rewriting Shakespeare. Her intermedia project Abra\, a hybrid book-performance collaboration with Kate Durbin\, Zach Kleyn\, and Ian Hatcher\, recently received an Expanded Artists’ Books grant from the Center for Book and Paper Arts in Chicago and will be issued as an artist’s book and iOS app in fall of 2013. She teaches in the MFA in Creative Writing and Poetics at the University of Washington\, Bothell.
URL:https://thi.ucsc.edu/event/living-writers-reading-by-amaranth-borsuk-2/
LOCATION:Humanities Lecture Hall\, Room 206\, UCSC Humanities Lecture Hall\, 1156 High Street\, Santa Cruz\, CA\, 95064\, United States
ORGANIZER;CN="Linguistics Department":MAILTO:mjzimmer@ucsc.edu
END:VEVENT
END:VCALENDAR