BEGIN:VCALENDAR
VERSION:2.0
PRODID:-//The Humanities Institute - ECPv6.15.20//NONSGML v1.0//EN
CALSCALE:GREGORIAN
METHOD:PUBLISH
X-ORIGINAL-URL:https://thi.ucsc.edu
X-WR-CALDESC:Events for The Humanities Institute
REFRESH-INTERVAL;VALUE=DURATION:PT1H
X-Robots-Tag:noindex
X-PUBLISHED-TTL:PT1H
BEGIN:VTIMEZONE
TZID:America/Los_Angeles
BEGIN:DAYLIGHT
TZOFFSETFROM:-0800
TZOFFSETTO:-0700
TZNAME:PDT
DTSTART:20120311T100000
END:DAYLIGHT
BEGIN:STANDARD
TZOFFSETFROM:-0700
TZOFFSETTO:-0800
TZNAME:PST
DTSTART:20121104T090000
END:STANDARD
BEGIN:DAYLIGHT
TZOFFSETFROM:-0800
TZOFFSETTO:-0700
TZNAME:PDT
DTSTART:20130310T100000
END:DAYLIGHT
BEGIN:STANDARD
TZOFFSETFROM:-0700
TZOFFSETTO:-0800
TZNAME:PST
DTSTART:20131103T090000
END:STANDARD
BEGIN:DAYLIGHT
TZOFFSETFROM:-0800
TZOFFSETTO:-0700
TZNAME:PDT
DTSTART:20140309T100000
END:DAYLIGHT
BEGIN:STANDARD
TZOFFSETFROM:-0700
TZOFFSETTO:-0800
TZNAME:PST
DTSTART:20141102T090000
END:STANDARD
END:VTIMEZONE
BEGIN:VEVENT
DTSTART;VALUE=DATE:20130626
DTEND;VALUE=DATE:20130628
DTSTAMP:20260423T024903
CREATED:20130607T161835Z
LAST-MODIFIED:20130607T161835Z
UID:10004831-1372204800-1372377599@thi.ucsc.edu
SUMMARY:Workshop on Things
DESCRIPTION:Note: due to two unfortunate cancellations\, the session originally planned for Tuesday evening\, June 25th\, will not take place. The workshop will begin Wednesday morning. \nAll conference events will take place in Humanities 1\, Room 210. \n\nWednesday\, June 26th \n10:00–11:30 David Hyder (University of Ottawa) “Time and object in Transcendental Deduction §24”\nModerator: Dennis Des Chene \n11:45–1:15 Lydia Patton (Virginia Tech) “Kant on the qualities of things”\nModerator: David Hyder \n1:15–2:45 Lunch \n2:45–4:15 Dennis Des Chene (Washington University St. Louis) “The emergence of mere things”\nModerator: Ori Simchen \n4:30–6:00 Ori Simchen (University of British Columbia) “Things of semantic value”\nModerator: Abe Stone \n6:00-7:00 Tea and Cookies Reception \nThursday\, June 27th\n9:30–11:00 Justin E.H. Smith (University of Paris VII) “Res extensae\, res publicae\, and the political dimensions of things”\nModerator: Ori Simchen \n11:15–12:45 Nick Stang (University of Miami) (title TBA)\nModerator: Justin E.H. Smith \n12:45–1:45 Lunch \n1:45–3:15 Abe Stone “Kant on substances and things”\nModerator: Nick Stang
URL:https://thi.ucsc.edu/event/workshop-on-things-2/
LOCATION:Stevenson Fireside Lounge\, Humanites 1 University of California\, Santa Cruz Cowell College\, Santa Cruz\, CA\, 95064\, United States
END:VEVENT
END:VCALENDAR