BEGIN:VCALENDAR
VERSION:2.0
PRODID:-//The Humanities Institute - ECPv6.15.20//NONSGML v1.0//EN
CALSCALE:GREGORIAN
METHOD:PUBLISH
X-WR-CALNAME:The Humanities Institute
X-ORIGINAL-URL:https://thi.ucsc.edu
X-WR-CALDESC:Events for The Humanities Institute
REFRESH-INTERVAL;VALUE=DURATION:PT1H
X-Robots-Tag:noindex
X-PUBLISHED-TTL:PT1H
BEGIN:VTIMEZONE
TZID:America/Los_Angeles
BEGIN:DAYLIGHT
TZOFFSETFROM:-0800
TZOFFSETTO:-0700
TZNAME:PDT
DTSTART:20150308T100000
END:DAYLIGHT
BEGIN:STANDARD
TZOFFSETFROM:-0700
TZOFFSETTO:-0800
TZNAME:PST
DTSTART:20151101T090000
END:STANDARD
BEGIN:DAYLIGHT
TZOFFSETFROM:-0800
TZOFFSETTO:-0700
TZNAME:PDT
DTSTART:20160313T100000
END:DAYLIGHT
BEGIN:STANDARD
TZOFFSETFROM:-0700
TZOFFSETTO:-0800
TZNAME:PST
DTSTART:20161106T090000
END:STANDARD
BEGIN:DAYLIGHT
TZOFFSETFROM:-0800
TZOFFSETTO:-0700
TZNAME:PDT
DTSTART:20170312T100000
END:DAYLIGHT
BEGIN:STANDARD
TZOFFSETFROM:-0700
TZOFFSETTO:-0800
TZNAME:PST
DTSTART:20171105T090000
END:STANDARD
END:VTIMEZONE
BEGIN:VEVENT
DTSTART;TZID=America/Los_Angeles:20160117T140000
DTEND;TZID=America/Los_Angeles:20160117T170000
DTSTAMP:20260423T153841
CREATED:20160107T004411Z
LAST-MODIFIED:20160107T004411Z
UID:10006321-1453039200-1453050000@thi.ucsc.edu
SUMMARY:Margaret Frantz Memorial
DESCRIPTION:A memorial for Marge Frantz (1922-2015) a Hist Con graduate (1984) and longtime colleague at UC Santa Cruz in Women’s Studies and American Studies will be held on Sunday\, January 17th from 2-5pm. \nRefreshments & reception following the program. \nAmple and free parking is available.  Enter UCSC at the WEST entrance.  Three stop signs and turn right and proceed to the end of the road. Recital Hall is in front of you. \nContributions in Marge’s memory are welcomed by Aptheker/Frantz Women’s Studies Endowment at UCSC\, American Civil Liberties Union of Northern California\, and Alzheimer’s Association\, Northern California and Northern Nevada Chapter. \n“An inspiring and beloved teacher\, skilled activist and generous friend\, Marge Frantz died in Santa Cruz on October 16 at the age of 93. Passionately committed to social justice\, she identified strongly with the three great social movements of her time: socialism\, civil rights and feminism. They shaped her as an organizer\, intellectual\, and teacher who refused hierarchies while embracing and delighting in differences. She crossed boundaries wherever she encountered them—between teachers and students\, academics and activists\, young and old\, rich and poor\, gay and straight\, black and white. Her emphasis on commonalities was crucial to the success of the progressive communities she created and sustained throughout her life…”  Read more. \nRead Frantz’ obituary in the Santa Cruz Sentinel here.
URL:https://thi.ucsc.edu/event/margaret-frantz-memorial-3/
LOCATION:Music Center Recital Hall\, Music Center\, Santa Cruz\, CA\, 95064\, United States
ATTACH;FMTTYPE=image/gif:https://thi.ucsc.edu/wp-content/uploads/2016/01/frantz_marge.98-01-05.gif
END:VEVENT
BEGIN:VEVENT
DTSTART;TZID=America/Los_Angeles:20160120T121500
DTEND;TZID=America/Los_Angeles:20160120T140000
DTSTAMP:20260423T153841
CREATED:20150612T212750Z
LAST-MODIFIED:20150612T212750Z
UID:10006159-1453292100-1453298400@thi.ucsc.edu
SUMMARY:Nicholas Mitchell: "On Afropessimism; or\, The People Critique Makes"
DESCRIPTION:The Center for Cultural Studies presents Nicholas Mitchell \nNicholas Mitchell’s current project\, Disciplinary Matters: Black Studies\, Women’s Studies\, and the Neoliberal University\, locates the institutional projects of black studies and women’s studies at the heart of the consolidation of the post-Civil Rights U.S. university. \nMitchell is Assistant Professor in Feminist Studies and Critical Race and Ethnic Studies at UC Santa Cruz. \n\n\n  \n\nWinter 2016 Cultural Studies Colloquium Series: \nJanuary 13- Elena Gapova: “Suffering and the Soviet Man’s Search for Meaning: The “Moral Revolutions” of Svetlana Alexievich”\nJanuary 20- Nicholas Mitchell: “On Afropessimism; or\, The People Critique Makes”\nJanuary 27- Joes Segal: “Post-Socialist Monuments: A Heavy Heritage”\nFebruary 3- Jonathan Beecher: “Visions of Revolution: European Writers ad the French Revolution of 1848”\nFebruary 10- B. Ruby Rich: “The Public and the Private: New Queer Cinema in the Age of Streaming”\nFebruary 17- Aaron Benanav: “Too Many People\, or Too Few Jobs? A Critique of Political Demography in the Post-WWII Era”\nFebruary 24- Beléna Bistué: “Aztec Pictograms and Moorish Names: Multilingual Translation Practices in Colonial Spanish America”\nMarch 2- Nathaniel Mackey: “Breath and Precarity”
URL:https://thi.ucsc.edu/event/center-for-cultural-studies-colloquium-series-11-2/
LOCATION:Stevenson Fireside Lounge\, Humanites 1 University of California\, Santa Cruz Cowell College\, Santa Cruz\, CA\, 95064\, United States
END:VEVENT
BEGIN:VEVENT
DTSTART;TZID=America/Los_Angeles:20160121T180000
DTEND;TZID=America/Los_Angeles:20160121T194500
DTSTAMP:20260423T153841
CREATED:20160107T181657Z
LAST-MODIFIED:20160107T181657Z
UID:10006324-1453399200-1453405500@thi.ucsc.edu
SUMMARY:Living Writers: Vikram Chandra
DESCRIPTION:Vikram Chandra’s latest book is Geek Sublime: The Beauty of Code\, the Code of Beauty. He has also written the novels Sacred Games and Red Earth and Pouring Rain and the short story collection Love and Longing in Bombay. His honours include a Guggenheim fellowship\, the Commonwealth Writers Prize (Eurasia)\, the Crossword Prize\, and the Salon Book Award. He teaches creative writing at the University of California\, Berkeley. His work has been translated into nineteen languages.  \n\n  \nWinter 2016 Living Writers Series: \nThursdays\, 6:00-7:45 PM\nHumanities Lecture Hall\, 206 \nCreative Work & Critical Play features contemporary writers and artists who expose and explore the space between critical discourse and the creative imagination. Through the work of making art and the play in ideation\, they mine issues of race\, sexuality\, gender\, and class through several genres and media\, to include poetry\, fiction\, critical prose\, performance\, sonic and visual art\, memoir\, as well as hybrid forms. \nJanuary 14: Alex Rivera\nJanuary 21: Vikram Chandra\nJanuary 28: Stephen Graham Jones & Christopher Rosales\nFebruary 4: Charles Yu\nFebruary 11: Branwen Okpako\nFebruary 18: Nnedi Okorafor\nFebruary 25: Chang-rae Lee\nMarch 3: Jeremy Love\nMarch 10: Samuel Delany
URL:https://thi.ucsc.edu/event/living-writers-vikram-chandra-3/
LOCATION:Humanities Lecture Hall\, Room 206\, UCSC Humanities Lecture Hall\, 1156 High Street\, Santa Cruz\, CA\, 95064\, United States
ATTACH;FMTTYPE=image/jpeg:https://thi.ucsc.edu/wp-content/uploads/2016/01/speculationscolorfinalCORRECTED.jpg
END:VEVENT
BEGIN:VEVENT
DTSTART;TZID=America/Los_Angeles:20160121T183000
DTEND;TZID=America/Los_Angeles:20160121T210000
DTSTAMP:20260423T153841
CREATED:20151209T202247Z
LAST-MODIFIED:20151209T202247Z
UID:10005174-1453401000-1453410000@thi.ucsc.edu
SUMMARY:Film Screening: "For Marx"
DESCRIPTION:Film Screening Hosted by Socialsim / Postsocialism Research Cluster \n“For Marx” (2012)\nDirected by is Svetlana Baskova \n \n“While the presence of the New Left in the new Russian culture cannot be denied nor ignored this ideological direction produces at this moment more questions than answers. Baskova’s new film channels some of the most burning ones: can Marxism indeed be repeated in Russia? How might this new attempt deal with the earlier\, problematic incarnation? Who will be its new interpreters and how will they discern a new theory from practice? All these anxiety-producing questions\, raised vividly by For Marx\, make it contemporary\, controversial\, and one of the most worthwhile film experiences of 2012.” – quote from Polina Barskova\, Associate Professor of Russian Literature at Hampshire College
URL:https://thi.ucsc.edu/event/film-screening-for-marx-3/
LOCATION:Stevenson Fireside Lounge\, Humanites 1 University of California\, Santa Cruz Cowell College\, Santa Cruz\, CA\, 95064\, United States
ATTACH;FMTTYPE=image/jpeg:https://thi.ucsc.edu/wp-content/uploads/2015/12/For-Marx.jpeg
END:VEVENT
BEGIN:VEVENT
DTSTART;TZID=America/Los_Angeles:20160121T190000
DTEND;TZID=America/Los_Angeles:20160121T210000
DTSTAMP:20260423T153841
CREATED:20151209T204212Z
LAST-MODIFIED:20151209T204212Z
UID:10005175-1453402800-1453410000@thi.ucsc.edu
SUMMARY:Hedy Rose: "My Childhood in Hiding: Amsterdam\, 1942-1945"
DESCRIPTION:Please join us for a talk with Hedy Rose. \nFollowing her father’s arrest by the Nazis\, Hedy Rose\, her mother\, and sister spent nearly four years hidden in an Amsterdam cellar by a Christian samaritan.\nAdmission is free\, but pre-registration is required: http://goo.gl/forms/3Q3LZbYz8y \nReception will follow at 8pm.\n$4 parking; Recommended lot: Performing Arts\nFor more information\, including accessibility\, please contact Beverly Iniguez at binguez@ucsc.edu.
URL:https://thi.ucsc.edu/event/hedy-rose-3/
LOCATION:Music Center Recital Hall\, Music Center\, Santa Cruz\, CA\, 95064\, United States
ATTACH;FMTTYPE=image/jpeg:https://thi.ucsc.edu/wp-content/uploads/2015/12/MyChildhoodInHiding.jpg
END:VEVENT
BEGIN:VEVENT
DTSTART;TZID=America/Los_Angeles:20160122T090000
DTEND;TZID=America/Los_Angeles:20160122T123000
DTSTAMP:20260423T153841
CREATED:20150925T165251Z
LAST-MODIFIED:20150925T165251Z
UID:10005132-1453453200-1453465800@thi.ucsc.edu
SUMMARY:WORKSHOP: Coding for Humanists with Fabiola Hanna
DESCRIPTION:Interested in coding\, but not sure where to start? Fabiola Hanna\, a new media artist and PhD Candidate in the department of Film and Digital Media\, will walk us through the basics of coding for the web. Following Hanna’s short introductory workshop in December\, this more intensive session will offer instruction for writing in HTML\, styling with CSS\, and building dynamic web content using Java Script. \nThis introduction will not make you into expert coders – but it will provide you with insight into coding that you can apply to customize existing sites and work within easy-to-use platforms (like WordPress\, Drupal). You will also gain an understanding of next steps so you can continue developing your coding skills. \nJoin us for this introductory workshop. No previous experience with coding necessary. \nBe sure to bring a LAPTOP (not a tablet).  \n*Registration Required. Reserve a seat today. *
URL:https://thi.ucsc.edu/event/workshop-coding-for-humanists-2/
LOCATION:Humanities 2\, Room 259
END:VEVENT
BEGIN:VEVENT
DTSTART;TZID=America/Los_Angeles:20160122T123000
DTEND;TZID=America/Los_Angeles:20160122T140000
DTSTAMP:20260423T153841
CREATED:20160119T204901Z
LAST-MODIFIED:20160119T204901Z
UID:10006328-1453465800-1453471200@thi.ucsc.edu
SUMMARY:Friday Forum for Graduate Research: Alex Moore
DESCRIPTION:Alex Moore \n“Captive Natures: Grotesque desire in the performative sculptures of Amber Hawk Swanson” \nIn this paper I examine two projects by the artist Amber Hawk Swanson\, Tilikum\, 2011 and Lolita\, 2013. Through a process of radical identification with the captive Orca whales Tilikum and Lolita\, Hawk Swanson explores the ethics of aquatic theme park performances. I argue that the grotesque sculptures make visible the violence done to both humans and Orcas in the conceptions of nature\, culture\, and relationship manifested in the Shamu spectacle. \n\n  \nFriday Forum Winter 2015 Schedule \nFridays\, 12:30 – 2:00pm\nHumanities 1\, Room 202 \nA weekly interdisciplinary colloquium series for sharing graduate research across the humanities. Join us for light refreshments and weekly presentations by your fellow graduate students. \nJanuary 15- James Beneda\, Politics\nJanuary 22- Alex Moore\, HAVC\nJanuary 29- Whitney Devos\, Literature\nFebruary 5- Sophia Magnone\, Literature\nFebruary 12- Andrei Tcacenco\, History\nFebruary 19- Amanda Reyes\, History & Consciousness\nFebruary 26- Keith Spencer\, Literature\nMarch 4- Laura Harrison\, Sociology\nMarch 11- Bristol Cave La-Costa\, History
URL:https://thi.ucsc.edu/event/friday-forum-for-graduate-research-alex-moore-3/
LOCATION:Humanities 1\, Room 202
ATTACH;FMTTYPE=image/jpeg:https://thi.ucsc.edu/wp-content/uploads/2016/01/FFPoster_W2016-1.jpg
END:VEVENT
END:VCALENDAR