BEGIN:VCALENDAR
VERSION:2.0
PRODID:-//The Humanities Institute - ECPv6.15.20//NONSGML v1.0//EN
CALSCALE:GREGORIAN
METHOD:PUBLISH
X-WR-CALNAME:The Humanities Institute
X-ORIGINAL-URL:https://thi.ucsc.edu
X-WR-CALDESC:Events for The Humanities Institute
REFRESH-INTERVAL;VALUE=DURATION:PT1H
X-Robots-Tag:noindex
X-PUBLISHED-TTL:PT1H
BEGIN:VTIMEZONE
TZID:America/Los_Angeles
BEGIN:DAYLIGHT
TZOFFSETFROM:-0800
TZOFFSETTO:-0700
TZNAME:PDT
DTSTART:20170312T100000
END:DAYLIGHT
BEGIN:STANDARD
TZOFFSETFROM:-0700
TZOFFSETTO:-0800
TZNAME:PST
DTSTART:20171105T090000
END:STANDARD
BEGIN:DAYLIGHT
TZOFFSETFROM:-0800
TZOFFSETTO:-0700
TZNAME:PDT
DTSTART:20180311T100000
END:DAYLIGHT
BEGIN:STANDARD
TZOFFSETFROM:-0700
TZOFFSETTO:-0800
TZNAME:PST
DTSTART:20181104T090000
END:STANDARD
BEGIN:DAYLIGHT
TZOFFSETFROM:-0800
TZOFFSETTO:-0700
TZNAME:PDT
DTSTART:20190310T100000
END:DAYLIGHT
BEGIN:STANDARD
TZOFFSETFROM:-0700
TZOFFSETTO:-0800
TZNAME:PST
DTSTART:20191103T090000
END:STANDARD
END:VTIMEZONE
BEGIN:VEVENT
DTSTART;TZID=America/Los_Angeles:20181127T173000
DTEND;TZID=America/Los_Angeles:20181127T190000
DTSTAMP:20260425T041337
CREATED:20181119T204912Z
LAST-MODIFIED:20181119T205442Z
UID:10005549-1543339800-1543345200@thi.ucsc.edu
SUMMARY:Book Presentation: Jai Sen's The Movements of Movements
DESCRIPTION:Join us as Jai Sen discusses his ambitious anthology on social movements with a panel of commentators including Michelle Glowa (CIIS)\, Deborah Gould (UCSC)\, and Patrick King (UCSC).\n\n\n\nJai Sen is an activist/researcher/author on and in movement. Earlier an organizer\, then a researcher into popular movement\, for the past decade and more he has worked to promote critical engagement with the World Social Forum and emerging world movement – as moderator of the listserv WSFDiscuss and as coeditor of several books including World Social Forum: Challenging Empires and World Social Forum: Critical Explorations. He helped found and remains associated with CACIM and with OpenWord.\n\n\n\nThe Movements of Movements (PM Press/OpenWorld\, 2017/18):\nOur world today is not only a world in crisis but also a world in profound movement\, with increasing numbers of people joining or forming movements: local\, national\, transnational\, and global. The dazzling diversity of ideas and experiences recorded in this collection captures something of the fluidity within campaigns for a more equitable planet. These two volumes\, taking internationalism seriously without tired dogmas\, provides a bracing window into some of the central ideas to have emerged from within grassroots struggles from 2006 to 2010. The essays here cross borders to look at the politics of caste\, class\, gender\, religion\, and indigeneity\, and move from the local to the global.\n\n\nRefreshments will be served.
URL:https://thi.ucsc.edu/event/book-presentation-jai-sens-movements-movements/
LOCATION:Humanities 1\, Room 202
ATTACH;FMTTYPE=image/png:https://thi.ucsc.edu/wp-content/uploads/2018/11/jaisenf.png
END:VEVENT
BEGIN:VEVENT
DTSTART;TZID=America/Los_Angeles:20181128T120000
DTEND;TZID=America/Los_Angeles:20181128T133000
DTSTAMP:20260425T041337
CREATED:20180810T202107Z
LAST-MODIFIED:20181130T211212Z
UID:10006644-1543406400-1543411800@thi.ucsc.edu
SUMMARY:Peter Limbrick: “For a New Nahda - Moumen Smihi\, World Cinema\, and Arab Modernism”
DESCRIPTION:If you have trouble viewing above images\, you may view this album directly on Flickr. \n  \nDr. Limbrick’s forthcoming book on Moumen Smihi connects the Moroccan filmmaker’s modernism to the Nahda or “Arab Renaissance” of the 19th-20th century\, which re-energized Arab culture in dialogue with other languages and discourses. Offering new ways to think about world cinema and modernism in the region\, Limbrick argues that Smihi’s radically beautiful films take up the Nahda’s challenge for a new age. \nPeter Limbrick is Associate Professor of Film and Digital Media. He is the author of Making Settler Cinemas: Film and Colonial Encounters in the United States\, Australia\, and New Zealand (Palgrave 2010) and has published on transnational cinema and postcolonial culture in Cinema Journal\, Camera Obscura\, Third Text\, Framework\, Visual Anthropology and other journals. He has received fellowships from National Endowment for the Humanities and the UC President’s Research program and is currently finishing a book about Moroccan filmmaker Moumen Smihi\, a key figure in the “new Arab cinema” that emerged in the late 1960s across North Africa and the Middle East. In 2013\, he curated a major retrospective of Smihi’s work that has screened at the Pacific Film Archive in Berkeley\, Block Cinema\, in Chicago\, and Tate Modern\, in London.  \nThe Center for Cultural Studies hosts a weekly Wednesday colloquium featuring work by faculty and visitors. The sessions consist of a 40-45 minute presentation followed by discussion. We gather at noon\, with presentations beginning at 12:15 PM. Participants are encouraged to bring their own lunches; the Center provides coffee\, tea\, and cookies. \nAll Center for Cultural Studies events are free and open to the public. Staff assistance is provided by the Humanities Institute.
URL:https://thi.ucsc.edu/event/cultural-studies-colloquium/
LOCATION:Humanities 1\, Room 210\, 1156 high st\, Santa cruz\, CA\, 95060\, United States
END:VEVENT
BEGIN:VEVENT
DTSTART;TZID=America/Los_Angeles:20181128T160000
DTEND;TZID=America/Los_Angeles:20181128T180000
DTSTAMP:20260425T041337
CREATED:20181003T172123Z
LAST-MODIFIED:20181126T193415Z
UID:10006654-1543420800-1543428000@thi.ucsc.edu
SUMMARY:Algorithms\, Mobility\, and Justice
DESCRIPTION:Are moral algorithms a reasonable solution for taking advantage of life-saving potentials of self-driving cars? In this talk\, Neda Atanasoski (UCSC Professor of Feminist Studies) will engage the utilitarian framings that are dominant in the discourses on self-driving cars inclusive of the assumptions that are folded into the question above: that algorithms can be moral and self-driving cars will save lives. Drawing on feminist and care ethics\, Atanasoski brings to fore the injustices built into current and future mobility systems such as laws and policies that protect car manufacturers and algorithmic biases that will have disproportionate negative impacts on the most vulnerable. Moreover\, it is argued that a constricted moral imagination dominated by the reductive scenarios of the Trolley Problems is impairing design imagination of alternative futures. More specifically\, that a genuine caring concern for the many lives lost in car accidents now and in the future—a concern that transcends false binary trade-offs and that recognizes the systemic biases and power structures—could serve as a starting point to rethink mobility\, as it connects to the design of cities\, the well-being of communities\, and the future of the planet. \nNeda Atanasoski is Professor of Feminist Studies at UC Santa Cruz\, Director of Critical Race and Ethnic Studies and affiliated with the Film and Digital Media Department. Atanasoski has a PhD in Literature and Cultural Studies from the University of California\, San Diego. Her research interests include race and technology; war and nationalism; gender\, ethnicity\, and religion; cultural studies and critical theory; media studies. \nNassim JafariNaimi is an Assistant Professor of Digital Media at the School of Literature\, Media\, and Communication at Georgia Tech and the director of the Design and Social Interaction Studio which she established in 2013. JafariNaimi’s research engages the ethical and political dimensions of design practice and technology especially as related to democracy and social justice. Her research spans both theoretical and design-based inquiries situated at the intersection of Design Studies\, Science and Technology Studies\, and Human Computer Interaction. Her writing on topics such as participatory media\, smart cities\, social and educational games\, and algorithms have appeared in venues such as Science\, Technology\, and Human Values\, Design Issues\, Digital Creativity\, and Computer Supported Cooperative Work (CSCW). JafariNaimi received her PhD in Design from Carnegie Mellon University. She also holds an MS in Information Design and Technology from the Georgia Institute of Technology and a BS in Electrical Engineering from the University of Tehran\, Iran. \nAbhradeep Guha Thakurta is Assistant Professor of Computer Science and Engineering at UC Santa Cruz. Thakurta’s research is at the intersection of machine learning and data privacy. Primary research interest include designing privacy-preserving machine learning algorithms with strong analytical guarantees\, which are robust to errors in the data. In many instances\, Thakurta harnesses the privacy property of the algorithms to obtain robustness and utility guarantees. A combination of academic and industrial experience has allowed Thakurta to draw non-obvious insights at the intersection of theoretical analysis and practical deployment of privacy-preserving machine learning algorithms. \nCo-Sponsored by: THI Data and Democracy Initiative\, Critical Race and Ethnic Studies\, and the Feminist Studies Department\, and the Science & Justice Research Center
URL:https://thi.ucsc.edu/event/algorithms-mobility-justice/
LOCATION:Engineering 2\, Room 599\, Engineering 2 Building @ UCSC\, Santa Cruz\, CA\, 95064\, United States
END:VEVENT
BEGIN:VEVENT
DTSTART;TZID=America/Los_Angeles:20181129T150000
DTEND;TZID=America/Los_Angeles:20181129T170000
DTSTAMP:20260425T041337
CREATED:20181101T215322Z
LAST-MODIFIED:20181101T225319Z
UID:10006676-1543503600-1543510800@thi.ucsc.edu
SUMMARY:Invitation and Object: Reframing the Study of Palestine
DESCRIPTION:“Welcome to Gaza: On the Politics of Invitation and the Right to Tourism”\nJennifer Kelly\, Associate Professor\, UCSC  \nIn between Israeli military incursions\, Palestinians in Gaza have described their colonial condition and navigated their cleavage from the rest of Palestine through virtual collaborative projects that rehearse\, satirize\, and reimagine tourism. These projects refuse to position Gaza as solely a site of suffering\, a site where tourism could never flourish; they instead ask what it would mean if Palestinians in Gaza could actually invite tourists\, host their own tours\, and control their own borders. Through virtual tours that simultaneously describe suffering and create joy\, Palestinians in Gaza are combating not only the siege but also the representations of Palestinians in Gaza as under siege and nothing more. \n  \n“Revisiting the Question of Palestine”\nNoya Kansky\, FMST Graduate Student\, UCSC \nIn this paper\, I revisit Edward Said’s “Question of Palestine\,” with specific attention to the activation of Palestine as object of study in contemporary humanities-focused research agendas. How are these research choices shaped by institutions and the left-leaning ethos of scholar activism\, contemporary post-colonial and settler colonial studies and additionally political theory\, and current debates on research ethics and epistemic production? What violences does this practice reinscribe and in what ways does the contemporary university contain and re-direct questions that frame Palestine as a stable object – often exceptionalized as a research site that is productive to those thinking about oppression and violence? \n  \nPizza and drinks provided!
URL:https://thi.ucsc.edu/event/invitation-object-reframing-study-palestine/
LOCATION:Humanities 1\, Room 202
END:VEVENT
BEGIN:VEVENT
DTSTART;TZID=America/Los_Angeles:20181129T172000
DTEND;TZID=America/Los_Angeles:20181129T185500
DTSTAMP:20260425T041337
CREATED:20181010T184019Z
LAST-MODIFIED:20181010T184156Z
UID:10006661-1543512000-1543517700@thi.ucsc.edu
SUMMARY:Living Writers: Duy Doan & Angie Sijun Lou
DESCRIPTION:Duy Doan is a Vietnamese American poet and the author of We Play a Game\, winner of the 2017 Yale Series of Younger Poets Prize. His work has appeared in Poetry\, Poetry Northwest\, Slate\, and TriQuarterly. A Kundiman fellow\, he received an MFA in poetry from Boston University\, where he later served as director of the Favorite Poem Project. Doan has taught at Boston University\, Lesley University\, and the Boston Conservatory. He was born in Dallas\, Texas. \n  \nAngie Sijun Lou is from Seattle. Her work has appeared in the American Poetry Review\, Ninth Letter\, Hyphen\, The Margins\, Nat. Brut\, and others. She is the winner of the 2018 Cosmonauts Avenue Fiction Prize and has received fellowships and awards from the Academy of American Poets and Kundiman. She is pursuing a PhD in Literature and Creative Writing at the University of California Santa Cruz. \n  \nLiving Writers Series Fall 2018: “Sentence & Sentience: Forms” \nThis series features seven contemporary poets\, critics\, and artists who each render\, albeit in differing forms and across a diversity of experiences\, the unit of the sentence for powerfully sentient effects. Whether through poetic argument\, the fictive line\, or the scholarly imagination\, each of these authors explore questions of race\, gender\, sexuality\, nature\, and nation in their respective practices and forms. \n*Note: All Readings\, except for the Morton Marcus Reading\, featuring Gary Snyder\, will take place from 5:20-6:55 in the Humanities Lecture Hall on the dates listed below.  The Gary Snyder Morton Marcus Memorial Poetry Reading will be held in the Music Recital Hall on November 15th from 6-8:00 PM.  \n  \nAll events are free and open to the public.
URL:https://thi.ucsc.edu/event/living-writers-duy-doan-angie-sijun-lou/
LOCATION:Humanities Lecture Hall\, Santa Cruz\, CA\, 95064\, United States
ATTACH;FMTTYPE=image/jpeg:https://thi.ucsc.edu/wp-content/uploads/2018/10/LivingWritersFtSize.jpg
END:VEVENT
BEGIN:VEVENT
DTSTART;TZID=America/Los_Angeles:20181130T104000
DTEND;TZID=America/Los_Angeles:20181130T114500
DTSTAMP:20260425T041337
CREATED:20181101T212240Z
LAST-MODIFIED:20181126T172913Z
UID:10006675-1543574400-1543578300@thi.ucsc.edu
SUMMARY:Stuart Russell: “Human-Compatible Artificial Intelligence”
DESCRIPTION:Stuart Russell will survey recent and expected developments in AI and their implications. Some are enormously positive\, while others\, such as the development of autonomous weapons and the replacement of humans in economic roles\, may be negative. Beyond these\, one must expect that AI capabilities will eventually exceed those of humans across a range of real-world decision making scenarios. Should this be a cause for concern\, as Elon Musk\, Stephen Hawking\, and others have suggested? And\, if so\, what can we do about it?  While some in the mainstream AI community dismiss the issue\, I will argue that the problem is real and that the technical aspects of it are solvable if we replace current definitions of AI with a version based on provable benefit to humans. \nDr. Russell will appear as a guest lecturer for Dr. David Haussler’s Scientific Principles of Life class. All are welcome. \n  \nStuart Russell\, professor of Computer Science at UC Berkeley\, is one of the world leaders in this area\, see\, e.g. his TED talk here.
URL:https://thi.ucsc.edu/event/stuart-russell-human-compatible-artificial-intelligence/
LOCATION:Nat. Sci Annex Auditorium 101\, Santa Cruz\, CA\, 95064\, United States
END:VEVENT
BEGIN:VEVENT
DTSTART;TZID=America/Los_Angeles:20181130T110000
DTEND;TZID=America/Los_Angeles:20181130T123000
DTSTAMP:20260425T041337
CREATED:20180810T203312Z
LAST-MODIFIED:20200804T031528Z
UID:10006648-1543575600-1543581000@thi.ucsc.edu
SUMMARY:PhD+ Workshop: Values Driven Pedagogy
DESCRIPTION:If you have trouble viewing above images\, you may view this album directly on Flickr. \n  \nDefining a Values Driven Pedagogy Practice with Kendra Dority (CITL\, UCSC Lit PhD) \nThis workshop invites participants to consider how teaching can be a site in which we define\, cultivate\, and enact a set of values. What values are communicated—explicitly and implicitly—in our classrooms through our teaching methods and assignments? How do pedagogical situations present opportunities for us to claim values that may contradict or transform institutional norms? \n  \nKendra Dority\, Associate Director for Programs at the UCSC Center for Innovations in Teaching and Learning (CITL)\, will share her perspectives on pursuing post-PhD work that aligns with her values\, and the pedagogical contexts that facilitated a values-driven inquiry. She will then facilitate activities and discussion around participants’ own values in relation to their teaching contexts. \n  \nAbout the PhD+ Workshop Series\nPlease join us for the third year of PhD+ Workshops\, hosted by the Institute for Humanities Research. We meet monthly\, over lunch\, to discuss possible career paths for PhDs\, internship possibilities\, grants/fellowships\, work/life balance\, elements of style\, online identity issues\, and much\, much more. \nLunch will be served. \nPlease RSVP below: \nLoading…
URL:https://thi.ucsc.edu/event/phd-values-driven-pedagogy/
LOCATION:Humanities 1\, Room 210\, 1156 high st\, Santa cruz\, CA\, 95060\, United States
CATEGORIES:PhD+ Event
END:VEVENT
END:VCALENDAR