BEGIN:VCALENDAR
VERSION:2.0
PRODID:-//The Humanities Institute - ECPv6.15.20//NONSGML v1.0//EN
CALSCALE:GREGORIAN
METHOD:PUBLISH
X-WR-CALNAME:The Humanities Institute
X-ORIGINAL-URL:https://thi.ucsc.edu
X-WR-CALDESC:Events for The Humanities Institute
REFRESH-INTERVAL;VALUE=DURATION:PT1H
X-Robots-Tag:noindex
X-PUBLISHED-TTL:PT1H
BEGIN:VTIMEZONE
TZID:America/Los_Angeles
BEGIN:DAYLIGHT
TZOFFSETFROM:-0800
TZOFFSETTO:-0700
TZNAME:PDT
DTSTART:20180311T100000
END:DAYLIGHT
BEGIN:STANDARD
TZOFFSETFROM:-0700
TZOFFSETTO:-0800
TZNAME:PST
DTSTART:20181104T090000
END:STANDARD
BEGIN:DAYLIGHT
TZOFFSETFROM:-0800
TZOFFSETTO:-0700
TZNAME:PDT
DTSTART:20190310T100000
END:DAYLIGHT
BEGIN:STANDARD
TZOFFSETFROM:-0700
TZOFFSETTO:-0800
TZNAME:PST
DTSTART:20191103T090000
END:STANDARD
BEGIN:DAYLIGHT
TZOFFSETFROM:-0800
TZOFFSETTO:-0700
TZNAME:PDT
DTSTART:20200308T100000
END:DAYLIGHT
BEGIN:STANDARD
TZOFFSETFROM:-0700
TZOFFSETTO:-0800
TZNAME:PST
DTSTART:20201101T090000
END:STANDARD
END:VTIMEZONE
BEGIN:VEVENT
DTSTART;VALUE=DATE:20190112
DTEND;VALUE=DATE:20190113
DTSTAMP:20260423T062613
CREATED:20181018T223912Z
LAST-MODIFIED:20190211T213757Z
UID:10006670-1547251200-1547337599@thi.ucsc.edu
SUMMARY:Center for Public Philosophy: High School Regional Ethics Bowl
DESCRIPTION:Teams of up to five high school students have the fall semester to develop their thinking on 15 real-world ethical questions (“cases”) put out in early September by the National High School Ethics Bowl organization. In the Winter\, each team participates at a regional tournament (“bowl”). The team that is deemed to have displayed the most clarity\, depth\, and open-mindedness in their thinking go on to represent our region at the National Bowl in the Spring (held at the University of North Carolina\, Chapel Hill). The Humanities Institute’s Center for Public Philosophy hosts the Northern California Regional Ethics Bowl at UC Santa Cruz. For more information visit: publicphilosophy.ucsc.edu/ethics-bowl \nIf you have trouble viewing above images\, you may view this album directly on Flickr. \nPublic Events: \nSemi-Final at 3:15pm \nFinal Round at 4:30pm \nHumanities Lecture Hall
URL:https://thi.ucsc.edu/event/center-public-philosophy-high-school-regional-ethics-bowl/
LOCATION:Humanities Lecture Hall\, Santa Cruz\, CA\, 95064\, United States
END:VEVENT
END:VCALENDAR