BEGIN:VCALENDAR
VERSION:2.0
PRODID:-//The Humanities Institute - ECPv6.15.20//NONSGML v1.0//EN
CALSCALE:GREGORIAN
METHOD:PUBLISH
X-WR-CALNAME:The Humanities Institute
X-ORIGINAL-URL:https://thi.ucsc.edu
X-WR-CALDESC:Events for The Humanities Institute
REFRESH-INTERVAL;VALUE=DURATION:PT1H
X-Robots-Tag:noindex
X-PUBLISHED-TTL:PT1H
BEGIN:VTIMEZONE
TZID:America/Los_Angeles
BEGIN:DAYLIGHT
TZOFFSETFROM:-0800
TZOFFSETTO:-0700
TZNAME:PDT
DTSTART:20180311T100000
END:DAYLIGHT
BEGIN:STANDARD
TZOFFSETFROM:-0700
TZOFFSETTO:-0800
TZNAME:PST
DTSTART:20181104T090000
END:STANDARD
BEGIN:DAYLIGHT
TZOFFSETFROM:-0800
TZOFFSETTO:-0700
TZNAME:PDT
DTSTART:20190310T100000
END:DAYLIGHT
BEGIN:STANDARD
TZOFFSETFROM:-0700
TZOFFSETTO:-0800
TZNAME:PST
DTSTART:20191103T090000
END:STANDARD
BEGIN:DAYLIGHT
TZOFFSETFROM:-0800
TZOFFSETTO:-0700
TZNAME:PDT
DTSTART:20200308T100000
END:DAYLIGHT
BEGIN:STANDARD
TZOFFSETFROM:-0700
TZOFFSETTO:-0800
TZNAME:PST
DTSTART:20201101T090000
END:STANDARD
END:VTIMEZONE
BEGIN:VEVENT
DTSTART;TZID=America/Los_Angeles:20190415T160000
DTEND;TZID=America/Los_Angeles:20190415T180000
DTSTAMP:20260419T071107
CREATED:20190114T191807Z
LAST-MODIFIED:20190424T173455Z
UID:10005559-1555344000-1555351200@thi.ucsc.edu
SUMMARY:Bernard Harcourt:  "The Counterrevolution Takes a New Right Turn"
DESCRIPTION:If you have trouble viewing above images\, you may view this album directly on Flickr. \n  \nBernard E. Harcourt is a contemporary critical theorist and social justice advocate. Harcourt is the Isidor and Seville Sulzbacher Professor of Law and Professor of Political Science at Columbia University. He is the founding director of the Columbia Center for Contemporary Critical Thought at Columbia University. He is also a Directeur d’études (chaired professor) at the École des Hautes Études en Sciences Socialesin Paris. \nBernard Harcourt’s writings examine modes of governing in our digital age\, especially in the post 9/11 period. Harcourt is the author most recently of The Counterrevolution: How Our Government Went to War Against Its Own Citizens (Basic Books\, 2018)\, where he documents our recent turn to the counterinsurgency warfare paradigm as a way of governing populations at home and abroad. He traces the birth of what he calls our “expository society” in Exposed: Desire and Disobedience in the Digital Age (Harvard 2015). He is the author\, recently as well\, of The Illusion of Free Markets: Punishment and the Myth of Natural Order (Harvard 2011)\, and Occupy: Three Inquiries in Disobedience with Michael Taussig and W.J.T. Mitchell (Chicago 2013). Earlier books include Against Prediction: Profiling\, Policing and Punishing in an Actuarial Age (Chicago 2007)\, Language of the Gun: Youth\, Crime\, and Public Policy(Chicago 2005)\, and Illusion of Order: The False Promise Of Broken Windows Policing (Harvard 2001). \nBernard Harcourt is also an editor of the works of Michel Foucault. He recently edited the French edition of Michel Foucault’s 1972-73 lectures at the Collège de France\, La Société punitive (Gallimard 2013) and the 1971-1972 lectures\, Theories et institutions pénales (Gallimard 2015). He is also the editor of the new Pléiade edition of Surveiller et punirin the collected works of Foucault at Gallimard (2016). He is co-editor with Fabienne Brion of the lectures Foucault delivered at Louvain in 1981\, in French and English\, Wrong-Doing\, Truth-Telling: The Function of Avowal in Justice (Chicago 2014). He is currently working on Foucault’s lectures on Nietzsche for the next series of lecture publications by Gallimard/Le Seuil called Cours et Travaux.  \nA passionate advocate for justice\, Bernard Harcourt started his legal career representing death row inmates\, working with Bryan Stevenson at what is now the Equal Justice Initiative in Montgomery\, Alabama. He lived and worked in Montgomery for several years and still today continues to represent pro bono inmates sentenced to death and life imprisonment without parole. He recently resolved the case of death row inmate Doyle Hamm. He also served on human rights missions to South Africa and Guatemala\, and actively challenged the Trump administration’s Muslim Ban\, representing pro bono a Syrian medical resident excluded under the executive order\, as well as Moseb Zeiton\, a Columbia SIPA student. \nThis event is part of the After Neoliberalism research cluster
URL:https://thi.ucsc.edu/event/bernard-hartcourt/
LOCATION:Humanities 1\, Room 210\, 1156 high st\, Santa cruz\, CA\, 95060\, United States
ATTACH;FMTTYPE=image/png:https://thi.ucsc.edu/wp-content/uploads/2019/01/Untitled-design-2.png
END:VEVENT
BEGIN:VEVENT
DTSTART;TZID=America/Los_Angeles:20190416T151500
DTEND;TZID=America/Los_Angeles:20190416T170000
DTSTAMP:20260419T071107
CREATED:20190409T174335Z
LAST-MODIFIED:20190409T191250Z
UID:10006735-1555427700-1555434000@thi.ucsc.edu
SUMMARY:Doing Scholarship in Public: Podcasts\, Print Media\, and the Urgency of the Humanities
DESCRIPTION:An informal conversation and open Q & A with Barry Lam about his work as a public scholar\, launching a podcast\, and his advice about getting started in public scholarship.
URL:https://thi.ucsc.edu/event/scholarship-public-podcasts-opeds-urgency-humanities/
LOCATION:Humanities 1\, Room 202
END:VEVENT
BEGIN:VEVENT
DTSTART;TZID=America/Los_Angeles:20190417T120000
DTEND;TZID=America/Los_Angeles:20190417T133000
DTSTAMP:20260419T071107
CREATED:20181015T195055Z
LAST-MODIFIED:20190424T173319Z
UID:10005538-1555502400-1555507800@thi.ucsc.edu
SUMMARY:Vanessa Ogle: "'Funk Money': Decolonization and the Expansion of Tax Havens\, 1950s-1960"
DESCRIPTION:If you have trouble viewing above images\, you may view this album directly on Flickr. \n  \nThis talk explores the emergence of modern offshore tax havens as a way to reopen the history of the decades ca. 1920s-1980s. During these decades an archipelago of distinct legal spaces appeared in a world otherwise increasingly dominated by more sizable nation-states. Tax havens were particularly important among these spaces\, reaching from the Channel Islands\, Monaco\, and Luxembourg to the Bahamas\, Panama\, and Singapore\, among many others. The talk asks why tax havens in particular expanded significantly between ca. 1945 and 1965\, and points to decolonization and colonial systems of taxation as one answer. It thus sheds light on a crucial period during which much of today’s tax avoidance industry got off the ground\, with lasting implications for the rise of inequality in Europe and North America. \nVanessa Ogle received her PhD at Harvard in 2011\, Assistant\, was a Associate Professor in modern European history at the University of Pennsylvania\, 2011-2017\,  and is currently an Associate Professor\, modern European history\, UC Berkeley\, 2017-present. \nThe Center for Cultural Studies hosts a weekly Wednesday colloquium featuring work by faculty and visitors. The sessions consist of a 40-45 minute presentation followed by discussion. We gather at noon\, with presentations beginning at 12:15 PM. Participants are encouraged to bring their own lunches; the Center provides coffee\, tea\, and cookies. \nAll Center for Cultural Studies events are free and open to the public. Staff assistance is provided by the Humanities Institute.
URL:https://thi.ucsc.edu/event/center-cultural-studies-colloquium-10/
LOCATION:Humanities 1\, Room 210\, 1156 high st\, Santa cruz\, CA\, 95060\, United States
END:VEVENT
BEGIN:VEVENT
DTSTART;TZID=America/Los_Angeles:20190417T150000
DTEND;TZID=America/Los_Angeles:20190417T170000
DTSTAMP:20260419T071107
CREATED:20190402T202054Z
LAST-MODIFIED:20190402T202306Z
UID:10006728-1555513200-1555520400@thi.ucsc.edu
SUMMARY:Counterpoints Book Launch
DESCRIPTION:Counterpoints: Bay Area Data and Stories for Resisting Displacement\nAn Atlas by the Anti-Eviction Mapping Project \n \nThis event will feature members of the Anti-Eviction Mapping Project will be offering a preview of their new atlas manuscript\, Counterpoints: Bay Area Data and Stories for Resisting Displacement\, which will be released by PM Press in the spring of 2020. The Anti-Eviction Mapping Project (AEMP) is a data visualization\, digital cartography\, and multimedia collective based in the San Francisco Bay Area. The project aims to inform\, empower\, and activate communities impacted by housing inequity and displacement\, supporting the work of collectives fighting for housing justice. By excavating and creating pertinent data\, narratives\, and maps\, the AEMP reorients and repositions power in the community and in the hands of those who are working to restore housing equity in low-income communities and communities of color. Bringing together artists\, activists\, oral historians\, cartographers\, muralists\, and more\, AEMP is rooted in the idea that community-based knowledge production is essential in fighting displacement. \nWhile AEMP has produced hundreds of online interactive maps and oral histories\, numerous videos and reports\, and even several murals\, light projections\, zines\, and posters\, over the last year the project has launched into a new cartographic endeavor. Counterpoints brings together dozens of artists\, activists\, designers\, and cartographers to produce a manuscript-length series of maps\, graphics\, poems\, and text. Content is divided into seven chapters\, including: Migration and Relocation; Indigenous Geographies; Evictions and Root Shock; Public Health and Environmental Racism; Financial Speculation and Speculative Futures; Carcerality and Abolition; and Transportation\, Infrastructure\, and Economy. Counterpoints encompasses geographies ranging from Vallejo to Santa Cruz in an effort to tell a regional story of gentrification\, particularly as it is racialized and classed. Different project members are editing and producing original visual content for each chapter\, and also working with numerous new community and partners and contributors\, thereby expanding the existing scope of AEMP’s work. In addition to the book\, AEMP crafting online interactive content and downloadable educational material\, which will be available on the PM Press and AEMP websites.
URL:https://thi.ucsc.edu/event/45713/
LOCATION:Humanities 1\, Room 210\, 1156 high st\, Santa cruz\, CA\, 95060\, United States
ATTACH;FMTTYPE=image/jpeg:https://thi.ucsc.edu/wp-content/uploads/2019/04/mural-smaller.jpg
END:VEVENT
END:VCALENDAR