BEGIN:VCALENDAR
VERSION:2.0
PRODID:-//The Humanities Institute - ECPv6.15.20//NONSGML v1.0//EN
CALSCALE:GREGORIAN
METHOD:PUBLISH
X-WR-CALNAME:The Humanities Institute
X-ORIGINAL-URL:https://thi.ucsc.edu
X-WR-CALDESC:Events for The Humanities Institute
REFRESH-INTERVAL;VALUE=DURATION:PT1H
X-Robots-Tag:noindex
X-PUBLISHED-TTL:PT1H
BEGIN:VTIMEZONE
TZID:America/Los_Angeles
BEGIN:DAYLIGHT
TZOFFSETFROM:-0800
TZOFFSETTO:-0700
TZNAME:PDT
DTSTART:20180311T100000
END:DAYLIGHT
BEGIN:STANDARD
TZOFFSETFROM:-0700
TZOFFSETTO:-0800
TZNAME:PST
DTSTART:20181104T090000
END:STANDARD
BEGIN:DAYLIGHT
TZOFFSETFROM:-0800
TZOFFSETTO:-0700
TZNAME:PDT
DTSTART:20190310T100000
END:DAYLIGHT
BEGIN:STANDARD
TZOFFSETFROM:-0700
TZOFFSETTO:-0800
TZNAME:PST
DTSTART:20191103T090000
END:STANDARD
BEGIN:DAYLIGHT
TZOFFSETFROM:-0800
TZOFFSETTO:-0700
TZNAME:PDT
DTSTART:20200308T100000
END:DAYLIGHT
BEGIN:STANDARD
TZOFFSETFROM:-0700
TZOFFSETTO:-0800
TZNAME:PST
DTSTART:20201101T090000
END:STANDARD
END:VTIMEZONE
BEGIN:VEVENT
DTSTART;TZID=America/Los_Angeles:20190808T190000
DTEND;TZID=America/Los_Angeles:20190808T210000
DTSTAMP:20260423T153958
CREATED:20190604T202608Z
LAST-MODIFIED:20190721T215921Z
UID:10006751-1565290800-1565298000@thi.ucsc.edu
SUMMARY:Cabrillo Festival of Contemporary Music - Community Night
DESCRIPTION:Community Night is back by popular demand! Last season Cabrillo Festival and Music Director Cristi Măcelaru opened their doors in a whole new way and attracted capacity crowds and wild enthusiasm! This year Cristi and members of the Festival Orchestra have designed another captivating concert of new or recent chamber works showcasing these extraordinary musicians as soloists and in small ensembles. This is an invitation for long time Festival-goers and first-timers alike to get a more intimate perspective on the talented artists who come from across the globe to be a part of this phenomenal orchestra. Bring your neighbors! Bring your friends! All seating is general admission. Tickets are required\, but pricing is on a pay-what-you-can basis to ensure access for all. It’s going to be another high-spirited evening of live music—complete with special surprises. \nTHI is pleased to partner with the Cabrillo Festival to offer a limited number of free tickets to Community Night. Use the code: 2019THI (maximum six per order). \nMEETUP! Stay after the show to sip wine and chat with these remarkable performers! \nCo-sponsored by: The Humanities Institute\, Santa Cruz County Bank\, Eric Hanson CFP
URL:https://thi.ucsc.edu/event/cabrillo-festival-community-night/
LOCATION:Santa Cruz Civic Auditorium
ATTACH;FMTTYPE=image/jpeg:https://thi.ucsc.edu/wp-content/uploads/2019/06/CFCM_2019_Concert_Pages_Banners_CommunityNight_R1.jpg
END:VEVENT
END:VCALENDAR