BEGIN:VCALENDAR
VERSION:2.0
PRODID:-//The Humanities Institute - ECPv6.15.20//NONSGML v1.0//EN
CALSCALE:GREGORIAN
METHOD:PUBLISH
X-WR-CALNAME:The Humanities Institute
X-ORIGINAL-URL:https://thi.ucsc.edu
X-WR-CALDESC:Events for The Humanities Institute
REFRESH-INTERVAL;VALUE=DURATION:PT1H
X-Robots-Tag:noindex
X-PUBLISHED-TTL:PT1H
BEGIN:VTIMEZONE
TZID:America/Los_Angeles
BEGIN:DAYLIGHT
TZOFFSETFROM:-0800
TZOFFSETTO:-0700
TZNAME:PDT
DTSTART:20180311T100000
END:DAYLIGHT
BEGIN:STANDARD
TZOFFSETFROM:-0700
TZOFFSETTO:-0800
TZNAME:PST
DTSTART:20181104T090000
END:STANDARD
BEGIN:DAYLIGHT
TZOFFSETFROM:-0800
TZOFFSETTO:-0700
TZNAME:PDT
DTSTART:20190310T100000
END:DAYLIGHT
BEGIN:STANDARD
TZOFFSETFROM:-0700
TZOFFSETTO:-0800
TZNAME:PST
DTSTART:20191103T090000
END:STANDARD
BEGIN:DAYLIGHT
TZOFFSETFROM:-0800
TZOFFSETTO:-0700
TZNAME:PDT
DTSTART:20200308T100000
END:DAYLIGHT
BEGIN:STANDARD
TZOFFSETFROM:-0700
TZOFFSETTO:-0800
TZNAME:PST
DTSTART:20201101T090000
END:STANDARD
END:VTIMEZONE
BEGIN:VEVENT
DTSTART;TZID=America/Los_Angeles:20191209T183000
DTEND;TZID=America/Los_Angeles:20191209T200000
DTSTAMP:20260425T154112
CREATED:20191115T220029Z
LAST-MODIFIED:20191216T201305Z
UID:10005666-1575916200-1575921600@thi.ucsc.edu
SUMMARY:Sean Keilen: Reading Hamlet Now
DESCRIPTION:Shakespeare’s works are rightly famous for their lifelikeness and insights into human affairs. What can they show us about our circumstances now\, in a world where truth is inscrutable\, social and political institutions are in decline\, and we seem to relish conflict more than peace? This lecture will explore that question in the context of Hamlet\, looking specifically at the way that Shakespeare presents reading\, education\, and the theater as resources for self-development and setting the world right. The lecture does not assume any prior knowledge of Shakespeare\, but reading or watching Hamlet beforehand will make for a livelier discussion. \n  \nIf you have trouble viewing above images\, you may view this album directly on Flickr. \n  \nSean Keilen is Professor of Literature and Provost of Porter College at UC Santa Cruz\, where he directs Shakespeare Workshop\, a research center of The Humanities Institute that uses Shakespeare’s writing to bring the campus and the community together in conversation about topics of shared concern. He studies Shakespeare and the history of criticism\, and is the author or editor of books and essays about early British literature and the classical tradition in England. He was educated at Williams College\, Cambridge\, and Stanford University. \n  \n  \n 
URL:https://thi.ucsc.edu/event/sean-keilen-reading-hamlet-now/
LOCATION:Forager\, San Jose\, 420 S 1st St\, San Jose\, CA\, 95172\, United States
ATTACH;FMTTYPE=image/jpeg:https://thi.ucsc.edu/wp-content/uploads/2019/11/Hamlet-Banner.jpg
END:VEVENT
END:VCALENDAR