BEGIN:VCALENDAR
VERSION:2.0
PRODID:-//The Humanities Institute - ECPv6.15.20//NONSGML v1.0//EN
CALSCALE:GREGORIAN
METHOD:PUBLISH
X-WR-CALNAME:The Humanities Institute
X-ORIGINAL-URL:https://thi.ucsc.edu
X-WR-CALDESC:Events for The Humanities Institute
REFRESH-INTERVAL;VALUE=DURATION:PT1H
X-Robots-Tag:noindex
X-PUBLISHED-TTL:PT1H
BEGIN:VTIMEZONE
TZID:America/Los_Angeles
BEGIN:DAYLIGHT
TZOFFSETFROM:-0800
TZOFFSETTO:-0700
TZNAME:PDT
DTSTART:20190310T100000
END:DAYLIGHT
BEGIN:STANDARD
TZOFFSETFROM:-0700
TZOFFSETTO:-0800
TZNAME:PST
DTSTART:20191103T090000
END:STANDARD
BEGIN:DAYLIGHT
TZOFFSETFROM:-0800
TZOFFSETTO:-0700
TZNAME:PDT
DTSTART:20200308T100000
END:DAYLIGHT
BEGIN:STANDARD
TZOFFSETFROM:-0700
TZOFFSETTO:-0800
TZNAME:PST
DTSTART:20201101T090000
END:STANDARD
BEGIN:DAYLIGHT
TZOFFSETFROM:-0800
TZOFFSETTO:-0700
TZNAME:PDT
DTSTART:20210314T100000
END:DAYLIGHT
BEGIN:STANDARD
TZOFFSETFROM:-0700
TZOFFSETTO:-0800
TZNAME:PST
DTSTART:20211107T090000
END:STANDARD
END:VTIMEZONE
BEGIN:VEVENT
DTSTART;TZID=America/Los_Angeles:20200325T160000
DTEND;TZID=America/Los_Angeles:20200325T190000
DTSTAMP:20260423T170812
CREATED:20200305T171421Z
LAST-MODIFIED:20200310T210102Z
UID:10005717-1585152000-1585162800@thi.ucsc.edu
SUMMARY:CANCELLED: The Deep Read: Kresge Reads The Testaments
DESCRIPTION:Get in the Deep Read spirit with a community of readers. Every Wednesday from 4:00 p.m.-7:00 p.m. (through April 1)\, students\, staff\, and faculty are welcome to join Kresge Provost Ben Leeds Carson at the Kresge Provost House to read aloud and discuss The Testaments. \nTo find the location\, follow Google Maps to “Kresge Provost House\,” and park in lot 143. The house is through a marked door in a stucco wall across the street from the lot. \nOpen to students\, faculty and staff.
URL:https://thi.ucsc.edu/event/the-deep-read-kresge-reads-the-testaments-2/
LOCATION:Kresge Provost House\, Programs Annex\, 510 Porter-Kresge Rd\, Santa Cruz\, CA\, United States
ATTACH;FMTTYPE=image/png:https://thi.ucsc.edu/wp-content/uploads/2020/01/DeepReadHero.png
END:VEVENT
END:VCALENDAR