BEGIN:VCALENDAR
VERSION:2.0
PRODID:-//The Humanities Institute - ECPv6.15.20//NONSGML v1.0//EN
CALSCALE:GREGORIAN
METHOD:PUBLISH
X-ORIGINAL-URL:https://thi.ucsc.edu
X-WR-CALDESC:Events for The Humanities Institute
REFRESH-INTERVAL;VALUE=DURATION:PT1H
X-Robots-Tag:noindex
X-PUBLISHED-TTL:PT1H
BEGIN:VTIMEZONE
TZID:America/Los_Angeles
BEGIN:DAYLIGHT
TZOFFSETFROM:-0800
TZOFFSETTO:-0700
TZNAME:PDT
DTSTART:20190310T100000
END:DAYLIGHT
BEGIN:STANDARD
TZOFFSETFROM:-0700
TZOFFSETTO:-0800
TZNAME:PST
DTSTART:20191103T090000
END:STANDARD
BEGIN:DAYLIGHT
TZOFFSETFROM:-0800
TZOFFSETTO:-0700
TZNAME:PDT
DTSTART:20200308T100000
END:DAYLIGHT
BEGIN:STANDARD
TZOFFSETFROM:-0700
TZOFFSETTO:-0800
TZNAME:PST
DTSTART:20201101T090000
END:STANDARD
BEGIN:DAYLIGHT
TZOFFSETFROM:-0800
TZOFFSETTO:-0700
TZNAME:PDT
DTSTART:20210314T100000
END:DAYLIGHT
BEGIN:STANDARD
TZOFFSETFROM:-0700
TZOFFSETTO:-0800
TZNAME:PST
DTSTART:20211107T090000
END:STANDARD
END:VTIMEZONE
BEGIN:VEVENT
DTSTART;TZID=America/Los_Angeles:20200330T190000
DTEND;TZID=America/Los_Angeles:20200330T210000
DTSTAMP:20260420T203429
CREATED:20190919T233132Z
LAST-MODIFIED:20200313T174608Z
UID:10006779-1585594800-1585602000@thi.ucsc.edu
SUMMARY:CANCELLED - Fly Higher: Charlie Parker @ 100 – Co-Musical Directors - Rudresh Mahanthappa & Terri Lyne Carrington
DESCRIPTION:March 12\, 2020 \nRecognizing the mandate from the Governor of California\, Kuumbwa Jazz is cancelling/postponing all concerts through at least March 30th. Ticketholders will be contacted directly\, on or by Monday\, March 16th\, regarding ticket refunds and other ticketing options. We will be working on rescheduling as many concert dates as possible and will provide updates as they become available. We appreciate your understanding and we will continue to follow the direction and guidance provided by official agencies\, as the wellbeing of our patrons and community remains our top priority. \nKuumbwa Jazz presents acclaimed co-musical directors Rudresh Mahanthappa (alto saxophone) and Terri Lyne Carrington (drums) celebrating one of the most innovative and influential artists in modern musical history and examine his impact in pop\, hip-hop\, rap\, rock\, and jazz. Joined by a superb lineup including Charenée Wade (vocals)\, Adam O’Farrill (trumpet)\, Kris Davis (piano)\, Larry Grenadier (bass) and Kassa Overall (DJ)\, Mahanthappa and Carrington will honor Charlie Parker’s centennial year by showcasing “Bird’s” uncompromising musical joy\, humor\, and beauty by mining his deep repertoire and showcasing new\, modern compositions. “In a time where the words ‘innovation’ and ‘genius’ are overused\, we are excited to celebrate a man who truly embodied both\,” says Mahanthappa\, “and the best way one shows admiration is not to age their work but to show their influence and how their work resonates in a modern age.” Rather than imitating the original\, Fly Higher strives to forward the artform by developing new perspectives on tradition. That is the true substance of contemporary expression and\, as Mahanthappa says\, “we firmly believe that Bird would have wanted his legacy to resonate in this fashion.” After all\, the only way to address the present is to place one foot in the past and one foot in the future. \n \n(5% City of Santa Cruz Admission Tax included\, service charge not included)\nSponsored by The Humanities Institute at UC Santa Cruz \n“Bird Lives” painting by Vel Verrept based on a photograph by Herman Leonard\, © Herman Leonard Photography\, LLC
URL:https://thi.ucsc.edu/event/fly-higher-charlie-parker-100-co-musical-directors-rudresh-mahanthappa-terri-lyne-carrington/
LOCATION:Kuumbwa Jazz Center
ATTACH;FMTTYPE=image/jpeg:https://thi.ucsc.edu/wp-content/uploads/2019/09/Charlie_Parker_at_100.jpg
END:VEVENT
BEGIN:VEVENT
DTSTART;TZID=America/Los_Angeles:20200401T133000
DTEND;TZID=America/Los_Angeles:20200401T153000
DTSTAMP:20260420T203429
CREATED:20200227T234918Z
LAST-MODIFIED:20200317T171019Z
UID:10005713-1585747800-1585755000@thi.ucsc.edu
SUMMARY:CANCELLED: California Humanities Listening Session - Santa Cruz
DESCRIPTION:California Humanities wants to hear from you. \nWe are embarking on a listening tour throughout California over the next few months to find out who is producing humanities content and programming in our regions and across California. \nOur goal is to sit down and talk with organizations and individuals focused on telling California stories through the humanities\, and consider how we might all work together to learn from each other and amplify our voices. \nAt the listening session\, you will: \n\nShare your knowledge about humanities and cultural programming in and around Santa Cruz\nProvide feedback and ideas on improving the collaboration of humanities and cultural programs locally and across the state\nLimited seating; registration required.\n\n \nPlease note that the listening sessions are not workshops to learn more about our grant programs. Grants Workshops are scheduled throughout the year and you can find more information on our grants and workshops on our webpage. \nTo learn more\, visit calhum.org. With questions\, write to Outreach & Advocacy Manager John Nguyen-Yap at jnguyenyap@calhum.org
URL:https://thi.ucsc.edu/event/california-humanities-listening-session-santa-cruz/
LOCATION:Santa Cruz Museum of Art and History
END:VEVENT
BEGIN:VEVENT
DTSTART;TZID=America/Los_Angeles:20200401T160000
DTEND;TZID=America/Los_Angeles:20200401T190000
DTSTAMP:20260420T203429
CREATED:20200305T171530Z
LAST-MODIFIED:20200310T210140Z
UID:10006849-1585756800-1585767600@thi.ucsc.edu
SUMMARY:CANCELLED: The Deep Read: Kresge Reads The Testaments
DESCRIPTION:Get in the Deep Read spirit with a community of readers. Every Wednesday from 4:00 p.m.-7:00 p.m. (through April 1)\, students\, staff\, and faculty are welcome to join Kresge Provost Ben Leeds Carson at the Kresge Provost House to read aloud and discuss The Testaments. \nTo find the location\, follow Google Maps to “Kresge Provost House\,” and park in lot 143. The house is through a marked door in a stucco wall across the street from the lot. \nOpen to students\, faculty and staff.
URL:https://thi.ucsc.edu/event/the-deep-read-kresge-reads-the-testaments-3/
LOCATION:Kresge Provost House\, Programs Annex\, 510 Porter-Kresge Rd\, Santa Cruz\, CA\, United States
ATTACH;FMTTYPE=image/png:https://thi.ucsc.edu/wp-content/uploads/2020/01/DeepReadHero.png
END:VEVENT
BEGIN:VEVENT
DTSTART;TZID=America/Los_Angeles:20200402T170000
DTEND;TZID=America/Los_Angeles:20200402T190000
DTSTAMP:20260420T203429
CREATED:20191224T000032Z
LAST-MODIFIED:20200316T180043Z
UID:10006820-1585846800-1585854000@thi.ucsc.edu
SUMMARY:Postponed - We Are Not Aliens: Arthur Jafa\, Martine Syms\, and Afro-Futurism 2.0 Exhibition at the Sesnon Gallery
DESCRIPTION:We Are Not Aliens: Arthur Jafa\, Martine Syms\, and Afro-Futurism 2.0 assembles select artistic projects that investigate emancipatory futures of justice opposed to historical and contemporary racism\, socioeconomic inequality\, and state violence. It centers around Arthur Jafa’s startling and moving video “Love is the Message\, the Message is Death\,” which offers a short account of anti-black police brutality as well as speculative visions of African-American emancipation\, collective resistance\, and poetic love. The piece includes a short passage of artist Martine Syms delivering her “Mundane Afrofuturist Manifesto” in which she states “We are not aliens”—critically distancing herself from earlier formulations of Afro-futurism and making a powerful case for its contemporary reinvention. The show will reproduce her text as an artistic wall painting and also include an hour-long KCET video that explores the inspirational ideas behind the Manifesto\, which lays out visions of African-American creativity dedicated to the radical imagination of a coming world of liberation. \nThe exhibition forms part of Beyond the End of the World\, which comprises a year-long research and exhibition project and public lecture series\, directed by T. J. Demos of UCSC’s Center for Creative Ecologies. The project brings leading international thinkers and cultural practitioners to UC Santa Cruz to discuss what lies beyond dystopian catastrophism\, and asks how we can cultivate radical futures of social justice and ecological flourishing. Funded by the Andrew W. Mellon Foundation John E. Sawyer Seminar on the Comparative Study of Culture\, and administered by UCSC’s Humanities Institute. For more information visit BEYOND.UCSC.EDU
URL:https://thi.ucsc.edu/event/we-are-not-aliens-arthur-jafa-martine-syms-and-afro-futurism-2-0-exhibition-at-sesnon-gallery/
LOCATION:Mary Porter Sesnon Art Gallery
ATTACH;FMTTYPE=image/jpeg:https://thi.ucsc.edu/wp-content/uploads/2019/12/5-Still.ArthurJafa2016.sun_-scaled.jpg
END:VEVENT
BEGIN:VEVENT
DTSTART;TZID=America/Los_Angeles:20200403T130000
DTEND;TZID=America/Los_Angeles:20200403T153000
DTSTAMP:20260420T203429
CREATED:20191017T204510Z
LAST-MODIFIED:20200310T194604Z
UID:10006791-1585918800-1585927800@thi.ucsc.edu
SUMMARY:CANCELLED - 16th Annual Graduate Research Symposium
DESCRIPTION:The UC Santa Cruz Graduate Research Symposium offers graduate students from every division the opportunity to discuss their research with colleagues on campus and with the public. \nMcHenry Library\nInformation Commons South and Adjoining Classrooms\nApril 3\, 2020\n1:15 p.m. Kickoff\n1:30–3:30 p.m. Judging\n3:30–5:30 p.m. Award Reception\, south terrace and lawn \nFor more information visit: graddiv.ucsc.edu/events/symposium
URL:https://thi.ucsc.edu/event/16th-annual-graduate-research-symposium/
LOCATION:McHenry Library\, UCSC
END:VEVENT
BEGIN:VEVENT
DTSTART;TZID=America/Los_Angeles:20200403T132000
DTEND;TZID=America/Los_Angeles:20200403T150000
DTSTAMP:20260420T203429
CREATED:20191002T180319Z
LAST-MODIFIED:20200311T193037Z
UID:10005654-1585920000-1585926000@thi.ucsc.edu
SUMMARY:CANCELLED - Linguistics Colloquia: Kathryn Davidson
DESCRIPTION:Kathryn Davidson (Harvard) – Title TBD \nKathryn Davidson is an assistant professor in Linguistics at Harvard University where her research investigates the unique capacity that we have to understand an infinite number of sentences that we’ve never encountered before (semantics)\, how we incorporate contextual information into these meanings (pragmatics)\, and how we ever learn to do this (development). In her lab they make balanced use of theory for hypothesis creation with psycholinguistic experimental methods for gathering and analyzing behavioral data based on a wide variety of spoken and signed languages. Davidson’s academic background is in math and theoretical linguistics\, and her sign language background began while learning ASL as a student at UCSD and postdoc at UConn. \nAbout eight times each year\, the Linguistics department hosts colloquia by distinguished faculty from around the world. \nFor full information visit: https://linguistics.ucsc.edu/news-events/colloquia/index.html
URL:https://thi.ucsc.edu/event/linguistics-colloquia-kathryn-davidson/
LOCATION:Humanities 2\, Room 259
ORGANIZER;CN="Linguistics Department":MAILTO:mjzimmer@ucsc.edu
END:VEVENT
BEGIN:VEVENT
DTSTART;VALUE=DATE:20200404
DTEND;VALUE=DATE:20200406
DTSTAMP:20260420T203429
CREATED:20190927T172651Z
LAST-MODIFIED:20200310T171215Z
UID:10006782-1585958400-1586131199@thi.ucsc.edu
SUMMARY:CANCELLED - Alumni Weekend 2020
DESCRIPTION:Save the date for UCSC’s Alumni Weekend! The 2020 event is on the way\, and this year’s gathering will be held Saturday\, April 4 and Sunday\, April 5\, 2020. Alumni Weekend is a signature campus event at which we honor our ever-growing network of 115\,000+ fellow Banana Slugs by inviting them to come back to campus to reconnect and engage.
URL:https://thi.ucsc.edu/event/alumni-weekend-2020/
LOCATION:CA\, United States
ORGANIZER;CN="UCSC Special Events Office":MAILTO:specialevents@ucsc.edu
END:VEVENT
BEGIN:VEVENT
DTSTART;TZID=America/Los_Angeles:20200404T120000
DTEND;TZID=America/Los_Angeles:20200404T140000
DTSTAMP:20260420T203429
CREATED:20200108T214822Z
LAST-MODIFIED:20200310T171141Z
UID:10005683-1586001600-1586008800@thi.ucsc.edu
SUMMARY:CANCELLED - Seeds of Something Different: An Oral History of the University of California\, Santa Cruz
DESCRIPTION:Celebrate the publication of a uniquely compelling book and the shared history it brings to life. Illustrated with rarely-seen archival images\, Seeds of Something Different—debuting this weekend after years in the making—chronicles UC Santa Cruz history in the voices of more than two hundred students\, community members\, staff\, faculty\, and campus leaders who have contributed their oral histories to the Library’s Regional History Project since 1963. Distinguished Professor of Feminist Studies Bettina Aptheker will facilitate this national launch event\, with insights from the editors\, a reading and Q&A\, and a slideshow. Schmooze with fellow alumni and purchase your signed copy of this collector’s item. Light refreshments will be served. \nBettina Aptheker is a distinguished Professor in the Humanities Department at UC Santa Cruz and holds a Ph.D. in the History of Consciousness. Aptheker’s broad areas of focus are in Feminist Studies including critical race\, queer theory\, sexual violence\, reproductive freedom\, African American feminist history\, Jewish women’s culture\, African American and women’s history late 19th century through 20th century. Her current research is called “Queering the History of the American Left: 1940s-1980s” Based on extensive archival research\, especially in the files of the Communist Party\, and interviews.  Her most recent books are\, Intimate Politics: How I Grew Up Red\, Fought for Free Speech and Became A Feminist Rebel (2006. Other book(s): The Morning Breaks: The Trial of Angela Davis (1976; second edition\, 1999)\, Tapestries of Life: Women’s Work\, Women’s Consciousness and the Meaning of Daily Life (1989). \n 
URL:https://thi.ucsc.edu/event/seeds-of-something-different-an-oral-history-of-the-university-of-california-santa-cruz/
LOCATION:Cultural Center at Merrill\, Merrill Cultural Center\, UC Santa Cruz\, Merrill College\, Santa Cruz\, CA\, 95064\, United States
ATTACH;FMTTYPE=image/jpeg:https://thi.ucsc.edu/wp-content/uploads/2020/01/UCSC-Banner.jpg
END:VEVENT
END:VCALENDAR