BEGIN:VCALENDAR
VERSION:2.0
PRODID:-//The Humanities Institute - ECPv6.15.20//NONSGML v1.0//EN
CALSCALE:GREGORIAN
METHOD:PUBLISH
X-ORIGINAL-URL:https://thi.ucsc.edu
X-WR-CALDESC:Events for The Humanities Institute
REFRESH-INTERVAL;VALUE=DURATION:PT1H
X-Robots-Tag:noindex
X-PUBLISHED-TTL:PT1H
BEGIN:VTIMEZONE
TZID:America/Los_Angeles
BEGIN:DAYLIGHT
TZOFFSETFROM:-0800
TZOFFSETTO:-0700
TZNAME:PDT
DTSTART:20190310T100000
END:DAYLIGHT
BEGIN:STANDARD
TZOFFSETFROM:-0700
TZOFFSETTO:-0800
TZNAME:PST
DTSTART:20191103T090000
END:STANDARD
BEGIN:DAYLIGHT
TZOFFSETFROM:-0800
TZOFFSETTO:-0700
TZNAME:PDT
DTSTART:20200308T100000
END:DAYLIGHT
BEGIN:STANDARD
TZOFFSETFROM:-0700
TZOFFSETTO:-0800
TZNAME:PST
DTSTART:20201101T090000
END:STANDARD
BEGIN:DAYLIGHT
TZOFFSETFROM:-0800
TZOFFSETTO:-0700
TZNAME:PDT
DTSTART:20210314T100000
END:DAYLIGHT
BEGIN:STANDARD
TZOFFSETFROM:-0700
TZOFFSETTO:-0800
TZNAME:PST
DTSTART:20211107T090000
END:STANDARD
END:VTIMEZONE
BEGIN:VEVENT
DTSTART;TZID=America/Los_Angeles:20200415T121500
DTEND;TZID=America/Los_Angeles:20200415T130000
DTSTAMP:20260421T024624
CREATED:20200227T215914Z
LAST-MODIFIED:20200312T203620Z
UID:10006839-1586952900-1586955600@thi.ucsc.edu
SUMMARY:CANCELLED - Cultural Studies Colloquium: Christiana Giordana
DESCRIPTION:The Center for Cultural Studies hosts a weekly Wednesday colloquium featuring work by faculty and visitors. The sessions consist of a 40-45 minute presentation followed by discussion. We gather at noon\, with presentations beginning at 12:15 PM. Participants are encouraged to bring their own lunches; the Center provides coffee\, tea\, and cookies. \nAll Center for Cultural Studies events are free and open to the public. Staff assistance is provided by the Humanities Institute.
URL:https://thi.ucsc.edu/event/cultural-studies-colloquium-christiana-giordana/
LOCATION:Humanities 1\, Room 210\, 1156 high st\, Santa cruz\, CA\, 95060\, United States
END:VEVENT
BEGIN:VEVENT
DTSTART;TZID=America/Los_Angeles:20200415T170000
DTEND;TZID=America/Los_Angeles:20200415T200000
DTSTAMP:20260421T024624
CREATED:20190722T193923Z
LAST-MODIFIED:20200312T193139Z
UID:10005623-1586970000-1586980800@thi.ucsc.edu
SUMMARY:CANCELLED - Nick Estes and Melanie Yazzie: Beyond the End of the World Sawyer Seminar Series
DESCRIPTION:The Humanities Institute and the Center for Creative Ecologies present Beyond the End of the World Lecture Series \nNick Estes is a citizen of the Lower Brule Sioux Tribe. He is an Assistant Professor in the American Studies Department at the University of New Mexico. In 2014\, he co-founded The Red Nation\, an Indigenous resistance organization. For 2017-2018\, Estes was the American Democracy Fellow at the Charles Warren Center for Studies in American History at Harvard University. His research engages colonialism and global Indigenous histories\, with a focus on decolonization\, oral history\, U.S. imperialism\, environmental justice\, anti-capitalism\, and the Oceti Sakowin. Estes is the author of the book Our History Is the Future: Standing Rock Versus the Dakota Access Pipeline\, and the Long Tradition of Indigenous Resistance (Verso\, 2019)\, which places into historical context the Indigenous-led movement to stop the Dakota Access Pipeline. He edited with Jaskiran Dhillon the volume Standing with Standing Rock: Voices from the #NoDAPL Movement (University of Minnesota\, 2019)\, which draws together more than thirty contributors\, including leaders\, scholars\, and activists of the Standing Rock movement. \nMelanie K. Yazzie (Bilagáana/Diné) holds a Ph.D. in American Studies from the University of New Mexico\, and is is Assistant Professor in the Department of Native American Studies and the Department of American Studies\, University of New Mexico. She specializes in violence\, biopolitics\, water\, Navajo/American Indian history; (neo)liberalism; settler colonialism; Indigenous feminisms; Native American studies; social movements; urban Native experience; political ecology; queer Indigenous studies; Marxist theories of history\, knowledge\, and power; and theories of policing and the state. Her first book\, Life in The Age of Extraction: Diné History in A Biopolitical Register\, shows how biopolitical calculations of Navajo life that accompanied the introduction of extractive economies in the 1930s have become a full-scale biopolitical epoch defined by violent relations of extraction. With Nick Estes\, she guest-edited a special issue of Wicazo Sa Review (June 2016) on the legacy of Dakota scholar Elizabeth Cook-Lynn\, one of the founders of Native American studies\, and co-edited a special issue of Decolonization: Indigeneity\, Education and Society with Cutcha Risling-Baldy on Indigenous water politics (2018). \nBeyond the End of the World comprises a year-long research and exhibition project and public lecture series\, directed by T. J. Demos of UCSC’s Center for Creative Ecologies. The project brings leading international thinkers and cultural practitioners to UC Santa Cruz to discuss what lies beyond dystopian catastrophism\, and asks how we can cultivate radical futures of social justice and ecological flourishing. Funded by the Andrew W. Mellon Foundation John E. Sawyer Seminar on the Comparative Study of Culture. For more information visit BEYOND.UCSC.EDU \nIf you have disability-related needs\, please contact the The Humanities Institute at thi@ucsc.edu or call 831-459-5655.
URL:https://thi.ucsc.edu/event/sawyer-seminar-nick-estes-and-melanie-yazzie/
LOCATION:TBD\, CA\, United States
END:VEVENT
BEGIN:VEVENT
DTSTART;TZID=America/Los_Angeles:20200415T190000
DTEND;TZID=America/Los_Angeles:20200415T210000
DTSTAMP:20260421T024624
CREATED:20200417T015705Z
LAST-MODIFIED:20200417T015705Z
UID:10006853-1586977200-1586984400@thi.ucsc.edu
SUMMARY:MAH Film Night: Radical Futurisms (Part I Rescreen)
DESCRIPTION:Gather ’round your home screen and watch films from a diverse group of visionaries on topics and themes related to our current exhibition\, Beyond the World’s End. \n \nJoin curator TJ Demos for a virtual introduction and (re)screening of films originally shown last month at the Del Mar Theater that seek to offer points of light in a dark world. \nHow are visual artists imagining radical futures? How can the traditions of oppressed peoples become the foundation of the future? How can social justice and ecosystems flourish going forward? How can we escape our current climate of catastrophe and anxiety and instead transform the present into a radical future by asking what is “not-yet”? \nShown in conjunction with our exhibition Beyond the World’s End\, this three-part film series is part of a year-long research and exhibition project and public lecture series. Directed by T. J. Demos of the Center for Creative Ecologies\, and including the collaboration of UCSC PhD Mellon fellows Isabelle Carbonell and Chessa Adsit-Morris\, it brings leading international thinkers and cultural practitioners to UC Santa Cruz to discuss what lies beyond dystopian catastrophism\, and how we can cultivate radical futures of social justice and ecological flourishing. Funded by the Andrew W. Mellon Foundation John E. Sawyer Seminar on the Comparative Study of Culture. For more information visit BEYOND.UCSC.EDU \n\nSchedule \n6:50pm – Screening opens. Space is limited to the first 100 people to sign into the Zoom meeting.\n7:00pm – Welcome from MAH Staff\, followed by an introduction from guest curator TJ Demos.\n7:15pm – Film program will begin\, followed by a 20 min open conversation on zoom. \nThe Zoom link will be sent out at 2pm & 6:40pm on event day to all that RSVP’d via Eventbrite. If you have any questions please email info@santacruzmah.org.
URL:https://thi.ucsc.edu/event/mah-film-night-radical-futurisms-part-i-rescreen/
LOCATION:CA
ATTACH;FMTTYPE=image/jpeg:https://thi.ucsc.edu/wp-content/uploads/2020/04/radicalfilm-3.jpg
END:VEVENT
BEGIN:VEVENT
DTSTART;TZID=America/Los_Angeles:20200417T132000
DTEND;TZID=America/Los_Angeles:20200417T150000
DTSTAMP:20260421T024624
CREATED:20191002T180502Z
LAST-MODIFIED:20200414T201819Z
UID:10005655-1587129600-1587135600@thi.ucsc.edu
SUMMARY:CANCELLED - Linguistics Colloquia: Kevin Ryan
DESCRIPTION:Kevin Ryan (Harvard) – Title TBD \nKevin M. Ryan is a phonologist whose research focuses on prosodic systems and the constituents of speech\, especially stress\, weight\, meter\, and phrasal phonology. This work draws on the statistical analysis of speech/text corpora\, experiments\, and studies of particular languages (often Indic or Dravidian). \nAbout eight times each year\, the Linguistics department hosts colloquia by distinguished faculty from around the world. \nFor full information visit: https://linguistics.ucsc.edu/news-events/colloquia/index.html
URL:https://thi.ucsc.edu/event/linguistics-colloquia-kevin-ryan/
LOCATION:Humanities 2\, Room 259
ORGANIZER;CN="Linguistics Department":MAILTO:mjzimmer@ucsc.edu
END:VEVENT
END:VCALENDAR