BEGIN:VCALENDAR
VERSION:2.0
PRODID:-//The Humanities Institute - ECPv6.15.20//NONSGML v1.0//EN
CALSCALE:GREGORIAN
METHOD:PUBLISH
X-WR-CALNAME:The Humanities Institute
X-ORIGINAL-URL:https://thi.ucsc.edu
X-WR-CALDESC:Events for The Humanities Institute
REFRESH-INTERVAL;VALUE=DURATION:PT1H
X-Robots-Tag:noindex
X-PUBLISHED-TTL:PT1H
BEGIN:VTIMEZONE
TZID:America/Los_Angeles
BEGIN:DAYLIGHT
TZOFFSETFROM:-0800
TZOFFSETTO:-0700
TZNAME:PDT
DTSTART:20190310T100000
END:DAYLIGHT
BEGIN:STANDARD
TZOFFSETFROM:-0700
TZOFFSETTO:-0800
TZNAME:PST
DTSTART:20191103T090000
END:STANDARD
BEGIN:DAYLIGHT
TZOFFSETFROM:-0800
TZOFFSETTO:-0700
TZNAME:PDT
DTSTART:20200308T100000
END:DAYLIGHT
BEGIN:STANDARD
TZOFFSETFROM:-0700
TZOFFSETTO:-0800
TZNAME:PST
DTSTART:20201101T090000
END:STANDARD
BEGIN:DAYLIGHT
TZOFFSETFROM:-0800
TZOFFSETTO:-0700
TZNAME:PDT
DTSTART:20210314T100000
END:DAYLIGHT
BEGIN:STANDARD
TZOFFSETFROM:-0700
TZOFFSETTO:-0800
TZNAME:PST
DTSTART:20211107T090000
END:STANDARD
END:VTIMEZONE
BEGIN:VEVENT
DTSTART;TZID=America/Los_Angeles:20200819T183000
DTEND;TZID=America/Los_Angeles:20200819T200000
DTSTAMP:20260422T214238
CREATED:20200617T193754Z
LAST-MODIFIED:20200908T221936Z
UID:10006870-1597861800-1597867200@thi.ucsc.edu
SUMMARY:VIRTUAL - Undiscovered Shakespeare: The Wars of the Roses - Henry VI\, Part 3
DESCRIPTION:Join actors\, scholars\, and friends for ten live readings and discussions focused on the plays about a divided society and a civil war that made Shakespeare famous in the London theater. \n \nUndiscovered Shakespeare: The Wars of the Roses is a public arts and humanities series co-produced by Santa Cruz Shakespeare\, UCSC Shakespeare Workshop\, and The Humanities Institute. It brings professional actors and scholars together with the public for a staged reading and discussion of the works that made Shakespeare famous in the London theater. As a young writer at the start of his career\, Shakespeare explored ambitions\, rivalries\, and passions that swept away the dynasty that had reigned in England for more than four centuries. Over the course of ten sessions\, we will immerse ourselves in these rarely performed plays—in Henry VI\, Parts 1\, 2\, and 3 and Richard III—and reflect on them both as points of departure for Shakespeare’s career and as a mirror for the times in which we live. \nSchedule: The first nine sessions will last approximately ninety minutes (including an intermission) and will begin at 6:30pm PST. The final session of Richard III will last approximately two and a half hours. \nSessions are free to the public\, and participants are not obligated to attend every meeting of the program. \n*Participants reading along should expect for the first meeting about each play to cover acts one and two; the second meeting to cover acts three and four; and the third meeting to cover act five. The session focussing on Richard III will be a live reading of the entire play. \nJuly 1\, 8\, and 15: Henry VI\, Part 1 – click to view play synopsis \nwith scholars Adam Zucker (UMass\, Amherst) and Ariane Helou (UCLA) \nJuly 22\, 29\, and Aug 5: Henry VI\, Part 2 – click to view play synopsis\nwith scholars Sean Keilen (UCSC) and Maria Frangos (SCS) \nAugust 12\, 19\, 26: Henry VI\, Part 3 – click to view play synopsis\nwith scholars Claire McEachern (UCLA) and Ashley Herum (UC Santa Cruz) \nSeptember 2: Richard III – click to view play synopsis — live reading of the full play (apx. 2.5 hours)\nwith scholar Amani Liggett (UC Santa Cruz) \nTexts available from Folger Shakespeare Library at: https://shakespeare.folger.edu/shakespeares-works/ \nPlay synopses available from Shakespeare 2020 Project at: https://iandoescher.com/shakespeare/  \nHenry VI\, Full Play Synopsis: In the wake of King Henry V’s death\, the French rebel against English rule. Joan la Pucelle (Joan of Arc) is made general of the French forces. Meanwhile\, in England\, a quarrel between two powerful lords\, the Duke of Somerset and Richard Plantagenet\, Duke of York\, consumes the court when they demand that fellow nobles pick a side by wearing either a red rose (Somerset and the house of Lancaster) or a white rose (the Duke and the house of York). The mounting tensions in the court distract the English from their goals in France\, and young King Henry VI concludes an uneasy peace. He is persuaded to marry a captured French princess\, Margaret of Anjou\, whom he has never met.
URL:https://thi.ucsc.edu/event/virtual-undiscovered-shakespeare-the-wars-of-the-roses-henry-vi-part-3/
LOCATION:CA
ATTACH;FMTTYPE=image/jpeg:https://thi.ucsc.edu/wp-content/uploads/2020/06/War-of-Roses_Final_1024x576-1.jpg
END:VEVENT
END:VCALENDAR