BEGIN:VCALENDAR
VERSION:2.0
PRODID:-//The Humanities Institute - ECPv6.15.20//NONSGML v1.0//EN
CALSCALE:GREGORIAN
METHOD:PUBLISH
X-WR-CALNAME:The Humanities Institute
X-ORIGINAL-URL:https://thi.ucsc.edu
X-WR-CALDESC:Events for The Humanities Institute
REFRESH-INTERVAL;VALUE=DURATION:PT1H
X-Robots-Tag:noindex
X-PUBLISHED-TTL:PT1H
BEGIN:VTIMEZONE
TZID:America/Los_Angeles
BEGIN:DAYLIGHT
TZOFFSETFROM:-0800
TZOFFSETTO:-0700
TZNAME:PDT
DTSTART:20200308T100000
END:DAYLIGHT
BEGIN:STANDARD
TZOFFSETFROM:-0700
TZOFFSETTO:-0800
TZNAME:PST
DTSTART:20201101T090000
END:STANDARD
BEGIN:DAYLIGHT
TZOFFSETFROM:-0800
TZOFFSETTO:-0700
TZNAME:PDT
DTSTART:20210314T100000
END:DAYLIGHT
BEGIN:STANDARD
TZOFFSETFROM:-0700
TZOFFSETTO:-0800
TZNAME:PST
DTSTART:20211107T090000
END:STANDARD
BEGIN:DAYLIGHT
TZOFFSETFROM:-0800
TZOFFSETTO:-0700
TZNAME:PDT
DTSTART:20220313T100000
END:DAYLIGHT
BEGIN:STANDARD
TZOFFSETFROM:-0700
TZOFFSETTO:-0800
TZNAME:PST
DTSTART:20221106T090000
END:STANDARD
END:VTIMEZONE
BEGIN:VEVENT
DTSTART;TZID=America/Los_Angeles:20210402T132000
DTEND;TZID=America/Los_Angeles:20210402T132000
DTSTAMP:20260423T170813
CREATED:20201203T010651Z
LAST-MODIFIED:20201203T010651Z
UID:10005789-1617369600-1617369600@thi.ucsc.edu
SUMMARY:Ora Matushansky Linguistics Colloquium
DESCRIPTION:For more information\, please see the Linguistics Department Colloquia page.
URL:https://thi.ucsc.edu/event/ora-matushansky-linguistics-colloquium/
LOCATION:Virtual Event
END:VEVENT
BEGIN:VEVENT
DTSTART;TZID=America/Los_Angeles:20210402T163000
DTEND;TZID=America/Los_Angeles:20210402T180000
DTSTAMP:20260423T170813
CREATED:20210401T191836Z
LAST-MODIFIED:20210401T194725Z
UID:10005836-1617381000-1617386400@thi.ucsc.edu
SUMMARY:Okinawa Memories Initiative Graduate Student Roundtable
DESCRIPTION:Mark your calendars for the Okinawa Memories Initiative’s “Graduate Student Talk” featuring a round-table discussion with graduate student team members. Join us at 4:30PM on April 2nd\, for a conversation centering around their work with OMI\, graduate research in History\, and working in the humanities. The panel will feature OMI team members: Alexyss “Lex” Mclellan\, Drew Richardson\, Meleia Simon-Reynolds\, Nirupama Chandrasekhar\, and Wyatt Young.
URL:https://thi.ucsc.edu/event/okinawa-memories-initiative-graduate-student-roundtable/
LOCATION:Virtual Event
END:VEVENT
END:VCALENDAR