BEGIN:VCALENDAR
VERSION:2.0
PRODID:-//The Humanities Institute - ECPv6.15.20//NONSGML v1.0//EN
CALSCALE:GREGORIAN
METHOD:PUBLISH
X-WR-CALNAME:The Humanities Institute
X-ORIGINAL-URL:https://thi.ucsc.edu
X-WR-CALDESC:Events for The Humanities Institute
REFRESH-INTERVAL;VALUE=DURATION:PT1H
X-Robots-Tag:noindex
X-PUBLISHED-TTL:PT1H
BEGIN:VTIMEZONE
TZID:America/Los_Angeles
BEGIN:DAYLIGHT
TZOFFSETFROM:-0800
TZOFFSETTO:-0700
TZNAME:PDT
DTSTART:20210314T100000
END:DAYLIGHT
BEGIN:STANDARD
TZOFFSETFROM:-0700
TZOFFSETTO:-0800
TZNAME:PST
DTSTART:20211107T090000
END:STANDARD
BEGIN:DAYLIGHT
TZOFFSETFROM:-0800
TZOFFSETTO:-0700
TZNAME:PDT
DTSTART:20220313T100000
END:DAYLIGHT
BEGIN:STANDARD
TZOFFSETFROM:-0700
TZOFFSETTO:-0800
TZNAME:PST
DTSTART:20221106T090000
END:STANDARD
BEGIN:DAYLIGHT
TZOFFSETFROM:-0800
TZOFFSETTO:-0700
TZNAME:PDT
DTSTART:20230312T100000
END:DAYLIGHT
BEGIN:STANDARD
TZOFFSETFROM:-0700
TZOFFSETTO:-0800
TZNAME:PST
DTSTART:20231105T090000
END:STANDARD
END:VTIMEZONE
BEGIN:VEVENT
DTSTART;VALUE=DATE:20221006
DTEND;VALUE=DATE:20221010
DTSTAMP:20260425T212106
CREATED:20220901T224155Z
LAST-MODIFIED:20220929T183953Z
UID:10007106-1665014400-1665359999@thi.ucsc.edu
SUMMARY:Santa Cruz Film Festival
DESCRIPTION:The Humanities Institute is happy to co-sponsor the 18th annual Santa Cruz Film Festival. \nFounded in 2001 by Jane Sullivan and Johnny Davis\, the Santa Cruz Film Festival has exhibited over 1\,300 independent films by national and international filmmakers\, as well as films and videos produced in the greater Santa Cruz County and Monterey Bay Areas.This year’s Film Festival includes feature-length films and shorts\, presented at venues across the Santa Cruz area like the Scotts Valley Cultural Art Center\, Porter College at UC Santa Cruz\, and the Colligan Theater. Local filmmakers\, many of whom are UC Santa Cruz alumni\, explore a wide range of themes in their productions\, such as the CZU Lightening Complex fires\, aquatic ecosystems\, and more. \nPlease visit Santa Cruz Film Festival for more information. \n\n\n\n  \n  \n  \n 
URL:https://thi.ucsc.edu/event/santa-cruz-film-festival/
LOCATION:Santa Cruz\, CA\, 95064\, United States
ATTACH;FMTTYPE=image/jpeg:https://thi.ucsc.edu/wp-content/uploads/2022/09/430265F2-1C4D-4137-9C89-234BEA079DF3_we7fgqwheqf4w0dre3fd7w.jpg
END:VEVENT
BEGIN:VEVENT
DTSTART;VALUE=DATE:20221007
DTEND;VALUE=DATE:20221010
DTSTAMP:20260425T212106
CREATED:20220927T180614Z
LAST-MODIFIED:20220927T182106Z
UID:10007147-1665100800-1665359999@thi.ucsc.edu
SUMMARY:Playing with Fire: A Hot Symposium
DESCRIPTION:We will explore the pleasures\, perils & politics of fire through art\, theory\, practice\, and activism.  On the UCSC campus in the DARC building\, room #108. \nThis event is organized by E.A.R.T.H Lab with support from The Humanities Institute. \nThe symposium is free and open to the public\, but registration is required. The full schedule for the Symposium is available here.  \n \nConfirmed speakers and participants include: \n\n\nBeth Stephens and Annie Sprinkle\, Welcome and Intro\nRoxi Power\, Zig Zag:Fire Poems\nBecca Fenwick\, Director\, CITRIS Initiative for Drone Education and Research: Presenting UCNRS Fire Data\nKarin Bolender\, Artist and Director of the Rural Alchemy Workshop (RAW)\nJustin Hoover\, Artist and Director of the Chinese Historical Society of America\nBrandon Smith\, Director of the Forestry and Fire Recruitment Program (FFRC)\nBenny Fillmore\, Washoe Elder and Former Hotshot Firefighter in conversation with Helen Fillmore\, Environmental Scientist\nLaura Smith-Fillmore\, Artist and Translator\nJulie Weitz\, Artist\, Golem: A Call to Action + Prayer for Burnt Forests\nHeather and Michael Llewellyn\, Artists and Curators of FOREST⇌FIREExhibition\nCourtney Desiree Morris\, Professor of Gender and Women’s Studies\, UC Berkeley  courtneydesireemorris.com\nKim TallBear\, Professor of Native Studies\, University of Alberta\nKali Rubaii\, Professor of Anthropology\, Purdue University\nCláudio Bueno\, Professor of Art\, UC Santa Cruz\nNicole Rudolph Vallerga: Artist\nMister XX of Ceremonies: Vin Seaman as LOL McFiercen\nLauren Bon\, Artist\, Metabolic Studio. \n \n 
URL:https://thi.ucsc.edu/event/playing-with-fire-a-hot-symposium/
LOCATION:DARC 108\, Humanites 1 University of California\, Santa Cruz Cowell College\, Santa Cruz\, CA\, 95064\, United States
ATTACH;FMTTYPE=image/png:https://thi.ucsc.edu/wp-content/uploads/2022/09/THI-Event-Banner-8.png
END:VEVENT
BEGIN:VEVENT
DTSTART;TZID=America/Los_Angeles:20221010T160000
DTEND;TZID=America/Los_Angeles:20221010T160000
DTSTAMP:20260425T212106
CREATED:20220927T182616Z
LAST-MODIFIED:20220927T183023Z
UID:10007148-1665417600-1665417600@thi.ucsc.edu
SUMMARY:Brendan Regan – The Effect of Short-Term Study Abroad on the Production and Perception of Language- and Dialect-Specific Sounds by L2 and Heritage Spanish Speakers
DESCRIPTION:There is a growing interest in examining the effect of study abroad on language acquisition. However\, compared to other linguistic domains\, there is a lack of studies that examine phonetic acquisition in the study abroad (henceforth SA) context. Of the previous studies that have examined phonetic acquisition in the SA context\, the role of linguistic proficiency and bilingualism type (L2\, heritage) remains understudied. Building on previous studies\, this talk addresses these gaps by examining how phonetic production and perception change during a short-term SA program in Sevilla\, Spain based on bilingualism type (L2 or heritage Spanish speakers) and linguistic proficiency (advanced\, intermediate). The first study\, examines the production of language-specific [ð] and dialect-specific [∅] allophones of intervocalic /d/ by 40 speakers. The results found that those with higher proficiency (heritage and L2) with favorable attitudes towards the local variety demonstrated more gradient language-specific allophonic change overtime\, while only one L2-advanced speaker produced dialect-specific allophones. The second study\, with 57 listeners\, examines the perception of Andalusian (dialect-specific) post-consonant aspiration of word-internal /sp\, st\, sk/ (i.e.\, pasta [ˈpa.t h a]) using a binary forced-choice identification task (i.e.\, pata-pasta) in which stimuli varied on a 7-step VOT continuum. The results found that L2 and heritage Spanish listeners only showed a change in perception over time with /s.t/ realizations\, suggesting that [t h ] is more phonetically salient than [p h ] and [k h ]. There were no significant differences for proficiency level nor bilingualism type. Thus\, proficiency and bilingual type may be better predictors for phonetic production than perception in the SA context. \nThis event is presented by the Department of Languages and Applied Linguistics. \nDr. Brendan Regan is assistant professor of Hispanic Linguistics at Texas Tech University and the Director of the Texas Tech Sociolinguistics and Bilingualism Research Lab. His research focuses on sociophonetic production and perception to better understand language variation\, change\, and acquisition as well as the social meaning of linguistic variation.
URL:https://thi.ucsc.edu/event/brendan-regan-the-effect-of-short-term-study-abroad-on-the-production-and-perception-of-language-and-dialect-specific-sounds-by-l2-and-heritage-spanish-speakers/
LOCATION:Humanities 1\, Room 210\, 1156 high st\, Santa cruz\, CA\, 95060\, United States
ATTACH;FMTTYPE=image/png:https://thi.ucsc.edu/wp-content/uploads/2022/09/THI-Event-Banner-10.png
END:VEVENT
BEGIN:VEVENT
DTSTART;TZID=America/Los_Angeles:20221011T113000
DTEND;TZID=America/Los_Angeles:20221011T130000
DTSTAMP:20260425T212106
CREATED:20220921T213249Z
LAST-MODIFIED:20220927T183739Z
UID:10007135-1665487800-1665493200@thi.ucsc.edu
SUMMARY:PhD+ Workshop - Writing the Curriculum Vitae
DESCRIPTION:Applications for academic positions require a CV\, and some alternative-academic employers also require them. Learn how a CV differs from a resume\, about hybrid CV-resumes\, what goes on a CV\, and what order to put information depending on type of academic institution you’re applying to and for what type of position. Also\, check out the information in the website Academic Job Market Success created by retired UCSC Student Affairs and Success Assistant Vice Chancellor Gwynn Benner\, the CV Writing section\, and view the video about CV Writing created by Gwynn Benner. \nVeronica Heiskell has worked for over twelve years in diversity and career centers in a variety of higher education institutions and currently serves as associate director of experiential learning at Career Success. Her goal is to remove as many barriers as possible for all students to pursue meaningful experiential learning opportunities. She completed her bachelor’s degree in psychology with a minor in LGBT studies at UCLA\, her master’s degree in counseling and guidance in higher education at Cal Poly San Luis Obispo\, and her doctoral degree in higher education administration at UT Austin. Her dissertation research focused on sense of belonging for exploratory students. \nRegister by October 3rd for in-person attendance in Graduate Student Commons\, Room 204. The event will also be accessible virtually via Zoom. \n \nThis workshop is presented by the Division of Graduate Studies and co-sponsored by The Humanities Institute as part of our 2022-2023 PhD+ series. The Division of Graduate Studies’ workshops are for current UC Santa Cruz graduate students and postdoctoral scholars and require an active UC Santa Cruz email address. \nAbout the PhD+ Workshop Series \nJoin us for the seventh year of PhD+ Workshops\, hosted by The Humanities Institute. We meet monthly to discuss possible career paths for PhDs\, internship possibilities\, grant/fellowships\, work/life balance\, elements of style\, online identity issues\, and much\, much more.
URL:https://thi.ucsc.edu/event/writing-the-curriculum-vitae/
LOCATION:Virtual and In Person
CATEGORIES:PhD+ Event
END:VEVENT
BEGIN:VEVENT
DTSTART;TZID=America/Los_Angeles:20221012T113000
DTEND;TZID=America/Los_Angeles:20221012T130000
DTSTAMP:20260425T212106
CREATED:20220921T213531Z
LAST-MODIFIED:20220927T183826Z
UID:10007136-1665574200-1665579600@thi.ucsc.edu
SUMMARY:PhD+ Workshop - Using Twitter Professionally
DESCRIPTION:Learn how to promote your research or creative work and create a virtual community of Tweeple. \nKayla Isenberg is senior director of digital engagement for UC Santa Cruz\, where she runs the main campus social media properties and advises on divisional and other social media accounts across campus. She has 16 years of experience in digital marketing and social media and has worked for a variety of organizations from startups to Fortune 500 companies. In 2012\, she was listed on the Forbes 40 under 40 list for her work at Warner Bros. Records. For her work in higher education in digital marketing and social media she has won multiple CASE awards. \nRegister by September 29th for in-person attendance in Graduate Student Commons\, Room 204. The event will also be accessible virtually via Zoom. Complimentary vegan lunch provided to in-person attendees. \n \nThis workshop is presented by the Division of Graduate Studies and co-sponsored by The Humanities Institute as part of our 2022-2023 PhD+ series. The Division of Graduate Studies’ workshops are for current UC Santa Cruz graduate students and postdoctoral scholars and require an active UC Santa Cruz email address. \nAbout the PhD+ Workshop Series \nJoin us for the seventh year of PhD+ Workshops\, hosted by The Humanities Institute. We meet monthly to discuss possible career paths for PhDs\, internship possibilities\, grant/fellowships\, work/life balance\, elements of style\, online identity issues\, and much\, much more.
URL:https://thi.ucsc.edu/event/using-twitter-professionally/
LOCATION:Virtual and In Person
CATEGORIES:PhD+ Event
END:VEVENT
BEGIN:VEVENT
DTSTART;TZID=America/Los_Angeles:20221012T121500
DTEND;TZID=America/Los_Angeles:20221012T121500
DTSTAMP:20260425T212106
CREATED:20220906T214222Z
LAST-MODIFIED:20220929T001928Z
UID:10007108-1665576900-1665576900@thi.ucsc.edu
SUMMARY:Louise Meintjes – Giving Voice to a Politics of Breath
DESCRIPTION:Drawing on her longterm study of Zulu song and dance\, Meintjes revisits instances of ngoma vocal performance in order to explore the idea of breath and aesthetic vitality foregrounded in popular political expression in the USA during the global turbulence of the last two and a half years. \nLouise Meintjes has worked as an ethnographer in Johannesburg and rural KwaZulu-Natal for three decades\, authoring Sound of Africa!: Making Music in a South African Studio (Duke UP\, 2003)\, and Dust of the Zulu: Ngoma Aesthetics after Apartheid (Duke UP 2017) which won the Gregory Bateson and Alan Merriam prizes. She is the Marcello Lotti Professor of Music and Cultural Anthropology at Duke University\, and Chair of the Department of Cultural Anthropology. \n \n  \n  \n  \n  \nThe Center for Cultural Studies hosts a weekly Wednesday colloquium featuring work by faculty and visitors. We gather at 12:00 PM\, with presentations beginning at 12:15 PM. \nStaff assistance is provided by The Humanities Institute.
URL:https://thi.ucsc.edu/event/louise-meintjes-giving-voice-to-a-politics-of-breath/
LOCATION:Humanities 1\, Room 210\, 1156 high st\, Santa cruz\, CA\, 95060\, United States
ATTACH;FMTTYPE=image/jpeg:https://thi.ucsc.edu/wp-content/uploads/2022/09/image-2.jpeg
END:VEVENT
BEGIN:VEVENT
DTSTART;TZID=America/Los_Angeles:20221012T140000
DTEND;TZID=America/Los_Angeles:20221012T160000
DTSTAMP:20260425T212106
CREATED:20220929T205058Z
LAST-MODIFIED:20220929T211015Z
UID:10006014-1665583200-1665590400@thi.ucsc.edu
SUMMARY:Gianluca Bonaiuti: Domesticity and Beyond
DESCRIPTION:The History of Consciousness department is pleased present their upcoming speaker series this fall quarter and invites you to join them. These will be hybrid events\, hosted in-person in Humanities 1 Room 420 & virtually via Zoom\, except for the talk on October 25th which will only be on Zoom. The Zoom link for all talks is the same\, and can be accessed by clicking the “Join” button below. The October 12th “Domesticity and Beyond” talk will be given by Gianluca Bonaiuti from the University of Florence. \n \n \n 
URL:https://thi.ucsc.edu/event/62389/
LOCATION:Virtual and In Person
END:VEVENT
BEGIN:VEVENT
DTSTART;TZID=America/Los_Angeles:20221013T113000
DTEND;TZID=America/Los_Angeles:20221013T130000
DTSTAMP:20260425T212106
CREATED:20220921T213739Z
LAST-MODIFIED:20220927T184122Z
UID:10007137-1665660600-1665666000@thi.ucsc.edu
SUMMARY:PhD+ Workshop - Developing Your Digital Reputation
DESCRIPTION:Your digital reputation refers to your presence on the internet\, on social media platforms and on personal and worksite websites. Learn tips on how to distinguish yourself from the crowd and create a lasting impression in an evolving digital communications landscape. \nLisa Nielsen has over 25 years of design and marketing experience in the private sector and with non-profits. From working at Apple Computer as an Art Director to running her own firm in San Francisco for 15 years\, she knows what it means to be a good communicator and marketer. From startups to fortune 500 clients\, her adventures in marketing have added up to a depth of knowledge which she likes to share. Lisa has been with UC Santa Cruz for 12 years as the marketing director and oversees a creative team of writers\, videographers\, and designers. \nRegister by October 5th for in-person attendance in Graduate Student Commons\, Room 204. The event will also be accessible virtually via Zoom. Complimentary vegan lunch provided for in-person attendees. \n \nThis workshop is presented by the Division of Graduate Studies and co-sponsored by The Humanities Institute as part of our 2022-2023 PhD+ series. The Division of Graduate Studies’ workshops are for current UC Santa Cruz graduate students and postdoctoral scholars and require an active UC Santa Cruz email address. \nAbout the PhD+ Workshop Series \nJoin us for the seventh year of PhD+ Workshops\, hosted by The Humanities Institute. We meet monthly to discuss possible career paths for PhDs\, internship possibilities\, grant/fellowships\, work/life balance\, elements of style\, online identity issues\, and much\, much more.
URL:https://thi.ucsc.edu/event/developing-your-digital-reputation/
LOCATION:Virtual and In Person
CATEGORIES:PhD+ Event
END:VEVENT
BEGIN:VEVENT
DTSTART;TZID=America/Los_Angeles:20221014T120000
DTEND;TZID=America/Los_Angeles:20221014T120000
DTSTAMP:20260425T212106
CREATED:20220912T211610Z
LAST-MODIFIED:20221013T211029Z
UID:10007118-1665748800-1665748800@thi.ucsc.edu
SUMMARY:Asli Bâli – From Revolution to Devolution? Dilemmas of Federalism & Decentralization in the Middle East
DESCRIPTION:“From Revolution to Devolution? Dilemmas of Federalism and Decentralization in the Middle East” \nThis seminar engages in a qualitative comparison of four experiences with decentralization in the Middle East to explore the ways in which decentralized governance arrangements might address governance crises\, identity-based conflict and self-determination demands in the Middle East. Bâli argues that the failure to engage with these and other experiences in the MENA region in the growing literature on decentralization in comparative politics and law produces gaps in both the institutional design strategies available in the prescriptions derived from the literature\, and also in our accounts of the region that focus exclusively on the macro politics of authoritarianism without paying attention to experiments on the ground that have sought to formulate alternative governance strategies. \n \nThis event is co-sponsored by the Center for the Middle East and North Africa and the Legal Studies Program. \nAslı Bâli is Professor of Law at the Yale Law School. Previously\, she was on the faculty at the UCLA School of Law where she was Faculty Director of the Promise Institute for Human Rights\, a core faculty member of the Critical Race Studies Program and served as the Director of the UCLA Center for Near Eastern Studies. Bâli’s research focuses on two broad areas: public international law—including human rights law and the law of the international security order—and comparative constitutional law\, with a focus on the Middle East. Her scholarship has appeared in leading international and comparative law reviews and peer reviewed journals such as the American Journal of International Law\,  International Journal of Constitutional Law and Law & Social Inquiry; her edited volume Constitution Writing\, Religion and Democracy was published by Cambridge University Press in 2017 and a second edited volume\, Identity Conflict\, Governance and Decentralization in the Middle East is forthcoming from Cambridge University Press in 2022. She received her J.D. from Yale\, her M.Phil. from Cambridge University and her Ph.D in Politics from Princeton University.
URL:https://thi.ucsc.edu/event/asli-bali-from-revolution-to-devolution-dilemmas-of-federalism-and-decentralization-in-the-middle-east/
LOCATION:Virtual Event
ATTACH;FMTTYPE=image/png:https://thi.ucsc.edu/wp-content/uploads/2022/09/THI-Event-Banner-4.png
END:VEVENT
END:VCALENDAR