BEGIN:VCALENDAR
VERSION:2.0
PRODID:-//The Humanities Institute - ECPv6.15.20//NONSGML v1.0//EN
CALSCALE:GREGORIAN
METHOD:PUBLISH
X-ORIGINAL-URL:https://thi.ucsc.edu
X-WR-CALDESC:Events for The Humanities Institute
REFRESH-INTERVAL;VALUE=DURATION:PT1H
X-Robots-Tag:noindex
X-PUBLISHED-TTL:PT1H
BEGIN:VTIMEZONE
TZID:America/Los_Angeles
BEGIN:DAYLIGHT
TZOFFSETFROM:-0800
TZOFFSETTO:-0700
TZNAME:PDT
DTSTART:20220313T100000
END:DAYLIGHT
BEGIN:STANDARD
TZOFFSETFROM:-0700
TZOFFSETTO:-0800
TZNAME:PST
DTSTART:20221106T090000
END:STANDARD
BEGIN:DAYLIGHT
TZOFFSETFROM:-0800
TZOFFSETTO:-0700
TZNAME:PDT
DTSTART:20230312T100000
END:DAYLIGHT
BEGIN:STANDARD
TZOFFSETFROM:-0700
TZOFFSETTO:-0800
TZNAME:PST
DTSTART:20231105T090000
END:STANDARD
BEGIN:DAYLIGHT
TZOFFSETFROM:-0800
TZOFFSETTO:-0700
TZNAME:PDT
DTSTART:20240310T100000
END:DAYLIGHT
BEGIN:STANDARD
TZOFFSETFROM:-0700
TZOFFSETTO:-0800
TZNAME:PST
DTSTART:20241103T090000
END:STANDARD
END:VTIMEZONE
BEGIN:VEVENT
DTSTART;VALUE=DATE:20230505
DTEND;VALUE=DATE:20230508
DTSTAMP:20260423T035018
CREATED:20230314T210755Z
LAST-MODIFIED:20230315T171400Z
UID:10007225-1683244800-1683503999@thi.ucsc.edu
SUMMARY:The 41st West Coast Conference on Formal Linguistics
DESCRIPTION:The West Coast Conference on Formal Linguistics (WCCFL\, pronounced /ˈwɪkfəl/) is an annual linguistics conference\, held in the spring at a university in western North America. It is a top international venue for researchers in theoretical linguistics\, studying any aspect of human language from a formal perspective\, including phonology\, morphology\, syntax\, semantics\, and their interfaces. The first WCCFL was held in 1982\, and it has previously been hosted by UC Santa Cruz four times\, most recently in 2012. The 41st West Coast Conference on Formal Linguistics (WCCFL 41) will take place on May 5-7\, 2023 at the University of California\, Santa Cruz. \nInvited speakers:\nLuke Adamson\, Rutgers University\nDorothy Ahn\, Rutgers University\nEva Zimmerman\, University of Leipzig \nAt this time\, all talks in both main and special sessions are planned for in person presentation. In addition to one in-person person session\, there will be one virtual poster session. \nFull conference information can be found at: https://babel.ucsc.edu/wccfl41/
URL:https://thi.ucsc.edu/event/the-41st-west-coast-conference-on-formal-linguistics/
LOCATION:Stevenson College\, Santa Cruz\, CA\, 95064\, United States
END:VEVENT
BEGIN:VEVENT
DTSTART;TZID=America/Los_Angeles:20230509T160000
DTEND;TZID=America/Los_Angeles:20230509T180000
DTSTAMP:20260423T035018
CREATED:20230111T233925Z
LAST-MODIFIED:20230303T182940Z
UID:10006054-1683648000-1683655200@thi.ucsc.edu
SUMMARY:2023 Helene Moglen Lecture in Feminism and Humanities with Wendy Brown – After Humanism and the Nation State: More Democracy\, Democracy that is More\, or Democracy No More?
DESCRIPTION:In most accounts of dangers to democracy today\, the value of the object is assumed. At the same time\, we know that the “demos” of Western democracy violently excludes all nonhuman life and much of humanity too. Democracy is no form apart from this content\, no principle floating freely above these histories. Democracy also requires certain cultural\, educational and economic conditions; certain spatialities and temporalities; and modest access to visible levers of power. Absent these\, the vox populi may well become a terrible\, and terrifying\, screech. This talk reflects on these and other predicaments of democracy today. It asks\, without answering\, how to approach this imperiled creature now. \n \nIn-person attendance\nThe lecture will begin at 4:00pm\, with a Q&A and reception to follow.\nDoors will open at 3:30pm \n \nVirtual attendance \nWendy Brown (Crown ’77\, Politics and Economics double major) is UPS Foundation Professor in Social Science at the Institute for Advanced Study\, Princeton and Class of 1936 Chair\, Emeritus\, at the University of California\, Berkeley. She is the author\, most recently\, of In the Ruins of Neoliberalism: The Rise of Antidemocratic Politics in the West (2019) and Nihilistic Times: Thinking with Max Weber (2023). From 1989-99\, Professor Brown taught at UCSC in the Department of Women’s Studies and worked closely with Helene Moglen to build Feminist Studies. \nThis lecture is presented by the Center for Cultural Studies and made possible by the Helene Moglen Lecture in Feminism and Humanities for the Center for Cultural Studies Endowment\, The Humanities Institute\, and the Department of Politics. \nIf you have any questions or concerns\, please contact Sadie Lynn at sklynn@ucsc.edu.
URL:https://thi.ucsc.edu/event/2023-helene-moglen-lecture-in-feminism-and-humanities-with-wendy-brown-after-humanism-and-the-nation-state-more-democracy-democracy-that-is-more-or-democracy-no-more/
LOCATION:Cowell Ranch Hay Barn\, Ranch View Rd\, Santa Cruz\, CA\, 95064\, United States
END:VEVENT
BEGIN:VEVENT
DTSTART;TZID=America/Los_Angeles:20230510T091500
DTEND;TZID=America/Los_Angeles:20230510T160000
DTSTAMP:20260423T035018
CREATED:20230105T175640Z
LAST-MODIFIED:20230420T212227Z
UID:10007189-1683710100-1683734400@thi.ucsc.edu
SUMMARY:Virtual Reality as ‘Virtual Traveling’ for Student & Public Engagement with Historic Sites
DESCRIPTION:3D technologies\, such as LiDAR and photogrammetry\, are being used by archaeologists at sites all over the world\, frequently to record the state of preservation of standing architecture or document field excavations. But 3D and Virtual Reality (VR) can also be used to digitally ‘re-imagine’ or visualize aspects of historic places that are no longer accessible due to landscape change\, the passage of time\, and modern development. Students and the public can ‘virtually travel’ across space and time\, experiencing visualizations of historic sites on different continents or centuries in the past. This one-day event\, Virtual Reality as ‘Virtual Traveling’ for Public Engagement with Historic Sites\, brings together scholars working on the question of Humanities VR and ‘virtual travel’ for presentations and discussion. The workshop will focus on questions of user experience and interaction\, educational design\, ethics\, and the concept of ‘cultural presence’ when virtually traveling (gaming scholar Erik Champion’s theory of ‘being there\, then’). \n \nPresenters \n\nDr. Rita Lucarelli\, Middle Eastern Languages and Cultures\, UC Berkeley\nDr. Eiman Elgewely\, School of Design\, Virginia Tech\nDr. Matthias Lang\, Bonn Center for Digital Humanities\, Bonn University\nDr. Vincenzo Lombardo\, Department of Informatics\, Università degli Studi di Torino\nPh.D. Candidate Maureen McGuire\, History of Art and Visual Culture\, UCSC\nDr. Cameron Monroe\, Anthropology\, UCSC\nDr. Martin Rizzo-Martinez\, State Park Historian II & Tribal Liaison Santa Cruz District\, California State Parks\n\nOrganized by Dr. Elaine Sullivan\, History\, UCSC and sponsored by the Humanities Institute
URL:https://thi.ucsc.edu/event/virtual-reality-as-virtual-traveling-for-student-public-engagement-with-historic-sites/
LOCATION:Humanities 1\, Room 202
ATTACH;FMTTYPE=image/jpeg:https://thi.ucsc.edu/wp-content/uploads/2023/01/Elaine_VR.jpg
END:VEVENT
BEGIN:VEVENT
DTSTART;TZID=America/Los_Angeles:20230510T120000
DTEND;TZID=America/Los_Angeles:20230510T132000
DTSTAMP:20260423T035018
CREATED:20230404T022458Z
LAST-MODIFIED:20230404T022458Z
UID:10007235-1683720000-1683724800@thi.ucsc.edu
SUMMARY:Kathleen Cruz Guttierrez – Vernaculars of Plant Knowing: Woven Transformations in the Early 20th-Century Davao Gulf
DESCRIPTION:In this talk\, Gutierrez will share from her first book project on the history of colonial botany in the Philippines. The book argues that vernaculars of plant knowing made and unmade botany at the turn of the nineteenth and twentieth centuries\, when imperial Anglo-European botanists banded together to steady the philosophical and practical tenets of the science under an internationalist banner. Taking as her case study the contrapuntal story of Bagobo weavers and the acceleration of abacá plantations in the Philippines\, Gutierrez demonstrates the disciplinary makings of the science that enabled transformative settler-colonial currents in the Pacific colony’s southern gulf. \nKathleen “Kat” Cruz Gutierrez is Assistant professor of History at the University of California\, Santa Cruz. In 2021 and 2022\, she completed Mellon-funded postdoctoral and interdisciplinary residencies at the Humanities Institute of the New York Botanical Garden and the Oak Spring Garden Foundation. A specialist of the history of science and the plant humanities\, she is the co-editor of the forthcoming special issue “Science and Technology Studies in the Philippines” in Philippine Studies. Since joining UCSC\, she has also served as co-PI on the interdivisional campus-community research initiative\, Watsonville is in the Heart. \n \n  \n  \n  \n  \nThe Center for Cultural Studies hosts a weekly Wednesday colloquium featuring work by faculty and visitors. We gather at 12:00 PM\, with presentations beginning at 12:15 PM. \nRSVP by 11 AM on the day of the colloquium\, and you will receive the Zoom link and password at 11:30 AM. \nStaff assistance is provided by The Humanities Institute.
URL:https://thi.ucsc.edu/event/kathleen-cruz-guttierrez-vernaculars-of-plant-knowing-woven-transformations-in-the-early-20th-century-davao-gulf/
LOCATION:Humanities 1\, Room 210\, 1156 high st\, Santa cruz\, CA\, 95060\, United States
END:VEVENT
BEGIN:VEVENT
DTSTART;TZID=America/Los_Angeles:20230510T180000
DTEND;TZID=America/Los_Angeles:20230510T200000
DTSTAMP:20260423T035018
CREATED:20230427T202831Z
LAST-MODIFIED:20230502T200755Z
UID:10007273-1683741600-1683748800@thi.ucsc.edu
SUMMARY:From Symptom to Story: Understanding an Epidemic of Kidney Disease in Central America
DESCRIPTION:What does it mean to construct a “cause” of disease? What is the primary source material we consult as we write the narrative of a new disease? When it comes to public health\, how do we fairly and accurately reflect scientific evidence\, personal experience\, and community knowledge? In this talk\, journalist Anna Maria Barry-Jester will use these questions to chart the history of a particular epidemic of chronic kidney disease that\, since the early aughts\, has been recognized as a leading cause of death in parts of Central America. In the two decades that followed\, the global understanding of this condition has expanded to a growing list of communities\, including war-torn parts of Sri Lanka\, agrarian sectors of India and migrant guest workers from Nepal. Drawing from nearly 20 years of reporting — including interviews\, photography\, video\, and scientific literature — Barry-Jester will explore the shifting narratives of the emergence of a disease and interrogate what becomes evidence and how it informs public understanding of disease and its causes. \nPlease email Jennifer Derr (jderr@ucsc.edu) if you would like to RSVP for this event. \nAnna Barry-Jester is a public health reporter with ProPublica. Previously\, she was a senior correspondent covering public health at Kaiser Health News. Her series “Underfunded and Under Threat\,” with colleagues at KHN and The Associated Press\, investigated how chronically underfunded public health departments buckled under the strain of the coronavirus pandemic. The project won awards from the Online News Association and the American Association for the Advancement of Science. Her reporting on harassment and menacing threats endured by public health officials was the basis of an episode of “This American Life\,” and PEN America later awarded its PEN/Benenson Courage Award to the officials who she profiled. Barry-Jester has lived and worked in Latin America and Southeast Asia\, where she has reported\, photographed and filmed stories in more than a dozen countries. She was a writer at FiveThirtyEight and a producer at Univision and ABC News. \nThis event is part of the “Race\, Empire\, and the Environments of Biomedicine” Sawyer Seminar series.
URL:https://thi.ucsc.edu/event/from-symptom-to-story-understanding-an-epidemic-of-kidney-disease-in-central-america/
LOCATION:Humanities 1\, Room 210\, 1156 high st\, Santa cruz\, CA\, 95060\, United States
ATTACH;FMTTYPE=image/jpeg:https://thi.ucsc.edu/wp-content/uploads/2023/04/UCSC-THI-SawyerSeminar-thi-website.jpg
END:VEVENT
BEGIN:VEVENT
DTSTART;TZID=America/Los_Angeles:20230511T121500
DTEND;TZID=America/Los_Angeles:20230511T134500
DTSTAMP:20260423T035018
CREATED:20230427T203433Z
LAST-MODIFIED:20230523T200707Z
UID:10007272-1683807300-1683812700@thi.ucsc.edu
SUMMARY:Anna Barry-Jester Reading Group – Mellon Sawyer Seminar on “Race\, Empire\, and the Environments of Biomedicine”
DESCRIPTION:The Mellon Sawyer Seminar on “Race\, Empire\, and the Environments of Biomedicine” will welcome Anna Barry-Jester\, who will lead a reading group exploring explanations of the causes of drug-resistant tuberculosis and the subsequent policy implications. One article looks at the history of TB control policy\, and how “cost-effective” strategies bred drug resistance. Two recent commentaries debate the deployment of new TB treatments in absence of sufficient diagnostic capacity. A fourth article examines the legality of a policy framework that gave different treatment protocols for resource-poor and resource-rich countries. Barry-Jester hopes we can draw on past and current policy debates and decisions to discuss the narratives surrounding what causes drug-resistant TB in order to think about policies at scale. \nEmail Jennifer Derr at jderr@ucsc.edu for a copy of the readings. \nAnna Barry-Jester is a public health reporter with ProPublica. Previously\, she was a senior correspondent covering public health at Kaiser Health News. Her series “Underfunded and Under Threat\,” with colleagues at KHN and The Associated Press\, investigated how chronically underfunded public health departments buckled under the strain of the coronavirus pandemic. The project won awards from the Online News Association and the American Association for the Advancement of Science. Her reporting on harassment and menacing threats endured by public health officials was the basis of an episode of “This American Life\,” and PEN America later awarded its PEN/Benenson Courage Award to the officials who she profiled. Barry-Jester has lived and worked in Latin America and Southeast Asia\, where she has reported\, photographed and filmed stories in more than a dozen countries. She was a writer at FiveThirtyEight and a producer at Univision and ABC News. \nThis event is part of the “Race\, Empire\, and the Environments of Biomedicine” Sawyer Seminar series.
URL:https://thi.ucsc.edu/event/anna-barry-jester-reading-group-mellon-sawyer-seminar-on-race-empire-and-the-environments-of-biomedicine/
LOCATION:Humanities 1\, Room 210\, 1156 high st\, Santa cruz\, CA\, 95060\, United States
ATTACH;FMTTYPE=image/jpeg:https://thi.ucsc.edu/wp-content/uploads/2023/04/UCSC-THI-SawyerSeminar-thi-website.jpg
END:VEVENT
BEGIN:VEVENT
DTSTART;TZID=America/Los_Angeles:20230511T172000
DTEND;TZID=America/Los_Angeles:20230511T172000
DTSTAMP:20260423T035018
CREATED:20230404T044608Z
LAST-MODIFIED:20230404T045450Z
UID:10007251-1683825600-1683825600@thi.ucsc.edu
SUMMARY:Living Writers - Ryan Eckes
DESCRIPTION:Ryan Eckes is a poet from Philadelphia. He recently finished writing a book called General Motors about labor and the influence of public and private transportation on city life. Other books include Valu-Plus and Old News (Furniture Press 2014\, 2011). His poetry can be found in Tripwire\, Slow Poetry in America Newsletter\, Public Pool\, and elsewhere. He won a Pew Fellowship in 2016. \n\n\n  \nSponsored by The Puknat Literary Endowment\, The Porter Hitchcock Poetry Fund\, The Laurie Sain Endowment\, The Humanities Institute\, Bookshop Santa Cruz\, and Two Birds Books (where the writers’ books are available for purchase)
URL:https://thi.ucsc.edu/event/living-writers-ryan-eckes/
LOCATION:Humanities Lecture Hall\, Santa Cruz\, CA\, 95064\, United States
END:VEVENT
BEGIN:VEVENT
DTSTART;TZID=America/Los_Angeles:20230511T190000
DTEND;TZID=America/Los_Angeles:20230511T203000
DTSTAMP:20260423T035018
CREATED:20230508T195920Z
LAST-MODIFIED:20230508T195920Z
UID:10007267-1683831600-1683837000@thi.ucsc.edu
SUMMARY:Creating Art in/with Community: A Conversation with Josúe Rojas and Professor John Jota Leaños
DESCRIPTION:Join us for a public conversation at the Institute of the Arts and Sciences between artist Josúe Rojas and Professor John Jota Leaños (Executive Committee of the Dolores Huerta Research Center for the Americas). Josué Rojas is a Salvadoran-American artist from the Bay Area who has done murals throughout the country. Exploring subjects such as identity\, immigration\, and culture in his work\, Rojas will be discussing his artistic practice in/with community. He is the Huerta Center’s artist-in-residence for Spring quarter\, a residency which is being generously cosponsored with the Arts Research Institute’s Arts and Oppression initiative\, the Institute for Arts and Sciences\, The Humanities Institute\, and the UC National Center for Free Speech and Civil Engagement’s VOICE initiative. \n \nThis event is free and open to the public.
URL:https://thi.ucsc.edu/event/creating-art-in-with-community-a-conversation-with-josue-rojas-and-professor-john-jota-leanos/
LOCATION:The Institute of the Arts & Sciences Gallery\, 100 Panetta Avenue\, Santa Cruz\, CA\, 95060\, United States
ATTACH;FMTTYPE=image/jpeg:https://thi.ucsc.edu/wp-content/uploads/2023/05/5-11-23_IAS_Event.jpeg
END:VEVENT
BEGIN:VEVENT
DTSTART;VALUE=DATE:20230512
DTEND;VALUE=DATE:20230513
DTSTAMP:20260423T035018
CREATED:20221021T190950Z
LAST-MODIFIED:20221021T190950Z
UID:10007169-1683849600-1683935999@thi.ucsc.edu
SUMMARY:Future Ancestral Technologies Exhibition Opening
DESCRIPTION:Future Ancestral Technologies is an exhibition by Cannupa Hanska Luger with mixed-media sculpture\, regalia\, and video\, all based in myth\, science fiction\, and Indigenous futurism. \nScience fiction has the power to shape collective thinking and serves as a vehicle to imagine the future on a global scale. Cannupa Hanska Luger’s Future Ancestral Technologies is Indigenous science fiction. It is a methodology\, a practice\, a way of future dreaming\, rooted in a continuum. Future Ancestral Technologies is an approach to making art objects\, video\, and land based performance with the intent to influence global consciousness. This Indigenous-centered science fiction uses creative storytelling to radically reimagine the future. Moving sci-fi theory into practice\, this methodology conjures innovative life-based solutions that promote a thriving Indigeneity. \nThis Indigenous science fiction is characterized by regalia\, tools\, shelter\, transportation\, and technology which invite the viewer to experience multiple points of entry into Luger’s sci-fi narrative and myth telling through multiple symbiotic landscapes. The ongoing narrative developed by installation and land based work articulates future spaces in which Indigenous people harness technology to live nomadically\, reclaiming hyper-attunement to land and water. Luger’s Future Ancestral Technologies is a story\, a methodology\, a practice\, a way of futurism\, that suggests alternative approaches to recognizing the future with reverence. \nUsing art practice to adopt science fiction\, Future Ancestral Technologies is a context for dismantling time to imagine the distant future and dream of sustainable approaches to the lived experiences of the generations to come. Using traditional craft and the act of making creates futuristic potential\, the process imagines\, enacts and prototypes experiences and technologies that promote Indigenous cultures to thrive into the future. \nFuture Ancestral Technologies challenges and empowers humans—from individuals to industries—to visualize an Indigenous future and to practice empathy and resourcefulness in epochs to come. \n“Future Ancestral Technologies looks to customs in order to move us forward\, advancing new materials and new modes of thinking by utilizing science fiction theory\, creative storytelling\, Indigenous technology and contemporary materials and the detritus of capitalism to present time bending landscapes of myth. ” –Cannupa Hanska Luger \nThis exhibition will run from May 12-September 3\, 2023 and is co-sponsored by The Humanities Institute. \nFor full exhibition information please visit: https://www.santacruzmah.org/exhibitions/future-ancestral-technologies \nHeader Image: Future Ancestral Technologies ++ a generation of new myth ++ 3 channel video installation\, featuring monster slayer regalia\, mirí aráda + awá ahbáaxi. (image still) Cannupa Hanska Luger 2021. Photo by Gabe Fermin. \n 
URL:https://thi.ucsc.edu/event/future-ancestral-technologies-exhibition-opening/
LOCATION:Santa Cruz Museum of Art and History
ATTACH;FMTTYPE=image/jpeg:https://thi.ucsc.edu/wp-content/uploads/2022/10/Future.jpg
END:VEVENT
BEGIN:VEVENT
DTSTART;VALUE=DATE:20230512
DTEND;VALUE=DATE:20230514
DTSTAMP:20260423T035018
CREATED:20230314T164437Z
LAST-MODIFIED:20230509T163339Z
UID:10007227-1683849600-1684022399@thi.ucsc.edu
SUMMARY:Transnational Turns and the Future of China Studies
DESCRIPTION:What does it mean to do China studies at this global conjuncture? What has “transnational” got to do with it\, why now\, and why again? What future promises and possibilities can it still bring? This two-day workshop featuring multi-disciplinary scholars of China and Chinese studies\, as well as a conversation with Rey Chow\, Duke University\, on the thirtieth anniversary of her publication Writing Diaspora: Tactics of Intervention in Contemporary Cultural Studies (Indiana University Press\, 1993). For full workshop description and program\, please click here. \nThis event will be held in person in Humanities 1\, Room 210. For participants who would like to join the workshop virtually\, please register here. \nOrganized by the Transnational China research hub\, a seed project at the Humanities Institute\, funded by the UCSC Office of Research. Co-sponsored by UCLA School of Theater\, Film\, and Television and the Fudan-UC Center on Contemporary China.
URL:https://thi.ucsc.edu/event/transnational-turns-and-the-future-of-china-studies/
LOCATION:Virtual and In Person
ATTACH;FMTTYPE=image/jpeg:https://thi.ucsc.edu/wp-content/uploads/2023/03/UCSC-THI-May12ReyChow-1024x576-1.jpg
END:VEVENT
BEGIN:VEVENT
DTSTART;VALUE=DATE:20230512
DTEND;VALUE=DATE:20230515
DTSTAMP:20260423T035018
CREATED:20230426T021709Z
LAST-MODIFIED:20230504T164039Z
UID:10007258-1683849600-1684108799@thi.ucsc.edu
SUMMARY:The Miriam Ellis International Playhouse (MEIP XXI)
DESCRIPTION:Cowell College\, Stevenson College and the Department of Languages and Applied Linguistics will present the 21st season of the Miriam Ellis international Playhouse (MEIP XXI)\, May 12\, 13\, and 14\, at 7:00 PM in the Stevenson  Event Center at UCSC. The program of fully-staged multilingual performances in French\, Japanese\, and Spanish\, with English supertitles\, will be performed by Language students and directed by their instructors.  \nThere is no admission charge; parking in adjacent lots is $5.00.  \nThis year’s presentation in Japanese will consist of a demonstration of a Taiko performance of “Yashiro no Uta (The Song of the Shrine) composed by Ikuyo Conant/ Artistic Director of Watsonville Taiko Group\, after a brief  explanation of what Taiko is.  \nFrench will be represented by Art (Art)\, a light reflection on the value of art\, adapted and directed\, from the eponymous play by Yasmina Reza\, by Renée Cailloux.  \nFinally\, Spanish will bring us “Rompiendo el hielo” (“Breaking the Ice”)\, an original contemporary comedy piece\, written  and performed by students\, that follows a grocery store staff on a not so ordinary day.  \nOver the years\, our multilingual theater presentations have attracted loyal audiences\, who look forward to experiencing  their native or acquired languages in this unusual format\, and we cordially invite the community to attend this year’s  presentation.   \nFor more information\, please contact Renee Cailloux (rcaillou@ucsc.edu)  or consult https://cowell.ucsc.edu/academics/cw-related-programs/meip/index.html.
URL:https://thi.ucsc.edu/event/the-20th-season-of-the-miriam-ellis-international-playhouse-meip-xx/
LOCATION:Stevenson Event Center
END:VEVENT
BEGIN:VEVENT
DTSTART;TZID=America/Los_Angeles:20230512T132000
DTEND;TZID=America/Los_Angeles:20230512T150000
DTSTAMP:20260423T035018
CREATED:20221216T174650Z
LAST-MODIFIED:20221216T174650Z
UID:10006049-1683897600-1683903600@thi.ucsc.edu
SUMMARY:Linguistics Colloquia: Argyro Katsika
DESCRIPTION:Argyro Katsika\, UC Santa Barbara \nOver the course of each year\, the Linguistics department hosts colloquia by distinguished faculty from around the world. \nFor full speaker and event information\, please visit: https://linguistics.ucsc.edu/news-events/colloquia/index.html
URL:https://thi.ucsc.edu/event/linguistics-colloquia-argyro-katsika/
LOCATION:Humanities 1\, Room 202
END:VEVENT
BEGIN:VEVENT
DTSTART;TZID=America/Los_Angeles:20230513T130000
DTEND;TZID=America/Los_Angeles:20230513T170000
DTSTAMP:20260423T035018
CREATED:20230502T201634Z
LAST-MODIFIED:20230502T201942Z
UID:10007270-1683982800-1683997200@thi.ucsc.edu
SUMMARY:Santa Cruz County History Fair
DESCRIPTION:Celebrate Santa Cruz County’s diverse history by connecting with local historical and cultural organizations and groups. Enjoy hands-on activities\, artifacts\, photographs\, publications\, and more. Between 20 and 30 local museums\, historians\, historical societies\, and other groups will have displays and activities.  Presented by the San Lorenzo Valley History Museum. Co-sponsored by the Felton Community Hall and the Humanities Institute. Free admission.
URL:https://thi.ucsc.edu/event/santa-cruz-county-history-fair-2/
LOCATION:Felton Community Hall\, 6191 Highway 9\, Felton\, CA\, 95018\, United States
ATTACH;FMTTYPE=image/jpeg:https://thi.ucsc.edu/wp-content/uploads/2023/05/5-13-23_SLV_History_Day_2.jpg
END:VEVENT
BEGIN:VEVENT
DTSTART;TZID=America/Los_Angeles:20230513T180000
DTEND;TZID=America/Los_Angeles:20230513T220000
DTSTAMP:20260423T035018
CREATED:20230427T042429Z
LAST-MODIFIED:20230504T165642Z
UID:10007255-1684000800-1684015200@thi.ucsc.edu
SUMMARY:Crossing Borders - An Evening of Philosophical Discussion
DESCRIPTION:Large and small\, visible and hidden\, borders weave in and out of our lives along varied dimensions. Some we can see\, many we cannot. Some we celebrate\, others confine us. Some we are aware of\, many remain undiscovered. There are political borders and national borders; psychological\, social\, scientific\, and biological borders. What are borders? Can anything be conceived as involving a border? Come think with us on the evening of May 13 at the new Institute of the Arts and Sciences building\, designed for vibrant possibility. Choose among rooms with synchronic presentations and performances\, led by poets\, philosophers\, scientists\, and artists. Muse with us\, ponder with us\, and talk with one another\, as together each of us travels across\, within\, and at the borders calling to us on this particular evening. \nThis event is brought to the public by the Center for Public Philosophy and the Institute of the Arts and Sciences\, with support and participation of The Humanities Institute\, Cowell College\, and the Philosophical Slug Society. \nFree and open to the public \nTo read more about this event see The Institute of the Arts and Sciences website.
URL:https://thi.ucsc.edu/event/crossing-borders-an-evening-of-philosophical-discussion/
LOCATION:Institute of the Arts and Sciences\, 100 Panetta Avenue\, Santa Cruz\, CA\, 95064\, United States
ATTACH;FMTTYPE=image/png:https://thi.ucsc.edu/wp-content/uploads/2023/04/Screen-Shot-2023-04-26-at-9.25.07-PM-e1682569783197.png
END:VEVENT
END:VCALENDAR