BEGIN:VCALENDAR
VERSION:2.0
PRODID:-//The Humanities Institute - ECPv6.15.20//NONSGML v1.0//EN
CALSCALE:GREGORIAN
METHOD:PUBLISH
X-ORIGINAL-URL:https://thi.ucsc.edu
X-WR-CALDESC:Events for The Humanities Institute
REFRESH-INTERVAL;VALUE=DURATION:PT1H
X-Robots-Tag:noindex
X-PUBLISHED-TTL:PT1H
BEGIN:VTIMEZONE
TZID:America/Los_Angeles
BEGIN:DAYLIGHT
TZOFFSETFROM:-0800
TZOFFSETTO:-0700
TZNAME:PDT
DTSTART:20220313T100000
END:DAYLIGHT
BEGIN:STANDARD
TZOFFSETFROM:-0700
TZOFFSETTO:-0800
TZNAME:PST
DTSTART:20221106T090000
END:STANDARD
BEGIN:DAYLIGHT
TZOFFSETFROM:-0800
TZOFFSETTO:-0700
TZNAME:PDT
DTSTART:20230312T100000
END:DAYLIGHT
BEGIN:STANDARD
TZOFFSETFROM:-0700
TZOFFSETTO:-0800
TZNAME:PST
DTSTART:20231105T090000
END:STANDARD
BEGIN:DAYLIGHT
TZOFFSETFROM:-0800
TZOFFSETTO:-0700
TZNAME:PDT
DTSTART:20240310T100000
END:DAYLIGHT
BEGIN:STANDARD
TZOFFSETFROM:-0700
TZOFFSETTO:-0800
TZNAME:PST
DTSTART:20241103T090000
END:STANDARD
END:VTIMEZONE
BEGIN:VEVENT
DTSTART;TZID=America/Los_Angeles:20231120T120000
DTEND;TZID=America/Los_Angeles:20231120T133000
DTSTAMP:20260425T044928
CREATED:20231025T004805Z
LAST-MODIFIED:20231025T004805Z
UID:10006186-1700481600-1700487000@thi.ucsc.edu
SUMMARY:Humanities in the Age of AI Lunch meeting
DESCRIPTION:The Humanities Institute Research cluster\, “Humanities in the Age of AI\,” is pleased to invite you to their second lunch meeting scheduled for November 6th (Monday) at noon in HUM 210. The research cluster boasts a diverse group of core participants. This includes six esteemed faculty members from various disciplines\, graduate students representing politics\, history\, literature\, philosophy\, feminist studies\, and film and visual studies\, and undergraduate scholars from computer science\, computational media\, and creative writing. \nFrom the Department of Politics\, Professor Matt Sparke will be guiding a conversation on the intersection of AI-driven developments in global and community health\, in conjunction with teaching collaborations here at UC Santa Cruz. In a similar vein\, Jack Fox Keen\, a 1st Year Ph.D candidate in Computer Science and Engineering\, will be presenting their research on explainable AI\, health care and natural language processing in application to suicide prevention. \nWe encourage you to bring your own lunch to this meeting as this is an uncatered event. Until then\, please continue to check our website for more updates on the cluster’s upcoming projects and presenters. \nFor those who prefer to schedule in advance\, please note the dates for our brown bag meetings throughout the academic year: 10/2 (lunch provided)\, 11/6\, 12/11\, 1/8 (lunch provided)\, 2/12 (featuring Davide Panagia)\, 3/4\, 4/8 (lunch provided)\, and 5/6. THI will graciously cater on the three specified dates. For the remaining meetings\, attendees are cordially invited to bring their lunch. We are honored to have Professor Davide Panagia from UCLA present on 2/12; arrangements are underway to secure another external speaker for a subsequent session.
URL:https://thi.ucsc.edu/event/humanities-in-the-age-of-ai-lunch-meeting-2/
LOCATION:Humanities 1\, Room 210\, 1156 high st\, Santa cruz\, CA\, 95060\, United States
END:VEVENT
END:VCALENDAR