BEGIN:VCALENDAR
VERSION:2.0
PRODID:-//The Humanities Institute - ECPv6.15.20//NONSGML v1.0//EN
CALSCALE:GREGORIAN
METHOD:PUBLISH
X-WR-CALNAME:The Humanities Institute
X-ORIGINAL-URL:https://thi.ucsc.edu
X-WR-CALDESC:Events for The Humanities Institute
REFRESH-INTERVAL;VALUE=DURATION:PT1H
X-Robots-Tag:noindex
X-PUBLISHED-TTL:PT1H
BEGIN:VTIMEZONE
TZID:America/Los_Angeles
BEGIN:DAYLIGHT
TZOFFSETFROM:-0800
TZOFFSETTO:-0700
TZNAME:PDT
DTSTART:20230312T100000
END:DAYLIGHT
BEGIN:STANDARD
TZOFFSETFROM:-0700
TZOFFSETTO:-0800
TZNAME:PST
DTSTART:20231105T090000
END:STANDARD
BEGIN:DAYLIGHT
TZOFFSETFROM:-0800
TZOFFSETTO:-0700
TZNAME:PDT
DTSTART:20240310T100000
END:DAYLIGHT
BEGIN:STANDARD
TZOFFSETFROM:-0700
TZOFFSETTO:-0800
TZNAME:PST
DTSTART:20241103T090000
END:STANDARD
BEGIN:DAYLIGHT
TZOFFSETFROM:-0800
TZOFFSETTO:-0700
TZNAME:PDT
DTSTART:20250309T100000
END:DAYLIGHT
BEGIN:STANDARD
TZOFFSETFROM:-0700
TZOFFSETTO:-0800
TZNAME:PST
DTSTART:20251102T090000
END:STANDARD
END:VTIMEZONE
BEGIN:VEVENT
DTSTART;TZID=America/Los_Angeles:20240318T140000
DTEND;TZID=America/Los_Angeles:20240318T140000
DTSTAMP:20260419T195051
CREATED:20240207T200224Z
LAST-MODIFIED:20240315T162128Z
UID:10007370-1710770400-1710770400@thi.ucsc.edu
SUMMARY:Rahel Jaeggi: Progress and Regression
DESCRIPTION:The History of Consciousness department is delighted to present Progress and Regression with Rahel Jaeggi (Humboldt University of Berlin) \nThis talk is part of the HISC Winter 2024 Speaker Series. Guests are invited to join us in-person in HUM 1\, Room 420 at 2:00 pm PST\, or join virtually via Zoom. We look forward to seeing you there! \n\nAbout Progress and Regression\nMy paper deals with a question which has repeatedly preoccupied contemporary philosophical discussion and which seems to me to be indispensable for a critical theory of society in the tradition of left-Hegelian critique in particular—namely\, the question of progress and regression. So what does it mean to understand social change as a movement of progression\, or\, respectively\, regression? How can the concept of progress help us to understand\, as Wendy Brown says “where we have come from and where we are going”\, if where we are trying to go is towards emancipation – or at least away from the multi-crisis we are currently in? And in which respect does it prevent us from understanding this? How can we (and can we?) distinguish regressive from progressive or emancipatory movements? Read more \nAbout Rahel Jaeggi\nRahel Jaeggi is Professor of Philosophy with a focus on Political Philosophy at Humboldt-Universität zu Berlin. Since 2018 she is also director of the University’s Centre for Social Critique. She has researched and taught as a visiting professor at Yale University\, Fudan University\, and as Theodor Heuss Professor at The New School for Social Research. Jaeggi was also a fellow at the Institute for Advanced Study in Princeton. She is a prominent representative of critical theory\, has received numerous awards\, and is the author and co-editor of numerous books\, including Alienation (2015)\, Critique of Forms of Life (Harvard University Press\, 2018) and Fortschritt und Regression\, which is about to be translated and will appear in English in 2025. She is currently a fellow at the Thomas Mann Haus in Los Angeles.
URL:https://thi.ucsc.edu/event/rahel-jaeggi-progress-and-regression/
LOCATION:Humanities 1\, Room 420\, Humanites 1 University of California\, Santa Cruz Cowell College\, Santa Cruz\, CA\, 95064\, United States
ATTACH;FMTTYPE=image/jpeg:https://thi.ucsc.edu/wp-content/uploads/2024/02/HUM-Lobby-.jpg
END:VEVENT
BEGIN:VEVENT
DTSTART;TZID=America/Los_Angeles:20240320T110000
DTEND;TZID=America/Los_Angeles:20240320T120000
DTSTAMP:20260419T195051
CREATED:20240131T212356Z
LAST-MODIFIED:20240214T215013Z
UID:10006234-1710932400-1710936000@thi.ucsc.edu
SUMMARY:THI Coffee Hour
DESCRIPTION:The Humanities Institute is excited to welcome students\, faculty\, staff\, and friends for a weekly Coffee Hour on Wednesdays\, 11am to noon. \nWe invite you to visit our team\, meet our new Faculty Director\, Pranav Anand\, and talk with us about your academic interests as well as upcoming THI events and programs. Learn about how THI supports Faculty\, Graduate Students\, and Undergraduate Students\, including fellowship and grant opportunities\, and hear more about our ongoing research initiatives and partnerships. Enjoy a free cup of coffee\, pick up a THI sticker\, and be a part of our humanities community. \nCome say hi to us at the THI Suite\, on the 5th floor of the Humanities 1 building. We look forward to seeing you!
URL:https://thi.ucsc.edu/event/thi-coffee-hour-5/2024-03-20/
LOCATION:Humanities 1\, Room 515\, 1156 High St\, Santa Cruz\, CA\, 95064\, United States
ATTACH;FMTTYPE=image/png:https://thi.ucsc.edu/wp-content/uploads/2024/01/Simple-THI-Coffee-Hour-1600-x-900-px.png
END:VEVENT
BEGIN:VEVENT
DTSTART;TZID=America/Los_Angeles:20240321T150000
DTEND;TZID=America/Los_Angeles:20240321T163000
DTSTAMP:20260419T195051
CREATED:20240220T064228Z
LAST-MODIFIED:20240222T193034Z
UID:10007336-1711033200-1711038600@thi.ucsc.edu
SUMMARY:PhD+ Workshop - THI Public Fellowship Information Session
DESCRIPTION:Curious about becoming a THI Public Fellow? Not sure how to find the right partner organization? If you’re thinking about applying your expertise in the public sphere or exploring career opportunities beyond academia\, then you may be interested in THI’s Public Fellowship program. \nPublic fellowships provide opportunities for doctoral students in the Humanities to contribute to research\, programming\, communications\, and fundraising at non-profit organizations\, cultural institutions\, or companies and expand their skills in a non-academic setting while engaged in graduate study. \nPlease join us for an information session about the 2024 THI Public Fellows program to learn about Summer 2024 opportunities and hear from previous THI Public Fellows. \nAll THI Public Fellow applicants are required to attend an Info Session or meet with THI Staff by March 21st\, 2024. Final applications are due on April 15\, 2024. \nThe workshop will be led by Saskia Nauenberg Dunkell\, THI Research Programs and Communications Director\, and include a panel with recent Public Fellows\, Rafael Franco-Flores (who worked with the GLBT Historical Society) and Wesley Viebahn (who worked with the Santa Cruz Museum of Art & History) \n  \nAbout the PhD+ Workshop Series\nJoin us for the eighth year of PhD+ Workshops\, hosted by The Humanities Institute. We meet monthly to discuss possible career paths for PhDs\, internship possibilities\, grants/fellowships\, work/life balance\, elements of style\, online identity issues\, and much\, much more. \nRSVP here: \nLoading…
URL:https://thi.ucsc.edu/event/thi-public-fellowship-information-session/
LOCATION:Humanities 1\, Room 210\, 1156 high st\, Santa cruz\, CA\, 95060\, United States
CATEGORIES:PhD+ Event
END:VEVENT
BEGIN:VEVENT
DTSTART;TZID=America/Los_Angeles:20240322T090000
DTEND;TZID=America/Los_Angeles:20240322T103000
DTSTAMP:20260419T195051
CREATED:20231025T215908Z
LAST-MODIFIED:20240112T173251Z
UID:10006188-1711098000-1711103400@thi.ucsc.edu
SUMMARY:Project Paradiso: A Gateway to Dante’s Heaven – Episode 11 - The End of Imagination (Paradiso 33)
DESCRIPTION:Dante’s Paradiso is the least studied and the least understood of the three parts of the Commedia. Yet it is arguably the most important for the dynamism and originality of the literary\, theological\, and philosophical inquiries that take place there. It is also a singularly important interpretive guide for a full understanding of the entire Commedia. It is a poem that asks to be tackled by a community of engaged readers: here it’s your opportunity! This year-long series of webinar workshops led by world-renowned scholars will take you on a deep reading of the Paradiso and an unforgettable journey to the heart of Dante’s universe. This virtual series will reward both first-time and expert readers of the Commedia with an opportunity to delve deep into one of the most complex and daring speculative poems ever written. We’ll be meeting online almost every other week from October to May. See the Project Paradiso page for full schedule. \n \n  \nWilliam Franke is a Dante scholar\, a philosopher of the humanities\, and a professor of comparative literature at Vanderbilt University. He has also been professor of philosophy at University of Macao (2013-2016); Fulbright-University of Salzburg Distinguished Chair in Intercultural Theology (2005-06); and Alexander von Humboldt-Stiftung research fellow (1994- 95). His book Dante’s Paradiso and the Theological Origins of Modern Thought: Toward a Speculative Philosophy of Self-Reflection received the Hermes Award: Book of the Year in Phenomenological Hermeneutics from The International Institute for Hermeneutics (IIH)\, 2021 and he became Honorary Professor (Profesore Honoris Causa) of the Agora Hermeneutica. \nIn addition to six monographs on Dante\, Franke’s critical theory books include Poetry and Apocalypse: Theological Disclosures of Poetic Language (Stanford University Press\, 2009) and A Theology of Literature: The Bible as Revelation in the Tradition of the Humanities (Cascade\, 2017). These works follow up on books tracing prophetic poetry from Homer and Virgil to Dante (The Revelation of Imagination\, Northwestern University Press\, 2015) and then forward from Dante through Chaucer\, Shakespeare\, Milton\, Blake\, Leopardi\, to more recent modern classics including Baudelaire\, Dickinson\, and Yeats (Secular Scriptures: Modern Theological Poetics in the Wake of Dante\, Ohio State University Press\, 2016). \nIn conjunction with his work on prophetic poetry\, Franke has developed what he calls A Philosophy of the Unsayable (University of Notre Dame Press\, 2014) reconstructing the apophatic tradition in On What Cannot Be Said (Notre Dame\, 2007\, 2 vols.). His Apophatic Paths from Europe to China (SUNY\, 2018\, Chinese Philosophy series) extends this project into an intercultural philosophy. His The Universality of What is Not: The Apophatic Turn in Critical Thinking (Notre Dame\, 2020) explores applications of this philosophy to media studies\, postmodern identity politics of race and gender\, and cognitive sciences in their struggle with the humanities. \nDante monographs by William Franke\nDantologies: Theoretical and Theological Turns in Dante Studies – New York: Routledge\, 2023 (forthcoming) Routledge Studies in Medieval Literature and Culture\nThe Divine Vision of Dante’s Paradiso: The Metaphysics of Representation – Cambridge\, UK: Cambridge University Press\, 2021 (304 + xx pages)\nDante’s Vita Nuova and the New Testament: Hermeneutics and the Poetics of Revelation – Cambridge\, UK: Cambridge University Press\, 2021 (299 + xix pages)\nDante’s Paradiso and the Theological Origins of Modern Thought: Toward a Speculative Philosophy of Self-Reflection – New York: Routledge\, 2021 (334 + xxii pages) Routledge Interdisciplinary Perspectives on Literature Series\nDante and the Sense of Transgression: ‘The Trespass of the Sign’ – London and New York: Continuum [Bloomsbury Academic]\, 2013 Invited for New Directions in Religion and Literature Series\, edited by Mark Knight and Emma Mason (200 + xv pages)\nDante’s Interpretive Journey – Chicago: University of Chicago Press\, 1996 (242 + xi pages) Religion and Postmodernism series\, edited by Mark C. Taylor \nPresented by the Humanities Institute and the Department of Literature Italian Studies. Sponsored by the University of California Humanities Research Institute\, Siegfried and Elizabeth Mignon Puknat Literary Studies Endowment\, and Porter College
URL:https://thi.ucsc.edu/event/dante-episode11/
LOCATION:Virtual Event
ATTACH;FMTTYPE=image/jpeg:https://thi.ucsc.edu/wp-content/uploads/2023/10/UCSC-THI-ProjectParadiso-1024x576-1.jpg
END:VEVENT
END:VCALENDAR