BEGIN:VCALENDAR
VERSION:2.0
PRODID:-//The Humanities Institute - ECPv6.15.20//NONSGML v1.0//EN
CALSCALE:GREGORIAN
METHOD:PUBLISH
X-ORIGINAL-URL:https://thi.ucsc.edu
X-WR-CALDESC:Events for The Humanities Institute
REFRESH-INTERVAL;VALUE=DURATION:PT1H
X-Robots-Tag:noindex
X-PUBLISHED-TTL:PT1H
BEGIN:VTIMEZONE
TZID:America/Los_Angeles
BEGIN:DAYLIGHT
TZOFFSETFROM:-0800
TZOFFSETTO:-0700
TZNAME:PDT
DTSTART:20230312T100000
END:DAYLIGHT
BEGIN:STANDARD
TZOFFSETFROM:-0700
TZOFFSETTO:-0800
TZNAME:PST
DTSTART:20231105T090000
END:STANDARD
BEGIN:DAYLIGHT
TZOFFSETFROM:-0800
TZOFFSETTO:-0700
TZNAME:PDT
DTSTART:20240310T100000
END:DAYLIGHT
BEGIN:STANDARD
TZOFFSETFROM:-0700
TZOFFSETTO:-0800
TZNAME:PST
DTSTART:20241103T090000
END:STANDARD
BEGIN:DAYLIGHT
TZOFFSETFROM:-0800
TZOFFSETTO:-0700
TZNAME:PDT
DTSTART:20250309T100000
END:DAYLIGHT
BEGIN:STANDARD
TZOFFSETFROM:-0700
TZOFFSETTO:-0800
TZNAME:PST
DTSTART:20251102T090000
END:STANDARD
END:VTIMEZONE
BEGIN:VEVENT
DTSTART;TZID=America/Los_Angeles:20240428T130000
DTEND;TZID=America/Los_Angeles:20240428T150000
DTSTAMP:20260425T044930
CREATED:20231012T062806Z
LAST-MODIFIED:20231012T165444Z
UID:10007330-1714309200-1714316400@thi.ucsc.edu
SUMMARY:Santa Cruz Pickwick Club
DESCRIPTION:Please join the Santa Cruz Dickens Fellowship and the Santa Cruz Pickwick Club for our monthly Pickwick Club meeting. New this year\, we will be devoting an entire year to one novel instead of two\, and will dive deeply into Great Expectations. Join Dickens enthusiasts and Pickwick Club members for a series of discussions about this book. \n \nCharles Dickens depicts how a gentleman is made\, not born\, in this novel. Presented as Pip’s confessional autobiography\, Great Expectations describes his childhood at the forge\, his infatuation with the beautiful Estella\, his shame at his working-class origin and his eagerness to be a gentleman\, and eventually his life as a young man-about-town with “great expectations” of inheriting a fortune. Recalling these events as an adult\, Mr. Pirrip is frank about his mistakes and shortcomings. \nRecommended Edition: We recommend the Penguin Classics edition of the novel for its appendices and notes\, but other versions are fine. First-time readers should avoid the Introduction if they don’t want spoilers. Download the novel to read at Gutenburg.org or to listen at LibriVox.org. \nIf you have any questions please don’t hesitate to reach out at dpj@ucsc.edu
URL:https://thi.ucsc.edu/event/santa-cruz-pickwick-club-6/
LOCATION:Virtual Event
ATTACH;FMTTYPE=image/jpeg:https://thi.ucsc.edu/wp-content/uploads/2023/10/1024x576_GE_Pickwick_Banner.jpg
END:VEVENT
BEGIN:VEVENT
DTSTART;TZID=America/Los_Angeles:20240429T120000
DTEND;TZID=America/Los_Angeles:20240429T120000
DTSTAMP:20260425T044930
CREATED:20240507T191221Z
LAST-MODIFIED:20240507T191221Z
UID:10007436-1714392000-1714392000@thi.ucsc.edu
SUMMARY:Making a Killing: Capitalism\, Cops\, & the War on Black Life with Robin Kelley
DESCRIPTION:The History of Consciousness department presents Making a Killing: Capitalism\, Cops\, & the War on Black Life with Robin Kelley\, UC Los Angeles. \nThis talk is a part of the Spring 2024 History of Consciousness Speaker Series. The History of Consciousness Speaker series is a quarterly series of talks by distinguished guests. To learn more visit: https://histcon.ucsc.edu/hisc_speaker_series/. \nRecordings of previous lectures are available in the HistCon Speaker Series Archive.
URL:https://thi.ucsc.edu/event/making-a-killing-capitalism-cops-the-war-on-black-life-with-robin-kelley/
LOCATION:Virtual and In Person
END:VEVENT
BEGIN:VEVENT
DTSTART;TZID=America/Los_Angeles:20240430T180000
DTEND;TZID=America/Los_Angeles:20240430T193000
DTSTAMP:20260425T044930
CREATED:20240314T234940Z
LAST-MODIFIED:20240415T223413Z
UID:10007385-1714500000-1714505400@thi.ucsc.edu
SUMMARY:The Deep Read: Craft Salon
DESCRIPTION:Join us for a public\, Zoom conversation about the writing craft of Hernan Diaz’s Trust\, the 2024 Deep Read book selection. UC Santa Cruz-affiliated novelists Micah Perks (Professor of Literature and Creative Writing)\, Elizabeth McKenzie (Merrill ’81\, Literature)\, and Maria Pachon (Literature PhD student in the Creative/Critical Writing Concentration) will discuss the techniques deployed in this experimental novel and highlight creative dimensions of the book. \n \n  \n  \n\nAbout the Deep Read \nThe Deep Read is an annual program of The Humanities Institute at UC Santa Cruz. Now in its fifth year\, we invite curious minds to think deeply about books and the most pressing issues of our contemporary moment.
URL:https://thi.ucsc.edu/event/the-deep-read-craft-salon/
LOCATION:Zoom\, CA\, United States
ATTACH;FMTTYPE=image/png:https://thi.ucsc.edu/wp-content/uploads/2024/03/DeepRead24_April30_CraftSalon-event-Header-copy.png
END:VEVENT
BEGIN:VEVENT
DTSTART;TZID=America/Los_Angeles:20240501T110000
DTEND;TZID=America/Los_Angeles:20240501T120000
DTSTAMP:20260425T044930
CREATED:20240131T212356Z
LAST-MODIFIED:20240214T215013Z
UID:10006238-1714561200-1714564800@thi.ucsc.edu
SUMMARY:THI Coffee Hour
DESCRIPTION:The Humanities Institute is excited to welcome students\, faculty\, staff\, and friends for a weekly Coffee Hour on Wednesdays\, 11am to noon. \nWe invite you to visit our team\, meet our new Faculty Director\, Pranav Anand\, and talk with us about your academic interests as well as upcoming THI events and programs. Learn about how THI supports Faculty\, Graduate Students\, and Undergraduate Students\, including fellowship and grant opportunities\, and hear more about our ongoing research initiatives and partnerships. Enjoy a free cup of coffee\, pick up a THI sticker\, and be a part of our humanities community. \nCome say hi to us at the THI Suite\, on the 5th floor of the Humanities 1 building. We look forward to seeing you!
URL:https://thi.ucsc.edu/event/thi-coffee-hour-5/2024-05-01/
LOCATION:Humanities 1\, Room 515\, 1156 High St\, Santa Cruz\, CA\, 95064\, United States
ATTACH;FMTTYPE=image/png:https://thi.ucsc.edu/wp-content/uploads/2024/01/Simple-THI-Coffee-Hour-1600-x-900-px.png
END:VEVENT
BEGIN:VEVENT
DTSTART;TZID=America/Los_Angeles:20240501T121500
DTEND;TZID=America/Los_Angeles:20240501T141500
DTSTAMP:20260425T044930
CREATED:20240227T212659Z
LAST-MODIFIED:20240430T220341Z
UID:10006254-1714565700-1714572900@thi.ucsc.edu
SUMMARY:CANCELLED - TechnoScience Improv
DESCRIPTION:Co-sponsored by Center for Cultural Studies\, History of Consciousness: GeoEcologies + TechnoScience Conversations\, Global and Community Health\, and the Science & Justice Research Center \nThis two-hour roundtable improv (12.15-2.00pm) brings together ten UCSC scholars working on social\, historical\, and cultural studies of science\, technology and medicine. The event will be structured around eight open\, improvised conversations. Rather than structured around formal talks\, each conversation will start with a question from a different panelist exploring emerging practices\, speculative transformations\, and critical imaginings of technoscience\, health and ecology. \nWe welcome panelists: Dimitris Papadopoulos (convenor)\, Karen Barad\, James Doucet-Battle\, Kat Gutierrez\, Maria Puig de la Bellacasa\, Jenny Reardon\, Warren Sack\, Kriti Sharma\, Matt Sparke\, and Zac Zimmer. \n\nABOUT THE PANELISTS \nKaren Barad is Distinguished Professor of Feminist Studies\, Philosophy\, and History of Consciousness. \nJames Doucet-Battle is an Associate Professor in the Department of Sociology and Co-Director of the Science & Justice Research Center. \nKat Gutierrez is an Assistant Professor in the History Department. \nDimitris Papadopoulos is Professor of History of Consciousness in the Department of History of Consciousness. \nMaria Puig de la Bellacasa is Professor of History of Consciousness in the Department of History of Consciousness. \nJenny Reardon is a Professor of Sociology and the Founding Director of the Science & Justice Research Center. \nWarren Sack is Professor of the Software Arts in the Film + Digital Media Department. \nKriti Sharma is an Assistant Professor of Critical Race Science and Technology Studies in Critical Race and Ethnic Studies. \nMatt Sparke is Professor of Politics in the Politics Department and Co-Director of Global and Community Health. \nZac Zimmer is an Associate Professor of Literature in the Literature Department. \n\n \nThe Center for Cultural Studies hosts a weekly Wednesday colloquium featuring work by faculty and visitors. We gather at 12:00 PM\, with presentations beginning at 12:15 PM. Staff assistance is provided by The Humanities Institute.
URL:https://thi.ucsc.edu/event/technoscience-improv/
LOCATION:Humanities 1\, Room 210\, 1156 high st\, Santa cruz\, CA\, 95060\, United States
END:VEVENT
BEGIN:VEVENT
DTSTART;TZID=America/Los_Angeles:20240501T170000
DTEND;TZID=America/Los_Angeles:20240501T170000
DTSTAMP:20260425T044930
CREATED:20240416T214857Z
LAST-MODIFIED:20240416T215224Z
UID:10007408-1714582800-1714582800@thi.ucsc.edu
SUMMARY:Dalit Histories\, Gender Formations: A Conversation with Journalist Meena Kotwal
DESCRIPTION:This talk is co-sponsored by the Center for South Asia at Stanford University and the Center for South Asian Studies at the University of California Santa Cruz (CSAS). \nOn May 1\, 2024 \, Meena Kotwal will be in conversation with Anjali Arondekar (Professor in Feminist Studies\, UCSC and Founding Director\, CSAS) at the Stanford University campus. This talk will take place in Encina Commons\, 123 (615 Crothers Way\, Stanford University) at 5:00 PM PT. For more details visit Dalit Histories\, Gender Formations \nThis event is hybrid: \nTo Attend In-person | Register Here\nTo Connect Virtually | Register Here \nMeena Kotwal is a journalist and founder of Mooknayak\, an online news channel and website that covers issues related to the persecution of the Dalit\, tribal\, and minority communities\, and which advocates for social justice and democracy for the marginalized.
URL:https://thi.ucsc.edu/event/dalit-histories-gender-formations-a-conversation-with-journalist-meena-kotwal/
LOCATION:Virtual and In Person
END:VEVENT
BEGIN:VEVENT
DTSTART;TZID=America/Los_Angeles:20240502T150000
DTEND;TZID=America/Los_Angeles:20240502T163000
DTSTAMP:20260425T044930
CREATED:20240423T173330Z
LAST-MODIFIED:20240425T211215Z
UID:10007410-1714662000-1714667400@thi.ucsc.edu
SUMMARY:The Maya K. Peterson Explorations in History Seminar Series & Thom Gentle Lecture
DESCRIPTION:The Maya K. Peterson Explorations in History Seminar Series & Thom Gentle Lecture will take place on Thursday\, May 2nd\, 2024\, at 3:00pm at the Cowell Provost House. This event will also be livestreamed and recorded: Maya K. Peterson Explorations in History Seminar Series Lecture. \nThis year’s guest speaker is Bathsheba Demuth\, Dean’s Associate Professor of History and Environment and Society\, Brown University. Professor Demuth’s lecture is titled “The Reindeer Herd in the Ruins.” \nClimate change is often described in apocalyptic terms: as Armageddon\, or the end of the world. Nowhere is this more true than in the Arctic\, where the rates of warming are twice that of temperate regions\, and have been visible for decades. This talk looks to the history of the Chukchi Peninsula on the far northeastern edge of Russia — a place that has experienced radical changes in the past\, first with the founding of the Soviet Union and then with its dissolution — to explore what kinds of narratives suit the experience of radical change. Weaving a story of devoted Bolsheviks\, Chukchi nomads\, and herds of reindeer\, it asks what is lost when we emphasize rupture\, and what is gained by paying attention to the ruins left by past ways of living\, as we face a transformed Arctic – and planet. \nBathsheba Demuth is a writer and environmental historian specializing in the lands and seas of the Russian and North American Arctic. Her interest in northern places and cultures began when she was 18 and moved to the village of Old Crow in the Yukon\, where she trained huskies for several years. From the archive to the dog sled\, she is interested in how the histories of people\, ideas\, and ecologies intersect. In addition to her prize-winning book Floating Coast: An Environmental History of the Bering Strait\, her writing has appeared in publications from The American Historical Review to The New Yorker and The Best American Science and Nature Writing. She is currently the Dean’s Associate Professor of History and Environment and Society at Brown University. \n\nThe Maya K. Peterson Explorations in History Seminar Series at UCSC honors the life and spirit of a brilliant scholar\, teacher\, and mentor whose career was cut short by her untimely death in 2021. A specialist in Russian\, Central Asian and environmental history\, Maya was a valued member of UCSC’s faculty in the History Department and the Humanities Division. The Explorations in History Seminar Series celebrates Maya’s passions for the study of history\, for dialogue between the humanities and the sciences\, and for innovative scholarship across disciplines—passions that she shared generously with students\, colleagues\, and communities around the globe. \nThis year’s event is being sponsored by The Maya K. Peterson Memorial Endowment\, the Thom Gentle Endowment in History\, and the UCSC History Department.
URL:https://thi.ucsc.edu/event/the-maya-k-peterson-explorations-in-history-seminar-series-thom-gentle-lecture/
LOCATION:Cowell Provost House\,  Cowell Provost House\, Cowell Service Rd‎ University of California Santa Cruz\, Cowell College\, Santa Cruz\, CA\, 95064\, United States
END:VEVENT
BEGIN:VEVENT
DTSTART;TZID=America/Los_Angeles:20240502T172000
DTEND;TZID=America/Los_Angeles:20240502T185500
DTSTAMP:20260425T044930
CREATED:20240306T214918Z
LAST-MODIFIED:20240426T175507Z
UID:10007211-1714670400-1714676100@thi.ucsc.edu
SUMMARY:Living Writers with Joseph Han
DESCRIPTION:Living Writers Series – Spring 2024\nImaginaries)Un(bound: Race\, Justice\, Writing: The Living Writers Series\, the Center for Racial Justice\, and Critical Race and Ethnic Studies (CRES) present poets\, theorists\, fiction and hybrid artists working at the nexus of creative-critical practice in the struggle for justice with the imperative of imaginatively undoing the academic and disciplinary strictures that bind critical scholarship. \nThis presentation will be both in person at the Humanities Lecture Hall and available via live stream at: https://vimeo.com/event/425786 \nJoseph Han is the author of Nuclear Family\, named a New York Times Book Review Editors’ Choice and a best book of the year by NPR and Time Magazine. He was selected as a 2022 National Book Foundation ‘5 Under 35’ honoree and received a Kundiman fellowship in fiction. His novel won the 2023 Asian/Pacific American Literature Award Adult Fiction Honor and the 2024 Association for Asian American Studies Book Award. \nHe is an editor for the West region of Joyland Magazine and an Affiliate Faculty in Fiction at the Antioch University Los Angeles low-residency MFA program.
URL:https://thi.ucsc.edu/event/living-writers-with-joseph-han/
LOCATION:Virtual and In Person
END:VEVENT
BEGIN:VEVENT
DTSTART;TZID=America/Los_Angeles:20240503T090000
DTEND;TZID=America/Los_Angeles:20240503T103000
DTSTAMP:20260425T044930
CREATED:20231019T214757Z
LAST-MODIFIED:20240112T173528Z
UID:10007342-1714726800-1714732200@thi.ucsc.edu
SUMMARY:Project Paradiso: A Gateway to Dante’s Heaven - Episode Fourteen – Global Perspectives\, Part 1: Paradiso in World Literature & Culture
DESCRIPTION:Dante’s Paradiso is the least studied and the least understood of the three parts of the Commedia. Yet it is arguably the most important for the dynamism and originality of the literary\, theological\, and philosophical inquiries that take place there. It is also a singularly important interpretive guide for a full understanding of the entire Commedia. It is a poem that asks to be tackled by a community of engaged readers: here it’s your opportunity! This year-long series of webinar workshops led by world-renowned scholars will take you on a deep reading of the Paradiso and an unforgettable journey to the heart of Dante’s universe. This virtual series will reward both first-time and expert readers of the Commedia with an opportunity to delve deep into one of the most complex and daring speculative poems ever written. We’ll be meeting online almost every other week from October to May. See the Project Paradiso page for full schedule. \n \n  \nMartin Eisner is Chair of Romance Studies and Professor of Italian at Duke University. He is the author of Dante’s New Life of the Book: A Philology of World Literature (Oxford UP\, 2021)\, which won the Howard R. Marraro Prize from the Modern Language Association. His first book Boccaccio and the Invention of Italian Literature: Dante\, Petrarch\, Cavalcanti\, and the Authority of the Vernacular (Cambridge UP\, 2013) was recently published in Italian as Boccaccio e l’invenzione della letteratura italiana (Salerno\, 2022). He is currently working on a biography of Boccaccio for Reaktion Books’s Renaissance Lives series. \n  \nPresented by the Humanities Institute and the Department of Literature Italian Studies. Sponsored by the University of California Humanities Research Institute\, Siegfried and Elizabeth Mignon Puknat Literary Studies Endowment\, and Porter College
URL:https://thi.ucsc.edu/event/project-paradiso-a-gateway-to-dantes-heaven-episode-episode-fourteen-global-perspectives-part-1-paradiso-in-world-literature-culture-2/
LOCATION:Virtual Event
ATTACH;FMTTYPE=image/jpeg:https://thi.ucsc.edu/wp-content/uploads/2023/10/UCSC-THI-ProjectParadiso-1024x576-1.jpg
END:VEVENT
BEGIN:VEVENT
DTSTART;TZID=America/Los_Angeles:20240503T120000
DTEND;TZID=America/Los_Angeles:20240503T130000
DTSTAMP:20260425T044930
CREATED:20240416T172514Z
LAST-MODIFIED:20240418T165337Z
UID:10007405-1714737600-1714741200@thi.ucsc.edu
SUMMARY:Conversation with Jennifer Lunden\, author of American Breakdown
DESCRIPTION:Join us on Friday\, May 3 at 12:00PM for a virtual webinar with Jennifer Lunden\, author of AMERICAN BREAKDOWN: Our Ailing Nation\, My Body’s Revolt\, and the Nineteenth Century Woman Who Brought Me Back to Life. \n \nA Silent Spring for the human body\, this wide-ranging\, genre-crossing literary mystery interweaves the author’s quest to understand the source of her own condition with her telling of the story of the chronically ill 19th-century diarist Alice James—ultimately uncovering the many hidden health hazards of life in America. \nIn this meticulously researched and illuminating debut\, Lunden interweaves her own experience with Alice’s\, exploring the history of medicine and the effects of the industrial revolution and late-stage capitalism to tell a riveting story of how we are a nation struggling—and failing—to be healthy. Read More \nJennifer Lunden is an award-winning writer who explores the intersection of health and the environment. Her essays have been published in Creative Nonfiction\, Orion\, River Teeth\, DIAGRAM\, Longreads\, and other journals; selected for several anthologies; and praised as notable in Best American Essays. A former therapist\, she was named Maine’s Social Worker of the Year in 2012. She and her husband\, the artist Frank Turek\, live in a little house in Portland\, Maine\, where they keep several chickens\, two cats\, and some gloriously untamed gardens.
URL:https://thi.ucsc.edu/event/conversation-with-jennifer-lunden-author-of-american-breakdown/
LOCATION:Virtual Event
ATTACH;FMTTYPE=image/png:https://thi.ucsc.edu/wp-content/uploads/2024/04/American-Breakdown-with-Jennifer-Lunden-2.png
END:VEVENT
BEGIN:VEVENT
DTSTART;TZID=America/Los_Angeles:20240503T160000
DTEND;TZID=America/Los_Angeles:20240503T180000
DTSTAMP:20260425T044930
CREATED:20240423T170730Z
LAST-MODIFIED:20240423T180252Z
UID:10007409-1714752000-1714759200@thi.ucsc.edu
SUMMARY:Educator's Mixer: Pajaro Valley Filipino American History
DESCRIPTION:To kick of Asian American and Pacific Islander History Month\, the Santa Cruz Museum of Art and History (MAH) and Watsonville is in the Heart (WIITH) will co-host a free event for local educators. \nThe event provides educators with a chance to meet with WIITH team members who are working to produce educational resources about Filipino American history in Santa Cruz county. \nCo-sponsored by UCSC’s Arts Division\, Center for Labor and Community\, History Department\, Humanities Division\, and Institute for Social Transformation
URL:https://thi.ucsc.edu/event/educators-mixer-pajaro-valley-filipino-american-history/
LOCATION:Santa Cruz Museum of Art & History\, 705 Front St.\, Santa Cruz\, CA\, 95060\, United States
END:VEVENT
BEGIN:VEVENT
DTSTART;TZID=America/Los_Angeles:20240504T100000
DTEND;TZID=America/Los_Angeles:20240504T100000
DTSTAMP:20260425T044930
CREATED:20240423T212610Z
LAST-MODIFIED:20240514T164058Z
UID:10007415-1714816800-1714816800@thi.ucsc.edu
SUMMARY:Saturday Shakespeare
DESCRIPTION:In collaboration with the Shakespeare Workshop at UCSC\, this in-person meeting of the Saturday Shakespeare Group will take place on Saturday\, May 4th in the new Aptos Library\, with a Zoom option for those who can not attend in person. The nominal meeting time is 10:00 am\, library doors open at 10:00 am. \nThe speaker for this meeting will be Charles Pasternack\, current Artistic Director of Santa Cruz Shakespeare. He will tell us about the ambitious program he has arranged for this summer\, which includes Hamlet. Additionally\, since he will also play the title role in Hamlet\, he may give us some thoughts on the play and Hamlet’s character. \nReadings: Act II scene 2 +Act III Scene 1 + Act III Scene 2 up to Polonius saying “lights\, lights\, lights” and all exit except for Horatio and Hamlet (this is line 265 in the Pelican edition) \nReading Coordinator: Linda Mandel | lindamandel@yahoo.com\nIf you would like to read please email the reading coordinator as soon as possible. \nZoom Information\nFor those who will be attending by Zoom\, here is the Zoom information. The link is:\nhttps://us06web.zoom.us/j/89795220016?pwd=QRcs1tQt6TAxaaBdYqUrXW6XVu4JlJ.1\nMeeting ID: 897 9522 0016\nPasscode: 755261 \nAll Scheduled Meetings \n\nApril 27 | Paul Whitworth\nMay 4 | Charles Pasternack\nMay 11 | Sean Keilen\nMay 18 | Michael Warren\nMay 25 | DVD showing\nJune 1 | Zoom only showing of DVD\n\nDirections\nThe Aptos library is easy to find –> Exit highway 1 at State Park Drive and go north to Soquel Drive. Turn left on Soquel Drive and the library is almost immediately on the right. The address is 7695 Soquel Dr\, Aptos\, CA 95003. There is free parking. \nThe Text\nWe will be using the Pelican edition. If you would like to read please get hold of a copy of this edition because there are differences between different editions. There are two sources for the play\, the second quarto (Q2) of 1604-5 and the first folio (F) of 1623. The folio contains 70 lines not in Q2 and lacks 230 that are in Q2. Most editions combine them in a conflated text\, thus making a long play even longer. The pelican edition does not do that\, but sticks almost entirely to Q2. As a result there will be significant differences between the Pelican edition and an edition that uses a conflated text. \nUnfortunately Bookshop Santa Cruz won’t order copies for the group (unless all copies are paid for in advance). You will therefore need to order a copy yourself. Alternatively you can buy it on Amazon. It is difficult to find the Pelican edition by searching on the Amazon site. Better is to google “Hamlet Pelican Edition Amazon”. \nDonations to Santa Cruz Shakespeare\nOur meetings are free\, but we suggest that members make a contribution to Santa Cruz Shakespeare. \nTo do this you can either make a donation by credit card or send a check payable to Santa Cruz Shakespeare:\nSanta Cruz Shakespeare\n501 Upper Park Rd\nSanta Cruz\, CA 95065 \nIf you send a check\, it would be helpful if you could indicate that this gift is on behalf of the Saturday Shakespeare Group. \nNew Members Wanted\nWe are always looking for new members. Everyone is welcome. If you know of anyone who would be interested in attending these meetings\, please encourage them to do so. Contact saturdayshakespeare@gmail.com to be added to the mailing list. \nNote: It is strongly encouraged to attend in person if you possibly can. The lectures and readings will be much more vivid for those actually present\, and the in-person interactions will restart the social aspect of the group.
URL:https://thi.ucsc.edu/event/saturday-shakespeare-2/
LOCATION:Aptos Library\, 7695 Soquel Dr\, Aptos\, 95003\, United States
END:VEVENT
END:VCALENDAR