BEGIN:VCALENDAR
VERSION:2.0
PRODID:-//The Humanities Institute - ECPv6.15.20//NONSGML v1.0//EN
CALSCALE:GREGORIAN
METHOD:PUBLISH
X-WR-CALNAME:The Humanities Institute
X-ORIGINAL-URL:https://thi.ucsc.edu
X-WR-CALDESC:Events for The Humanities Institute
REFRESH-INTERVAL;VALUE=DURATION:PT1H
X-Robots-Tag:noindex
X-PUBLISHED-TTL:PT1H
BEGIN:VTIMEZONE
TZID:America/Los_Angeles
BEGIN:DAYLIGHT
TZOFFSETFROM:-0800
TZOFFSETTO:-0700
TZNAME:PDT
DTSTART:20230312T100000
END:DAYLIGHT
BEGIN:STANDARD
TZOFFSETFROM:-0700
TZOFFSETTO:-0800
TZNAME:PST
DTSTART:20231105T090000
END:STANDARD
BEGIN:DAYLIGHT
TZOFFSETFROM:-0800
TZOFFSETTO:-0700
TZNAME:PDT
DTSTART:20240310T100000
END:DAYLIGHT
BEGIN:STANDARD
TZOFFSETFROM:-0700
TZOFFSETTO:-0800
TZNAME:PST
DTSTART:20241103T090000
END:STANDARD
BEGIN:DAYLIGHT
TZOFFSETFROM:-0800
TZOFFSETTO:-0700
TZNAME:PDT
DTSTART:20250309T100000
END:DAYLIGHT
BEGIN:STANDARD
TZOFFSETFROM:-0700
TZOFFSETTO:-0800
TZNAME:PST
DTSTART:20251102T090000
END:STANDARD
END:VTIMEZONE
BEGIN:VEVENT
DTSTART;TZID=America/Los_Angeles:20241112T100000
DTEND;TZID=America/Los_Angeles:20241112T113000
DTSTAMP:20260422T175704
CREATED:20241007T013308Z
LAST-MODIFIED:20241007T013430Z
UID:10007509-1731405600-1731411000@thi.ucsc.edu
SUMMARY:Online Platforms for Presenting Research with Kayla Isenberg
DESCRIPTION:Ready to promote your research on social media? This seminar will help you learn how! Explore how to promote your research and expertise on the text-based social media platforms Threads\, Mastodon\, and others. We’ll cover how to use each platform\, how each works\, how to communicate effectively on each platform\, and how to pick the right platform for you and your goals. \nThis event is on Nov 12\, 10:00 a.m. – 11:30 a.m. via Zoom. Register below to attend the session. \n \nKayla Isenberg is the senior director of digital engagement for UC Santa Cruz\, where she runs digital strategy for the main campus social media properties and advises on divisional and other social media accounts across campus. She has over 15 years of experience in digital marketing and social media\, working for a variety of companies\, from startups to Fortune 500. She was listed on the Forbes 40 under 40 list for her work at Warner Bros Records. In her work in higher education\, she has won multiple CASE awards for her work in digital marketing and social media at UC Santa Cruz and has been a featured speaker at CASE social media conferences. \n\nThis event is a Graduate Division Professional Development Event co-sponsored by The Humanities Institute as part of our PhD+ workshop series. The Division of Graduate Studies’ workshops are for current UC Santa Cruz graduate students and postdoctoral scholars and require an active UC Santa Cruz email address. \nAbout the PhD+ Workshop Series\nJoin us for the ninth year of PhD+ Workshops at The Humanities Institute. This series covers a range of topics including possible career paths for humanities PhDs\, securing grants and fellowships\, work/life balance\, elements of style\, online identity issues\, and much\, much more.
URL:https://thi.ucsc.edu/event/online-platforms-for-presenting-research-with-kayla-isenberg/
LOCATION:Virtual Event
CATEGORIES:PhD+ Event
END:VEVENT
BEGIN:VEVENT
DTSTART;TZID=America/Los_Angeles:20241112T123000
DTEND;TZID=America/Los_Angeles:20241112T140000
DTSTAMP:20260422T175704
CREATED:20241029T180803Z
LAST-MODIFIED:20241029T220708Z
UID:10007530-1731414600-1731420000@thi.ucsc.edu
SUMMARY:Film Screening and Director's Discussion: Chaityabhumi
DESCRIPTION:Chaityabhumi is a holy site that holds immense importance for the Dalit movement in India\, as it is where Dr. Babasaheb Ambedkar’s last rites were performed after his passing on December 6\, 1956. Dr Ambedkar\, often called the father of the Indian Constitution\, dedicated his life to fighting the chains of caste oppression and bringing revolutionary change. He was a guiding light for the oppressed who dismantled discriminatory barriers and empowered them to reclaim their dignity and their rightful place in society. \nThis musical film will bring to light the history and cultural politics of how people commemorate December 6 at Chaityabhumi\, Mumbai\, and the relevance of this public event in contemporary India. It explores how the Dalit community comes together to honor this day and the political implications it holds for their identity and empowerment. \nSomnath Waghmare is a Mumbai-based\, Dalit-Buddhist film researcher and documentary filmmaker. He is the co-founder of the Ambedkarite Dalit song documentation project\, ‘The Ambedkar Age Digital Bookmobile\,’ for which he was awarded the Foundation for Indian Contemporary Art Public Art Grant in 2020. He is also the founder of Begumpura Productions. His recent documentary\, Chaityabhumi\, has been screened globally\, including at the London School of Economics and Columbia University. His past films include I am not a Witch (2016)\, The Battle of Bhima Koregaon: An Unending Journey (2017)\, Memories of Mangaon (2022)\, and There is No Caste Discrimination in IITs? (2023). He is currently working on a documentary biopic on American born Indian sociologist Gail Omvedt. \n\nPresented by the Center for South Asian Studies (CSAS) and co-sponsored by The Humanities Institute.
URL:https://thi.ucsc.edu/event/film-screening-and-directors-discussion-chaityabhumi/
LOCATION:Humanities 1\, Room 210\, 1156 high st\, Santa cruz\, CA\, 95060\, United States
ATTACH;FMTTYPE=image/png:https://thi.ucsc.edu/wp-content/uploads/2024/10/Chaityabhumi_1600x900.png
END:VEVENT
BEGIN:VEVENT
DTSTART;TZID=America/Los_Angeles:20241112T190000
DTEND;TZID=America/Los_Angeles:20241112T203000
DTSTAMP:20260422T175704
CREATED:20240822T203859Z
LAST-MODIFIED:20240823T180944Z
UID:10007460-1731438000-1731443400@thi.ucsc.edu
SUMMARY:The Hive Live! Featuring Gary Young & Elizabeth Robinson
DESCRIPTION:The Hive Live! presents an evening of poetry with Gary Young and Elizabeth Robinson at Bookshop Santa Cruz. \nGary Young is a poet\, artist\, and translator. He is the author of nine collections of poetry\, among them That’s What I Thought\, and American Analects\, both from Persea Books. His other books include Precious Mirror\, translations from the Japanese; Taken to Heart: 70 Poems from the Chinese; Even So: New and Selected Poems; Pleasure; No Other Life\, winner of the William Carlos Williams Award; Braver Deeds\, winner of the Peregrine Smith Poetry Prize; The Dream of a Moral Life\, which won the James D. Phelan Award; and Hands. He has received grants from the National Endowment for the Arts\, the National Endowment for the Humanities\, and the California Arts Council\, among others. His print work is represented in collections including the Museum of Modern Art\, the Victoria and Albert Museum\, and the Getty Center for the Arts. In 2009 he received the Shelley Memorial Award from the Poetry Society of America. He teaches creative writing and directs the Cowell Press at UC Santa Cruz. \nElizabeth Robinson is the author\, most recently\, for Excursive (Roof Books)\, Thirst & Sufeit (Threadsuns Press)\, and\, collaboratively with Susanne Dyckman\, Rendered Paradise (Apogee Press). In the past five years\, Robinson has received Editors’ Choice Awards from Scoundrel Time and New Letters\, and a Pushcart Prize. Vulnerabiity Index is forthcoming from Northwestern University Press in 2025. \n \nYour registration helps us plan for your arrival and keep in touch with any changes. \nThank you for registering! \nThis event is cosponsored by The Humanities Institute at UC Santa Cruz.
URL:https://thi.ucsc.edu/event/the-hive-live-featuring-gary-young-elizabeth-robinson/
LOCATION:Bookshop Santa Cruz\, 1520 Pacific Avenue\, Santa Cruz\, CA\, 95060\, United States
ATTACH;FMTTYPE=image/jpeg:https://thi.ucsc.edu/wp-content/uploads/2024/08/hive-live-young-robinson-THI-1024-x-576-copy.jpg
END:VEVENT
BEGIN:VEVENT
DTSTART;TZID=America/Los_Angeles:20241113T121500
DTEND;TZID=America/Los_Angeles:20241113T133000
DTSTAMP:20260422T175704
CREATED:20241002T192844Z
LAST-MODIFIED:20241015T202557Z
UID:10007490-1731500100-1731504600@thi.ucsc.edu
SUMMARY:Dolly Kikon – Abundance: Living with a Forest
DESCRIPTION:We welcome Dolly Kikon for a screening of her film Abundance: Living with a Forest and a talk about her work on Indigenous ecology in the Eastern Himalayan region. \nAbundance: Living with a Forest (2024) is a filmic biography of foraging\, forest\, and jhum cultivation in Nagaland\, a hill state in Northeast India where approximately 60% of the population depend on jhum cultivation. Jhum cultivation and foraging have been recognized as community practices of indigenous knowledge. However\, both these practices and the forest to which they are intrinsically linked have been threatened by the plantation\, monocropping\, and infrastructure activities that have surged with the ongoing ceasefire between Naga armed groups and the government. \nAbundance: Living with a Forest follows Zareno\, a Lotha forager in the forest of Khumtsü\, and traces the foraged edible plants as they make their way to the market in Wokha town. The film gestures to an impending loss that Indigenous communities encounter across the world. \nWatch the trailer here:  \n \nListen to the Title Song from the documentary: \n \nDolly Kikon is Professor of Anthropology at UC Santa Cruz and director of the Center for South Asian Studies. She is the author of Experiences of Naga Women in Armed Conflict: Narratives from a Militarized Society (2004); Life and Dignity: Women’s Testimonies of Sexual Violence in Dimapur (2015); Living with Oil and Coal: Resource Politics and Militarization in Northeast India (2019); with Bengt G. Karlsson\, Leaving the Land: Indigenous Migration and Affective Labour in India (2019); with Duncan McDuie-Ram\, Ceasefire City: Militarism\, Capitalism\, and Urbanism in Dimapur (2021); with Dixita Deka\, Joel Rodrigues\, Bengt G. Karlsson\, Sanjay Barbora\, and Meenal Tula\, Seeds and Sovereignty: Eastern Himalayan Experiences (2023). \n\nThe Center for Cultural Studies hosts a weekly Wednesday colloquium featuring work by faculty and visitors. We gather at 12:00 PM\, with presentations beginning at 12:15 PM. \nStaff assistance is provided by The Humanities Institute.
URL:https://thi.ucsc.edu/event/72419/
LOCATION:Humanities 1\, Room 210\, 1156 high st\, Santa cruz\, CA\, 95060\, United States
ATTACH;FMTTYPE=image/png:https://thi.ucsc.edu/wp-content/uploads/2024/10/Abundance_Banner.png
END:VEVENT
BEGIN:VEVENT
DTSTART;TZID=America/Los_Angeles:20241113T133000
DTEND;TZID=America/Los_Angeles:20241113T150000
DTSTAMP:20260422T175704
CREATED:20241105T192917Z
LAST-MODIFIED:20241107T221116Z
UID:10007533-1731504600-1731510000@thi.ucsc.edu
SUMMARY:Dr. Christian Alvarado - "The Storm in Kenya": The Mau Mau Uprising and pan-Africanist Thought in the mid-20th Century
DESCRIPTION:The History Department invites you to an upcoming talk by Dr. Christian Alvarado entitled “The Storm in Kenya:” The Mau Mau Uprising and pan-Africanist Thought in the mid-20th Century. \nJoin us in person from 1:30 – 3:00 pm (PT) in Humanities 1\, Room 202 or join via Zoom here. \nHistorical work on the event most commonly known as the “Mau Mau Uprising”—which roiled late-colonial Kenya in the 1950s and captivated audiences the world over—has long been preoccupied with examining the political and economic origins of anticolonial resistance in the colony\, the operations of British counter-insurgency efforts\, and the legacy of each of these for post-independence Kenyan society. In distinction to these orthodox approaches to the study of Mau Mau\, Alvarado’s current book project considers how this event impacted the political\, economic\, and cultural history of other parts of the African continent\, as well as Europe and the Americas. This talk presents an account of the role “myths of Mau Mau” played in pan-Africanist thought both within and far beyond the borders of the colony during this period. Across the globe\, understandings of this event served as a key touchstone in the attempt to forge international solidarities among communities both in support of colonial rule and those who sought to bring about its end. This talk focuses in particular on debates about Mau Mau as they arose in two important contexts in the contemporary pan-Africanist movement. First\, an array of conferences\, forums\, and political meetings held on the continent during the late 1950s and early 1960s; second\, in contemporary Garveyite political thought both in Africa and abroad. Considered together\, these visions of what George Padmore called “the Storm in Kenya” illuminate new dimensions in the transnational history of not only Mau Mau\, but African decolonization more broadly. \nDr. Christian Alvarado received his PhD in History of Consciousness at the University of California\, Santa Cruz and is President’s and Andrew W. Mellon Foundation Postdoctoral Fellow in African American and African Studies at the University of California\, Davis. His wide-ranging research situates the event most commonly known as the Mau Mau Uprising in late-colonial Kenya within the broader history of decolonization in 20th century Africa. By tracing how understandings of this event circulated across transnational networks and cultural formations\, this work aims to show how the frameworks to which Mau Mau is put illuminate novel insights into global dimensions in the history of African decolonization. These frameworks include\, but are not limited to\, the history of the social sciences\, notions of African ‘race relations\,’ pan-Africanism\, diverse memory communities\, and conspiracist discourses. Across these seemingly disparate realms\, Alvarado argues that Mau Mau serves as a way of probing contemporary and current debates regarding the ethics of (anti)colonial violence\, the relationship between tradition and modernity\, and the nature of decolonization. A historian by training\, Dr. Alvarado’s interdisciplinary work is also in conversation with the fields of cultural studies\, comparative literature\, and political theory.
URL:https://thi.ucsc.edu/event/dr-christian-alvarado-the-storm-in-kenya/
LOCATION:Virtual and In Person
ATTACH;FMTTYPE=image/png:https://thi.ucsc.edu/wp-content/uploads/2024/11/Dr.-Christian-Alvarado-The-Storm-in-Kenya-Banner.png
END:VEVENT
BEGIN:VEVENT
DTSTART;TZID=America/Los_Angeles:20241113T140000
DTEND;TZID=America/Los_Angeles:20241113T160000
DTSTAMP:20260422T175704
CREATED:20241007T014053Z
LAST-MODIFIED:20241106T222036Z
UID:10007510-1731506400-1731513600@thi.ucsc.edu
SUMMARY:Public Speaking with Catherine Carlstroem
DESCRIPTION:These interactive in-person workshops provide an overview of strategies and best practices for public speaking\, including managing anxiety\, key delivery techniques\, and composition tips for crafting clearer and more focused speeches\, with an emphasis on the parameters of the Grad Slam’s short presentations. \nThis event has two sessions: Nov 13\, 2:00 – 4:00 p.m. in Graduate Student Commons\, Study Lounge 204\, or Nov 19\, 2:00 – 4:00 p.m. in Graduate Student Commons\, Study Lounge 204. Register below to attend either session. \n \nUCSC faculty and alum Catherine Carlstroem (PhD American Literature) is a longtime lecturer in Humanities at UCSC (over 30 years) and has enjoyed teaching public speaking for over 10 of these. Along with teaching\, she coordinates the Cowell Core Course. \n\nThis event is a Graduate Division Professional Development Event co-sponsored by The Humanities Institute as part of our PhD+ workshop series. The Division of Graduate Studies’ workshops are for current UC Santa Cruz graduate students and postdoctoral scholars and require an active UC Santa Cruz email address. \nAbout the PhD+ Workshop Series\nJoin us for the ninth year of PhD+ Workshops at The Humanities Institute. This series covers a range of topics including possible career paths for humanities PhDs\, securing grants and fellowships\, work/life balance\, elements of style\, online identity issues\, and much\, much more.
URL:https://thi.ucsc.edu/event/public-speaking-with-catherine-carlstroem/
LOCATION:Graduate Student Commons\, Room 204\, 420 Hagar Dr\, Santa Cruz\, 95064
CATEGORIES:PhD+ Event
END:VEVENT
BEGIN:VEVENT
DTSTART;TZID=America/Los_Angeles:20241114T095000
DTEND;TZID=America/Los_Angeles:20241114T112500
DTSTAMP:20260422T175704
CREATED:20240515T214547Z
LAST-MODIFIED:20241029T194620Z
UID:10007439-1731577800-1731583500@thi.ucsc.edu
SUMMARY:Project Paradiso - Episode Sixteen – The Futures of Dante's Paradiso: Reading Forward
DESCRIPTION:Join us for a conversation with Prof. Alison Cornish (New York University) and Prof. Arielle Saiber (Johns Hopkins University)\, about the challenges and opportunities of reading Dante’s Paradiso today\, particularly in\, but not limited to\, the academic context. They will explore innovative future directions to take this poem to as many readers and diverse audiences as possible\, and also why this should be done\, especially in view of the textbook that will be complied as a result of this year-long webinar series. \n \nThis event will be will be in person at Oakes Acad 105 and via Zoom (registration required). \nDante’s Paradiso is the least studied and the least understood of the three parts of the Commedia. Yet it is arguably the most important for the dynamism and originality of the literary\, theological\, and philosophical inquiries that take place there. It is also a singularly important interpretive guide for a full understanding of the entire Commedia. It is a poem that asks to be tackled by a community of engaged readers. This year-long series of webinar workshops led by world-renowned scholars took readers on a deep reading of the Paradiso and an unforgettable journey to the heart of Dante’s universe. See the Project Paradiso page for full schedule. \nFeaturing: \nAlison Cornish\, Professor of Italian Studies at New York University and President of the Dante Society of America. She is the author of Reading Dante’s Stars (Yale\, 2000)\, Vernacular Translation in Dante’s Italy: Illiterate Literature (Cambridge\, 2011) a commentary on Dante’s Paradiso\, translated by Stanley Lombardo (Hackett\, 2017)\, and Believing in Dante: Truth in Fiction (Cambridge\, 2022); as well as a number of essays on Dante\, Petrarch and Boccaccio. During the seventh centenary of the poet’s death\, she organized a crowd-sourced series of video conversations between members of the Dante Society of America\, entitled “Canto per Canto: Conversations with Dante in Our Time.” \nArielle Saiber\, Charles S. Singleton Professor of Italian Studies in the Department of Modern Languages and Literatures. Saiber’s books include Images of Quattrocento Florence: Writings on Literature\, History and Art co-edited with Stefano U. Baldassarri (Yale\, 2000); Giordano Bruno and the Geometry of Language (Ashgate/Routledge\, 2005); and Measured Words: Computation and Writing in Renaissance Italy (University of Toronto Press\, 2017). \nSaiber publishes primarily on Dante\, on the intersections between premodern Italian literature and mathematics/science\, and visual interpretations of Dante’s Commedia. She has also published on early print history\, science fiction\, and experimental electronic music. Her current research is on “altered states of consciousness” in medieval and Renaissance Italian literature. \nShe has co-edited a number of special issues of academic journals: for Configurations\, “Mathematics and the Imagination” (2009) with Henry S. Turner; for Dante Studies\, “Longfellow and Dante” (2010) with Giuseppe Mazzotta; for California Italian Studies\, “Sound” (2014) with Deanna Shemek; and for Science Fiction Studies\, “Italian Science Fiction” (2015) with Salvatore Proietti and Umberto Rossi.  She is currently co-editing with Proietti an anthology of Italian science fiction in English for Wesleyan University Press’s Early Classics of Science Fiction series. \nHer doctoral dissertation on Giordano Bruno won Yale’s Field Prize (2000)\, and in 2004 she received the Karofsky Prize for teaching at Bowdoin.  She has been a fellow at the Istituto Italiano per gli Studi Filosofici in Naples\, Italy (1998-1999)\, the Radcliffe Institute for Advanced Study (2003-2004)\, and Villa I Tatti – Harvard’s Center for Renaissance Studies in Florence\, Italy (2008-2009).  She also received an NEH Fellowship (2008-2009)\, the MLA’s Scaglione Publication Award (2016)\, the Newberry Library’s Weiss-Brown Publication Award (2017)\, the American Initiative for Italian Culture’s Bridge Book Award (2018)\, and the Society for Literature\, Science\, and the Arts’ Kendrick Book Prize (2019) for her book Measured Words.  \nIn 2006 she built the web-based archive\, Dante Today: Sightings and Citings of Dante’s Work in Contemporary Culture\, which she now co-edits with Beth Coggeshall. \nShe co-edits the new book series Proximities: Experiments in Nearness with David Cecchetto for the University of Minnesota Press. \n\nPresented by the Humanities Institute and the Department of Literature Italian Studies. Sponsored by the University of California Humanities Research Institute\, Siegfried and Elizabeth Mignon Puknat Literary Studies Endowment\, and Porter College.
URL:https://thi.ucsc.edu/event/project-paradiso-episode-sixteen-the-future-of-dantes-paradiso-reading-forward/
LOCATION:Virtual and In Person
ATTACH;FMTTYPE=image/jpeg:https://thi.ucsc.edu/wp-content/uploads/2024/05/UCSC-THI-ProjectParadisoNov-1024x576-1.jpg
END:VEVENT
BEGIN:VEVENT
DTSTART;TZID=America/Los_Angeles:20241114T120000
DTEND;TZID=America/Los_Angeles:20241114T133000
DTSTAMP:20260422T175704
CREATED:20241007T014445Z
LAST-MODIFIED:20241106T222141Z
UID:10007511-1731585600-1731591000@thi.ucsc.edu
SUMMARY:Crafting the CV with Veronica Heiskell
DESCRIPTION:Applications for academic positions require a CV\, and some industry\, government\, and nonprofit employers also require them. Learn how a CV differs from a resume\, about hybrid CV-resumes\, what goes on a CV\, and what order to put information depending on the type of academic institution you’re applying to and for what type of position. \nThis event is on Thu\, Nov 14\, 12:00 – 1:30 p.m. via Zoom. Register below to attend the session. \n \nVeronica Heiskell has worked for over fourteen years in diversity and career centers in a variety of higher education institutions and currently serves as director of experiential learning at Career Success. Her goal is to remove as many barriers as possible for all students to pursue meaningful experiential learning opportunities. She completed her bachelor’s degree in psychology with a minor in LGBT studies at UCLA\, her master’s degree in counseling and guidance in higher education at Cal Poly San Luis Obispo\, and her doctorate in higher education administration at UT Austin. Her dissertation research focused on sense of belonging for exploratory students. \n\nThis event is a Graduate Division Professional Development Event co-sponsored by The Humanities Institute as part of our PhD+ workshop series. The Division of Graduate Studies’ workshops are for current UC Santa Cruz graduate students and postdoctoral scholars and require an active UC Santa Cruz email address. \nAbout the PhD+ Workshop Series\nJoin us for the ninth year of PhD+ Workshops at The Humanities Institute. This series covers a range of topics including possible career paths for humanities PhDs\, securing grants and fellowships\, work/life balance\, elements of style\, online identity issues\, and much\, much more.
URL:https://thi.ucsc.edu/event/crafting-the-cv-with-veronica-heiskell/
LOCATION:Virtual Event
CATEGORIES:PhD+ Event
END:VEVENT
BEGIN:VEVENT
DTSTART;TZID=America/Los_Angeles:20241114T140000
DTEND;TZID=America/Los_Angeles:20241114T170000
DTSTAMP:20260422T175704
CREATED:20241022T215039Z
LAST-MODIFIED:20241029T193726Z
UID:10007527-1731592800-1731603600@thi.ucsc.edu
SUMMARY:Archives in Action
DESCRIPTION:2 PM  |  “Getting Into the Archive: Tales from Inside”\nPaul Erickson\, Director of the Clements Library\, University of Michigan \nThis presentation will seek to demystify the process of applying for support for humanities research from libraries and archives by explaining it from the inside. It will offer suggestions for how to increase your chances of receiving fellowship support for your work. \nPaul Erickson is the Randolph G. Adams Director of the William L. Clements Library at the University of Michigan\, a leading collection of early Americana. In 1993 Paul got his first experience administering fellowship programs for scholars from the humanities and social sciences\, and that is work that he has done for most of the past 20 years. \n3 PM  |  “Gloria Anzaldua and her Spectral Archives”\nBrenda Lara\, UC President’s Postdoctoral Fellow\, UC Santa Cruz \n4 PM  |  “Archives in Dos Hemisferios: Reading Nineteenth-Century Spanish-Language Newspapers in Havana\, New York\, and Paris”\nDavis Luis-Brown\, Associate Professor of Cultural Studies and English\, Claremont Graduate University \n\nThis event is co-sponsored by The Humanities Institute and the Director of Hispanic-Serving Research Initiatives. It is organized in conjunction with the Literature Department’s graduate course\, “Print Culture and Archives.” \nAbout the PhD+ Workshop Series\nJoin us for the ninth year of PhD+ Workshops at The Humanities Institute. This series covers a range of topics including possible career paths for humanities PhDs\, securing grants and fellowships\, work/life balance\, elements of style\, online identity issues\, and much\, much more.
URL:https://thi.ucsc.edu/event/archives-in-action/
LOCATION:Humanities 1\, Room 202
CATEGORIES:PhD+ Event
ATTACH;FMTTYPE=image/png:https://thi.ucsc.edu/wp-content/uploads/2024/10/Archives-in-Action-2024.png
END:VEVENT
BEGIN:VEVENT
DTSTART;TZID=America/Los_Angeles:20241114T160000
DTEND;TZID=America/Los_Angeles:20241114T160000
DTSTAMP:20260422T175704
CREATED:20241004T041518Z
LAST-MODIFIED:20241106T223131Z
UID:10007498-1731600000-1731600000@thi.ucsc.edu
SUMMARY:Jasbir Puar - Field Notes: Colonial Power at the Thresholds of Gender Studies
DESCRIPTION:The Feminist Studies Department at UC Santa Cruz is pleased to host Jasbir Puar\, Distinguished Faculty of Arts Professor\, Global Race Studies at the University of British Columbia\, presenting Field Notes: Colonial Power at the Thresholds of Gender Studies. \nJasbir Puar’s research focuses on how the liberal state\, sexuality\, and bio-politics bear on our understanding of disability. In her most recent book\, The Right to Maim\, Prof. Puar uses the concept of “debility”— bodily injury and social exclusion brought on by economic and political factors — to disrupt the category of disability\, and shows how debility\, disability\, and capacity constitute an assemblage that states use to control populations. Interrogating Israel’s policies toward Palestine\, she outlines how Israel brings Palestinians into biopolitical being by designating them available for injury. \nJasbir Puar is a Distinguished Faculty of Arts Professor of Global Race Studies at the University of British Columbia. Her most recent book\, The Right to Maim: Debility\, Capacity\, Disability (2017\, Duke University Press) explores how the liberal state\, sexuality\, and biopolitics bear on our understanding of disability\, culminating in an interrogation of Israel’s policies toward Palestine.
URL:https://thi.ucsc.edu/event/jasbir-puar-field-notes-colonial-power-at-the-thresholds-of-gender-studies/
LOCATION:Cowell Ranch Hay Barn\, Ranch View Rd\, Santa Cruz\, CA\, 95064\, United States
ATTACH;FMTTYPE=image/png:https://thi.ucsc.edu/wp-content/uploads/2024/10/Puar_Jasbir1.png
END:VEVENT
END:VCALENDAR