BEGIN:VCALENDAR
VERSION:2.0
PRODID:-//The Humanities Institute - ECPv6.15.20//NONSGML v1.0//EN
CALSCALE:GREGORIAN
METHOD:PUBLISH
X-WR-CALNAME:The Humanities Institute
X-ORIGINAL-URL:https://thi.ucsc.edu
X-WR-CALDESC:Events for The Humanities Institute
REFRESH-INTERVAL;VALUE=DURATION:PT1H
X-Robots-Tag:noindex
X-PUBLISHED-TTL:PT1H
BEGIN:VTIMEZONE
TZID:America/Los_Angeles
BEGIN:DAYLIGHT
TZOFFSETFROM:-0800
TZOFFSETTO:-0700
TZNAME:PDT
DTSTART:20160313T100000
END:DAYLIGHT
BEGIN:STANDARD
TZOFFSETFROM:-0700
TZOFFSETTO:-0800
TZNAME:PST
DTSTART:20161106T090000
END:STANDARD
BEGIN:DAYLIGHT
TZOFFSETFROM:-0800
TZOFFSETTO:-0700
TZNAME:PDT
DTSTART:20170312T100000
END:DAYLIGHT
BEGIN:STANDARD
TZOFFSETFROM:-0700
TZOFFSETTO:-0800
TZNAME:PST
DTSTART:20171105T090000
END:STANDARD
BEGIN:DAYLIGHT
TZOFFSETFROM:-0800
TZOFFSETTO:-0700
TZNAME:PDT
DTSTART:20180311T100000
END:DAYLIGHT
BEGIN:STANDARD
TZOFFSETFROM:-0700
TZOFFSETTO:-0800
TZNAME:PST
DTSTART:20181104T090000
END:STANDARD
BEGIN:DAYLIGHT
TZOFFSETFROM:-0800
TZOFFSETTO:-0700
TZNAME:PDT
DTSTART:20190310T100000
END:DAYLIGHT
BEGIN:STANDARD
TZOFFSETFROM:-0700
TZOFFSETTO:-0800
TZNAME:PST
DTSTART:20191103T090000
END:STANDARD
BEGIN:DAYLIGHT
TZOFFSETFROM:-0800
TZOFFSETTO:-0700
TZNAME:PDT
DTSTART:20200308T100000
END:DAYLIGHT
BEGIN:STANDARD
TZOFFSETFROM:-0700
TZOFFSETTO:-0800
TZNAME:PST
DTSTART:20201101T090000
END:STANDARD
BEGIN:DAYLIGHT
TZOFFSETFROM:-0800
TZOFFSETTO:-0700
TZNAME:PDT
DTSTART:20210314T100000
END:DAYLIGHT
BEGIN:STANDARD
TZOFFSETFROM:-0700
TZOFFSETTO:-0800
TZNAME:PST
DTSTART:20211107T090000
END:STANDARD
END:VTIMEZONE
BEGIN:VEVENT
DTSTART;TZID=America/Los_Angeles:20200522T100000
DTEND;TZID=America/Los_Angeles:20200522T120000
DTSTAMP:20260423T155536
CREATED:20200514T212335Z
LAST-MODIFIED:20200526T170938Z
UID:10005729-1590141600-1590148800@thi.ucsc.edu
SUMMARY:VIRTUAL: MAH Beyond the World’s End - Meet the Artists
DESCRIPTION:Join Beyond the World’s End exhibiting artists Laurie Palmer\, Amy Balkin\, Krista Franklin\, Newton Harrison\, Super Futures Haunt Qollective\, and the Rasquache Collective for a group discussion and Q&A. \nIn the Santa Cruz Museum of Art and History’s current exhibition\, Beyond the World’s End\, visionary artists reflect on the social and environmental injustices happening around the world and envision radical ways to move forward. \nAs a special virtual offering\, join the panel of exhibiting artists for a group discussion facilitated by guest curator TJ Demos from UC Santa Cruz’s Center for Creative Ecologies. Dive deeper into the content found within the exhibition\, their projects\, and their visions of the future. They will also touch on how these themes connect to our current unfolding pandemic. After the discussion\, stay for a Q&A with the artists facilitated by TJ Demos and the MAH’s Exhibition Catalyst\, Whitney Ford-Terry. \n  \n \n  \nThis event is part of Beyond the End of the World\, a year-long project directed by T. J. Demos of the Center for Creative Ecologies and funded by the Andrew W. Mellon Foundation John E. Sawyer Seminar on the Comparative Study of Culture. For more information visit BEYOND.UCSC.EDU \n 
URL:https://thi.ucsc.edu/event/beyond-the-worlds-end-meet-the-artists-at-the-mah/
ATTACH;FMTTYPE=image/jpeg:https://thi.ucsc.edu/wp-content/uploads/2020/05/MAH2.jpg
END:VEVENT
BEGIN:VEVENT
DTSTART;TZID=America/Los_Angeles:20200429T190000
DTEND;TZID=America/Los_Angeles:20200429T210000
DTSTAMP:20260423T155536
CREATED:20200417T014119Z
LAST-MODIFIED:20200417T015659Z
UID:10006852-1588186800-1588194000@thi.ucsc.edu
SUMMARY:MAH Film Night: Radical Futurisms (Part II Rescreen)
DESCRIPTION:Gather ’round your home screen and watch films from a diverse group of visionaries on topics and themes related to our current exhibition\, Beyond the World’s End. \n \nJoin curator TJ Demos for a virtual introduction and (re)screening of films originally shown last month at the Del Mar Theater that seek to offer points of light in a dark world. \nHow are visual artists imagining radical futures? How can the traditions of oppressed peoples become the foundation of the future? How can social justice and ecosystems flourish going forward? How can we escape our current climate of catastrophe and anxiety and instead transform the present into a radical future by asking what is “not-yet”? \nShown in conjunction with our exhibition Beyond the World’s End\, this three-part film series is part of a year-long research and exhibition project and public lecture series. Directed by T. J. Demos of the Center for Creative Ecologies\, and including the collaboration of UCSC PhD Mellon fellows Isabelle Carbonell and Chessa Adsit-Morris\, it brings leading international thinkers and cultural practitioners to UC Santa Cruz to discuss what lies beyond dystopian catastrophism\, and how we can cultivate radical futures of social justice and ecological flourishing. Funded by the Andrew W. Mellon Foundation John E. Sawyer Seminar on the Comparative Study of Culture. For more information visit BEYOND.UCSC.EDU \n\nSchedule \n6:50pm – Screening opens. Space is limited to the first 100 people to sign into the Zoom meeting.\n7:00pm – Welcome from MAH Staff\, followed by an introduction from guest curator TJ Demos.\n7:15pm – Film program will begin\, followed by a 20 min open conversation on zoom. \nThe Zoom link will be sent out at 2pm & 6:40pm on event day to all that RSVP’d via Eventbrite. If you have any questions please email info@santacruzmah.org.
URL:https://thi.ucsc.edu/event/mah-film-night-radical-futurisms-part-ii-rescreen/
ATTACH;FMTTYPE=image/jpeg:https://thi.ucsc.edu/wp-content/uploads/2020/04/radicalfilm-3.jpg
END:VEVENT
BEGIN:VEVENT
DTSTART;TZID=America/Los_Angeles:20200415T190000
DTEND;TZID=America/Los_Angeles:20200415T210000
DTSTAMP:20260423T155536
CREATED:20200417T015705Z
LAST-MODIFIED:20200417T015705Z
UID:10006853-1586977200-1586984400@thi.ucsc.edu
SUMMARY:MAH Film Night: Radical Futurisms (Part I Rescreen)
DESCRIPTION:Gather ’round your home screen and watch films from a diverse group of visionaries on topics and themes related to our current exhibition\, Beyond the World’s End. \n \nJoin curator TJ Demos for a virtual introduction and (re)screening of films originally shown last month at the Del Mar Theater that seek to offer points of light in a dark world. \nHow are visual artists imagining radical futures? How can the traditions of oppressed peoples become the foundation of the future? How can social justice and ecosystems flourish going forward? How can we escape our current climate of catastrophe and anxiety and instead transform the present into a radical future by asking what is “not-yet”? \nShown in conjunction with our exhibition Beyond the World’s End\, this three-part film series is part of a year-long research and exhibition project and public lecture series. Directed by T. J. Demos of the Center for Creative Ecologies\, and including the collaboration of UCSC PhD Mellon fellows Isabelle Carbonell and Chessa Adsit-Morris\, it brings leading international thinkers and cultural practitioners to UC Santa Cruz to discuss what lies beyond dystopian catastrophism\, and how we can cultivate radical futures of social justice and ecological flourishing. Funded by the Andrew W. Mellon Foundation John E. Sawyer Seminar on the Comparative Study of Culture. For more information visit BEYOND.UCSC.EDU \n\nSchedule \n6:50pm – Screening opens. Space is limited to the first 100 people to sign into the Zoom meeting.\n7:00pm – Welcome from MAH Staff\, followed by an introduction from guest curator TJ Demos.\n7:15pm – Film program will begin\, followed by a 20 min open conversation on zoom. \nThe Zoom link will be sent out at 2pm & 6:40pm on event day to all that RSVP’d via Eventbrite. If you have any questions please email info@santacruzmah.org.
URL:https://thi.ucsc.edu/event/mah-film-night-radical-futurisms-part-i-rescreen/
ATTACH;FMTTYPE=image/jpeg:https://thi.ucsc.edu/wp-content/uploads/2020/04/radicalfilm-3.jpg
END:VEVENT
BEGIN:VEVENT
DTSTART;TZID=America/Los_Angeles:20200206T130000
DTEND;TZID=America/Los_Angeles:20200206T143000
DTSTAMP:20260423T155536
CREATED:20200128T221404Z
LAST-MODIFIED:20200130T001712Z
UID:10006827-1580994000-1580999400@thi.ucsc.edu
SUMMARY:Marc Herbst - "Culture Beside Itself: On Common Sociality and its Relation to More Law-Like Cultural and Governmental Forms"
DESCRIPTION:Marc Herbst will be presenting a talk titled “Culture Beside Itself: On common sociality and its relation to more law-like cultural and governmental forms\,” based on his ongoing research on social movements and eco-social planning and his part in the collective efforts of the 11th issue of the Journal of Aesthetics & Protest. \nThese efforts are to attune creative activist/artistic attention towards the realm where social reproduction necessarily occurs\, in order to strengthen ways in which cosmopolitically progressive thought and production (as culture and law) can better inform common life towards its autonomous ends. The work is grounded in Herbst’s research within the Barcelona based-Plataforma De Afectados por La Hipoteca (the PAH) housing rights movement\, his recent eco-social work as a teacher/editor for the Berlin based Nachbarschaftsakademie and his current residency at Oakland’s Pro Art and Commons. \nThe talk will highlight concepts related to the upcoming Issue 11 of the Journal of Aesthetics & Protest\, which looks at common sociality outside and beyond formal being (that is\, more concretised cultural and governmental forms) in the light of the related challenges of climate change and resurgent fascism. Besides the particular of the project\, the conversation engages autonomist Marxist\, queer and de-colonial theory/praxis\, either as an expression of ongoing praxis and theoretical work. \n\nMarc Herbst is a co-founder of the Journal of Aesthetics & Protest\, an interdisciplinary journal and weirdo collective founded in Los Angeles in 2001. He recently completed a PhD at Goldsmiths Centre for Cultural Studies in London with a study titled\, A cultural policy for the multitude in the time of climate change; with an understanding that the multitude has no policy. Marc’s collective and individual efforts are also interdisciplinary (between engagements with the formal art world\, DIY networks and relatively autonomous political projects) and he works between publishing\, social practice and illustration. As a publisher/editor\, he works with Aesthetics & Protest and also has recently been collaborating with Minor Compositions/Autonomedia\, Pluto Press and Canary Press. \nWith the Aesthetics & Protest editorial collective\, he is currently editing an issue working with anti-fascist and avant garde art collectives on situated practice outside of but in awareness of the mediating practices of political and cultural structures. He also helped publish recent books on precarious labor with the UK-based Precarious Workers Brigade\, and (related to his PhD) a book on housing rights activism and transversal urban organizing by Ada Colau and Adria Alemany. In addition to other work\, he is currently co-editing with Michelle Teran a book based on situated\, cosmopolitical and eco-social learning through the coming 99 years of climate based in the Prinzessinnengarten in Berlin. \nIssue 11: Culture Beside Itself\nPro-arts and Common Residency\nNachbarschaftsakademie\, Growing in the Midst of our Collective Disaster \n  \nPresented by: The History of Consciousness Department and the Center for Creative Ecologies
URL:https://thi.ucsc.edu/event/marc-herbst-culture-beside-itself-on-common-sociality-and-its-relation-to-more-law-like-cultural-and-governmental-forms/
LOCATION:Humanities 1\, Room 210\, 1156 high st\, Santa cruz\, CA\, 95060\, United States
ATTACH;FMTTYPE=image/png:https://thi.ucsc.edu/wp-content/uploads/2020/01/Screen-Shot-2020-01-28-at-2.08.00-PM.png
END:VEVENT
BEGIN:VEVENT
DTSTART;TZID=America/Los_Angeles:20170511T120000
DTEND;TZID=America/Los_Angeles:20170511T133000
DTSTAMP:20260423T155536
CREATED:20170505T184229Z
LAST-MODIFIED:20170505T184229Z
UID:10005376-1494504000-1494509400@thi.ucsc.edu
SUMMARY:Ecology & the Rise of Capitalism Nature\, Power\, and the Origins of Our Times
DESCRIPTION:A colloquium by\nAssociate Professor Jason W. Moore\nFernand Braudel Center\nBinghamton University\n\n\nJason W. Moore is an environmental and world historian at Binghamton University\, where he is Associate Professor of Sociology and Research Fellow at the Fernand Braudel Center. He is author of Capitalism in the Web of Life (Verso\, 2015) and editor of Anthropocene or Capitalocene? Nature\, History\, and the Crisis of Capitalism (PM Press\, 2016). A History of the World in Seven Cheap Things\, written with Raj Patel\, will be published this fall (University of California Press). He is coordinator of the World-Ecology Research Network.\n\n\nThis event is co-sponsored by Rachel Carson College\, the UCSC Humanities Research Institute\, and the Sociology and Environmental Studies Departments.  Professor More will also be speaking at EXTRACTION: A Two-Day Conference on Decolonial Visual Cultures in the Age of the Capitalocene\, May 12-13\, sponsored by the Center for Creative Ecologies.
URL:https://thi.ucsc.edu/event/ecology-the-rise-of-capitalism-nature-power-and-the-origins-of-our-times-2/
LOCATION:Humanities 2\, Room 259
ATTACH;FMTTYPE=image/jpeg:https://thi.ucsc.edu/wp-content/uploads/2017/05/Moore-UCSC-talk.jpg
END:VEVENT
END:VCALENDAR