BEGIN:VCALENDAR
VERSION:2.0
PRODID:-//The Humanities Institute - ECPv6.15.20//NONSGML v1.0//EN
CALSCALE:GREGORIAN
METHOD:PUBLISH
X-ORIGINAL-URL:https://thi.ucsc.edu
X-WR-CALDESC:Events for The Humanities Institute
REFRESH-INTERVAL;VALUE=DURATION:PT1H
X-Robots-Tag:noindex
X-PUBLISHED-TTL:PT1H
BEGIN:VTIMEZONE
TZID:America/Los_Angeles
BEGIN:DAYLIGHT
TZOFFSETFROM:-0800
TZOFFSETTO:-0700
TZNAME:PDT
DTSTART:20140309T100000
END:DAYLIGHT
BEGIN:STANDARD
TZOFFSETFROM:-0700
TZOFFSETTO:-0800
TZNAME:PST
DTSTART:20141102T090000
END:STANDARD
BEGIN:DAYLIGHT
TZOFFSETFROM:-0800
TZOFFSETTO:-0700
TZNAME:PDT
DTSTART:20150308T100000
END:DAYLIGHT
BEGIN:STANDARD
TZOFFSETFROM:-0700
TZOFFSETTO:-0800
TZNAME:PST
DTSTART:20151101T090000
END:STANDARD
BEGIN:DAYLIGHT
TZOFFSETFROM:-0800
TZOFFSETTO:-0700
TZNAME:PDT
DTSTART:20160313T100000
END:DAYLIGHT
BEGIN:STANDARD
TZOFFSETFROM:-0700
TZOFFSETTO:-0800
TZNAME:PST
DTSTART:20161106T090000
END:STANDARD
END:VTIMEZONE
BEGIN:VEVENT
DTSTART;TZID=America/Los_Angeles:20151016T100000
DTEND;TZID=America/Los_Angeles:20151016T170000
DTSTAMP:20260419T194420
CREATED:20150527T205827Z
LAST-MODIFIED:20150527T205827Z
UID:10006133-1444989600-1445014800@thi.ucsc.edu
SUMMARY:Comparative Empires: Feminist Meditations
DESCRIPTION:Histories of empire have been tethered over-determinedly to singular histories of nation-states\, temporalities and/or geopolitics. Rather than locate empire as a stable or temporal concept\, the colloquium attends to the imaginative possibilities offered by a turn to a more comparative relationship to empire within a south-south framework. To do so\, we turn to two clusters of critical attachments that are rarely configured through and against the language(s) of empire (1) How do we understand empire delinked from locality\, and locality delinked from geopolitical territory? (2) How do we attend to a politics of comparative empires that would be less about given political identities and geographies and more about vernacular epistemologies shaping\, social and human collectivities? To attend to these issues\, the colloquium foregrounds south-south engagement and brings together work on empire from South Asia\, African diaspora studies and aboriginal/indigenous histories. \n  \nVIDEO: \n \n  \n \nPHOTOS: \nIf you have trouble viewing above images\, you may view this album directly on Flickr. \n\n  \nProgram\n10:00 AM – Introductory Remarks\nAnjali Arondekar\, Feminist Studies\, UC Santa Cruz \n10:10 AM – “Silent Incantations “\nRonaldo Wilson\, Literature\, UC Santa Cruz \n10:30 AM – “A Minor History of Empire: Indenture\, Abolition\, and the Post-bellum Polity” \nMrinalini Sinha\, History\, University of Michigan \n12:00 PM – Lunch \n1:30 PM – “Engaging Geontopower\, Films by the Karrabing Film Collective”\nElizabeth Povinelli\, Anthropology\, Columbia University\nRespondent: Mayanthi Fernando\, Anthropology\, UC Santa Cruz \n3:00 PM – Tea Break \n3:30 PM – “An Ethereal Girl in an Imperial World: Inside U.S. Empire with Grace Halsell”\nRobin D.G. Kelley\, History\, UCLA\nRespondent: Gina Dent\, Feminist Studies\, UC Santa Cruz \nThe colloquium is sponsored by the UC Presidential Chair in Feminist Critical Race and Ethnic Studies\, with generous contributions from the Departments of History\, Sociology\, Literature\, History of Consciousness\, and Anthropology. \nFor questions or for disability related accommodations\, please contact ihr@ucsc.edu\, or 831.459.5655. \n 
URL:https://thi.ucsc.edu/event/comparative-empires-feminist-meditations-2-2/
LOCATION:Stevenson Fireside Lounge\, Humanites 1 University of California\, Santa Cruz Cowell College\, Santa Cruz\, CA\, 95064\, United States
ATTACH;FMTTYPE=image/jpeg:https://thi.ucsc.edu/wp-content/uploads/2015/05/comparativeempires_eventposter_11x17_090515.jpg
END:VEVENT
END:VCALENDAR