BEGIN:VCALENDAR
VERSION:2.0
PRODID:-//The Humanities Institute - ECPv6.15.20//NONSGML v1.0//EN
CALSCALE:GREGORIAN
METHOD:PUBLISH
X-ORIGINAL-URL:https://thi.ucsc.edu
X-WR-CALDESC:Events for The Humanities Institute
REFRESH-INTERVAL;VALUE=DURATION:PT1H
X-Robots-Tag:noindex
X-PUBLISHED-TTL:PT1H
BEGIN:VTIMEZONE
TZID:America/Los_Angeles
BEGIN:DAYLIGHT
TZOFFSETFROM:-0800
TZOFFSETTO:-0700
TZNAME:PDT
DTSTART:20120311T100000
END:DAYLIGHT
BEGIN:STANDARD
TZOFFSETFROM:-0700
TZOFFSETTO:-0800
TZNAME:PST
DTSTART:20121104T090000
END:STANDARD
BEGIN:DAYLIGHT
TZOFFSETFROM:-0800
TZOFFSETTO:-0700
TZNAME:PDT
DTSTART:20130310T100000
END:DAYLIGHT
BEGIN:STANDARD
TZOFFSETFROM:-0700
TZOFFSETTO:-0800
TZNAME:PST
DTSTART:20131103T090000
END:STANDARD
BEGIN:DAYLIGHT
TZOFFSETFROM:-0800
TZOFFSETTO:-0700
TZNAME:PDT
DTSTART:20140309T100000
END:DAYLIGHT
BEGIN:STANDARD
TZOFFSETFROM:-0700
TZOFFSETTO:-0800
TZNAME:PST
DTSTART:20141102T090000
END:STANDARD
BEGIN:DAYLIGHT
TZOFFSETFROM:-0800
TZOFFSETTO:-0700
TZNAME:PDT
DTSTART:20150308T100000
END:DAYLIGHT
BEGIN:STANDARD
TZOFFSETFROM:-0700
TZOFFSETTO:-0800
TZNAME:PST
DTSTART:20151101T090000
END:STANDARD
END:VTIMEZONE
BEGIN:VEVENT
DTSTART;TZID=America/Los_Angeles:20141029T170000
DTEND;TZID=America/Los_Angeles:20141029T190000
DTSTAMP:20260424T064258
CREATED:20140930T211842Z
LAST-MODIFIED:20140930T211842Z
UID:10005816-1414602000-1414609200@thi.ucsc.edu
SUMMARY:Arlene Davila: Locating Neoliberalism in Time\, Space & Latino/Latin American Cultures
DESCRIPTION:The Latin American & Latino Studies Distinguished Speaker Series is proud to present Arlene Davila to begin the 2014-15 year. Davila uses ethnographic and transnational perspectives to theorize the intersections of culture and neoliberalism across the Americas.\n  \nMore information on the speaker and the rest of the LALS Distinguished Speaker Series will be available soon.
URL:https://thi.ucsc.edu/event/lals-arlene-davila-2/
LOCATION:University Center\, UCSC\, College Nine and College Ten\, Santa Cruz\, CA\, 95064\, United States
END:VEVENT
BEGIN:VEVENT
DTSTART;TZID=America/Los_Angeles:20131009T193000
DTEND;TZID=America/Los_Angeles:20131009T210000
DTSTAMP:20260424T064258
CREATED:20131003T194722Z
LAST-MODIFIED:20131003T194722Z
UID:10005478-1381347000-1381352400@thi.ucsc.edu
SUMMARY:Film Screening of "Maestra" with Filmmaker Catherine Murphy
DESCRIPTION:Cuba\, 1961: 250\,000 volunteers taught 700\,000 people to read and write in one year. 100\,000 of the teachers were under 18 years old. Over half were women. Maestra explores this story through the personal testimonies of the young women who went out to teach literacy in rural communities across the island – and found themselves deeply transformed in the process. \nThere will be a Q & A with the filmmaker after the screening. \nCo-sponsored by The Chicano/Latino Research Center\, The Presidential Chair in Feminist Critical Race and Ethnic Studies\, and the Social Documentation Program. \nFor more information contact the Latin American and Latino Studies Department\, or Professor Lourdes Martínez-Echazábal at: lourdes@ucsc.edu
URL:https://thi.ucsc.edu/event/film-screening-of-maestra-2/
LOCATION:Charles E. Merrill Lounge
END:VEVENT
END:VCALENDAR