BEGIN:VCALENDAR
VERSION:2.0
PRODID:-//The Humanities Institute - ECPv6.15.20//NONSGML v1.0//EN
CALSCALE:GREGORIAN
METHOD:PUBLISH
X-WR-CALNAME:The Humanities Institute
X-ORIGINAL-URL:https://thi.ucsc.edu
X-WR-CALDESC:Events for The Humanities Institute
REFRESH-INTERVAL;VALUE=DURATION:PT1H
X-Robots-Tag:noindex
X-PUBLISHED-TTL:PT1H
BEGIN:VTIMEZONE
TZID:America/Los_Angeles
BEGIN:DAYLIGHT
TZOFFSETFROM:-0800
TZOFFSETTO:-0700
TZNAME:PDT
DTSTART:20140309T100000
END:DAYLIGHT
BEGIN:STANDARD
TZOFFSETFROM:-0700
TZOFFSETTO:-0800
TZNAME:PST
DTSTART:20141102T090000
END:STANDARD
BEGIN:DAYLIGHT
TZOFFSETFROM:-0800
TZOFFSETTO:-0700
TZNAME:PDT
DTSTART:20150308T100000
END:DAYLIGHT
BEGIN:STANDARD
TZOFFSETFROM:-0700
TZOFFSETTO:-0800
TZNAME:PST
DTSTART:20151101T090000
END:STANDARD
BEGIN:DAYLIGHT
TZOFFSETFROM:-0800
TZOFFSETTO:-0700
TZNAME:PDT
DTSTART:20160313T100000
END:DAYLIGHT
BEGIN:STANDARD
TZOFFSETFROM:-0700
TZOFFSETTO:-0800
TZNAME:PST
DTSTART:20161106T090000
END:STANDARD
END:VTIMEZONE
BEGIN:VEVENT
DTSTART;TZID=America/Los_Angeles:20151013T083000
DTEND;TZID=America/Los_Angeles:20151013T183000
DTSTAMP:20260424T062814
CREATED:20151001T212920Z
LAST-MODIFIED:20151001T212920Z
UID:10006268-1444725000-1444761000@thi.ucsc.edu
SUMMARY:DataLex: Privacy\, Big Data\, & the Law
DESCRIPTION:Today\, across nearly every societal sector\, from corrections to education to health care\, large-scale data analysis is a widely adopted tool. Our most personal behaviors and traits are regularly quantified by a rapidly growing array of sensors and devices around us.  These devices are connected to intelligent systems that can render critical predictions about our conduct and choices—what we will buy\, our health\, when we will leave our jobs\, whether we pay our bills\, even whether we will commit crimes. \nWhile data analytics promise to unlock extraordinary advances in productivity and research\, fascinating legal and ethical issues arise as Big Data is deployed in new contexts: \n\nHow does privacy law constrain the ability of data controllers to use or apply predictive judgments about us?\nAre the algorithms that increasingly measure and curate our lives fair\, or can they encode discriminatory biases?\nIn some contexts\, such as genomic research\, are privacy risks to individuals outweighed by the potentially life-saving benefits to society of research that requires large-scale processing of personal information?\nWhat is the role of information governance and regulation in facilitating and sculpting the uses of Big Data?\n\nTo interrogate these issues\, DataLex is bringing together data scientists\, policymakers\, legal scholars\, and privacy advocates to collectively consider these important issues using technical\, social and ethical lenses simultaneously. \nTo register for this event\, or for further information\, including registration\, please visit http://lex.ucsc.edu/resources/datalex_registration.html
URL:https://thi.ucsc.edu/event/datalex-privacy-big-data-the-law-2/
LOCATION:Digital Arts Research Center (DARC) Dark Lab\, Santa Cruz\, CA\, 95064\, United States
ATTACH;FMTTYPE=image/jpeg:https://thi.ucsc.edu/wp-content/uploads/2015/10/DataLex_9_29_15.jpg
END:VEVENT
END:VCALENDAR