BEGIN:VCALENDAR
VERSION:2.0
PRODID:-//The Humanities Institute - ECPv6.15.20//NONSGML v1.0//EN
CALSCALE:GREGORIAN
METHOD:PUBLISH
X-WR-CALNAME:The Humanities Institute
X-ORIGINAL-URL:https://thi.ucsc.edu
X-WR-CALDESC:Events for The Humanities Institute
REFRESH-INTERVAL;VALUE=DURATION:PT1H
X-Robots-Tag:noindex
X-PUBLISHED-TTL:PT1H
BEGIN:VTIMEZONE
TZID:America/Los_Angeles
BEGIN:DAYLIGHT
TZOFFSETFROM:-0800
TZOFFSETTO:-0700
TZNAME:PDT
DTSTART:20150308T100000
END:DAYLIGHT
BEGIN:STANDARD
TZOFFSETFROM:-0700
TZOFFSETTO:-0800
TZNAME:PST
DTSTART:20151101T090000
END:STANDARD
BEGIN:DAYLIGHT
TZOFFSETFROM:-0800
TZOFFSETTO:-0700
TZNAME:PDT
DTSTART:20160313T100000
END:DAYLIGHT
BEGIN:STANDARD
TZOFFSETFROM:-0700
TZOFFSETTO:-0800
TZNAME:PST
DTSTART:20161106T090000
END:STANDARD
BEGIN:DAYLIGHT
TZOFFSETFROM:-0800
TZOFFSETTO:-0700
TZNAME:PDT
DTSTART:20170312T100000
END:DAYLIGHT
BEGIN:STANDARD
TZOFFSETFROM:-0700
TZOFFSETTO:-0800
TZNAME:PST
DTSTART:20171105T090000
END:STANDARD
END:VTIMEZONE
BEGIN:VEVENT
DTSTART;TZID=America/Los_Angeles:20160412T120000
DTEND;TZID=America/Los_Angeles:20160412T133000
DTSTAMP:20260421T022519
CREATED:20150925T170216Z
LAST-MODIFIED:20150925T170216Z
UID:10005134-1460462400-1460467800@thi.ucsc.edu
SUMMARY:Brown Bag Workshop: Teaching with Wikipedia (CANCELED)
DESCRIPTION:A hands-on workshop designed to construct innovative assignments using Wikipedia and its content editing platform. Building assignments that ask students to work on Wikipedia pages will help them: \n• Develop writing skills\n• Improve Media and Information Literacy\n• Refine Critical Thinking and Research Skills\n• Learn to work collaboratively \nThe workshop will also include a discussion about assessment and discipline specific objectives. Get inspired to integrate Wikipedia into your classroom.
URL:https://thi.ucsc.edu/event/brown-bag-workshop-teaching-with-wikipedia-2/
LOCATION:FITC\, 1336 McHenry Library
END:VEVENT
BEGIN:VEVENT
DTSTART;TZID=America/Los_Angeles:20160126T120000
DTEND;TZID=America/Los_Angeles:20160126T133000
DTSTAMP:20260421T022519
CREATED:20160104T184000Z
LAST-MODIFIED:20160104T184000Z
UID:10006318-1453809600-1453815000@thi.ucsc.edu
SUMMARY:Brown Bag Workshop: Teaching with Multimedia & Audio
DESCRIPTION:Interested in creating multimedia presentations to support your lectures or creating short narrated videos that students can listen to before class? Join us over lunch to learn how. This workshop will include an introduction to the kinds of tools available for use in the FITC and a discussion about designing assignments that include multimedia and audio components. \nThis workshop will inspire you to design new assignments\, develop your own multimedia materials\, and consider new pedagogical possibilities.
URL:https://thi.ucsc.edu/event/teaching-with-multimedia-audio-3/
LOCATION:FITC\, 1336 McHenry Library
END:VEVENT
END:VCALENDAR