BEGIN:VCALENDAR
VERSION:2.0
PRODID:-//The Humanities Institute - ECPv6.15.20//NONSGML v1.0//EN
CALSCALE:GREGORIAN
METHOD:PUBLISH
X-WR-CALNAME:The Humanities Institute
X-ORIGINAL-URL:https://thi.ucsc.edu
X-WR-CALDESC:Events for The Humanities Institute
REFRESH-INTERVAL;VALUE=DURATION:PT1H
X-Robots-Tag:noindex
X-PUBLISHED-TTL:PT1H
BEGIN:VTIMEZONE
TZID:America/Los_Angeles
BEGIN:DAYLIGHT
TZOFFSETFROM:-0800
TZOFFSETTO:-0700
TZNAME:PDT
DTSTART:20130310T100000
END:DAYLIGHT
BEGIN:STANDARD
TZOFFSETFROM:-0700
TZOFFSETTO:-0800
TZNAME:PST
DTSTART:20131103T090000
END:STANDARD
BEGIN:DAYLIGHT
TZOFFSETFROM:-0800
TZOFFSETTO:-0700
TZNAME:PDT
DTSTART:20140309T100000
END:DAYLIGHT
BEGIN:STANDARD
TZOFFSETFROM:-0700
TZOFFSETTO:-0800
TZNAME:PST
DTSTART:20141102T090000
END:STANDARD
BEGIN:DAYLIGHT
TZOFFSETFROM:-0800
TZOFFSETTO:-0700
TZNAME:PDT
DTSTART:20150308T100000
END:DAYLIGHT
BEGIN:STANDARD
TZOFFSETFROM:-0700
TZOFFSETTO:-0800
TZNAME:PST
DTSTART:20151101T090000
END:STANDARD
BEGIN:DAYLIGHT
TZOFFSETFROM:-0800
TZOFFSETTO:-0700
TZNAME:PDT
DTSTART:20160313T100000
END:DAYLIGHT
BEGIN:STANDARD
TZOFFSETFROM:-0700
TZOFFSETTO:-0800
TZNAME:PST
DTSTART:20161106T090000
END:STANDARD
BEGIN:DAYLIGHT
TZOFFSETFROM:-0800
TZOFFSETTO:-0700
TZNAME:PDT
DTSTART:20170312T100000
END:DAYLIGHT
BEGIN:STANDARD
TZOFFSETFROM:-0700
TZOFFSETTO:-0800
TZNAME:PST
DTSTART:20171105T090000
END:STANDARD
BEGIN:DAYLIGHT
TZOFFSETFROM:-0800
TZOFFSETTO:-0700
TZNAME:PDT
DTSTART:20180311T100000
END:DAYLIGHT
BEGIN:STANDARD
TZOFFSETFROM:-0700
TZOFFSETTO:-0800
TZNAME:PST
DTSTART:20181104T090000
END:STANDARD
BEGIN:DAYLIGHT
TZOFFSETFROM:-0800
TZOFFSETTO:-0700
TZNAME:PDT
DTSTART:20190310T100000
END:DAYLIGHT
BEGIN:STANDARD
TZOFFSETFROM:-0700
TZOFFSETTO:-0800
TZNAME:PST
DTSTART:20191103T090000
END:STANDARD
BEGIN:DAYLIGHT
TZOFFSETFROM:-0800
TZOFFSETTO:-0700
TZNAME:PDT
DTSTART:20200308T100000
END:DAYLIGHT
BEGIN:STANDARD
TZOFFSETFROM:-0700
TZOFFSETTO:-0800
TZNAME:PST
DTSTART:20201101T090000
END:STANDARD
BEGIN:DAYLIGHT
TZOFFSETFROM:-0800
TZOFFSETTO:-0700
TZNAME:PDT
DTSTART:20210314T100000
END:DAYLIGHT
BEGIN:STANDARD
TZOFFSETFROM:-0700
TZOFFSETTO:-0800
TZNAME:PST
DTSTART:20211107T090000
END:STANDARD
END:VTIMEZONE
BEGIN:VEVENT
DTSTART;TZID=America/Los_Angeles:20200403T130000
DTEND;TZID=America/Los_Angeles:20200403T153000
DTSTAMP:20260423T034917
CREATED:20191017T204510Z
LAST-MODIFIED:20200310T194604Z
UID:10006791-1585918800-1585927800@thi.ucsc.edu
SUMMARY:CANCELLED - 16th Annual Graduate Research Symposium
DESCRIPTION:The UC Santa Cruz Graduate Research Symposium offers graduate students from every division the opportunity to discuss their research with colleagues on campus and with the public. \nMcHenry Library\nInformation Commons South and Adjoining Classrooms\nApril 3\, 2020\n1:15 p.m. Kickoff\n1:30–3:30 p.m. Judging\n3:30–5:30 p.m. Award Reception\, south terrace and lawn \nFor more information visit: graddiv.ucsc.edu/events/symposium
URL:https://thi.ucsc.edu/event/16th-annual-graduate-research-symposium/
LOCATION:McHenry Library\, UCSC
END:VEVENT
BEGIN:VEVENT
DTSTART;TZID=America/Los_Angeles:20190426T130000
DTEND;TZID=America/Los_Angeles:20190426T153000
DTSTAMP:20260423T034917
CREATED:20190222T192523Z
LAST-MODIFIED:20190222T193717Z
UID:10006722-1556283600-1556292600@thi.ucsc.edu
SUMMARY:Graduate Research Symposium
DESCRIPTION:
URL:https://thi.ucsc.edu/event/graduate-research-symposium/
LOCATION:McHenry Library\, UCSC
END:VEVENT
BEGIN:VEVENT
DTSTART;TZID=America/Los_Angeles:20180427T130000
DTEND;TZID=America/Los_Angeles:20180427T180000
DTSTAMP:20260423T034917
CREATED:20180306T200046Z
LAST-MODIFIED:20180306T200235Z
UID:10005479-1524834000-1524852000@thi.ucsc.edu
SUMMARY:14th Annual Graduate Research Symposium
DESCRIPTION:14th Annual Graduate Research Symposium\nMcHenry Library\nApril 27\, 2018 \nThe UC Santa Cruz Graduate Research Symposium offers graduate students from every division the opportunity to discuss their research with colleagues on campus and with the public. Graduate students present their work in the following formats and venues: \n\n8-minute-maximum talk with or without visual aids\, which may be an overhead-projected slide presentation (e.g.\, Microsoft PowerPoint) in a library classroom bordering the 2nd-floor Information Commons South\n4’ x 4’ poster in the open-forum showcase of the library’s Information Commons South\nrecorded media presentation in the open-forum showcase of the library’s Information Commons South\n\nThe chancellor\, vice provost and dean of the Division of Graduate Studies\, and the five academic deans sponsor symposium awards decided by judges invited by the Division of Graduate Studies from among faculty\, staff\, postdoctoral scholars\, alumni\, trustees\, and community members.
URL:https://thi.ucsc.edu/event/14th-annual-graduate-research-symposium/
LOCATION:McHenry Library\, UCSC
END:VEVENT
BEGIN:VEVENT
DTSTART;TZID=America/Los_Angeles:20170512T130000
DTEND;TZID=America/Los_Angeles:20170512T163000
DTSTAMP:20260423T034917
CREATED:20161201T192448Z
LAST-MODIFIED:20161201T192448Z
UID:10006434-1494594000-1494606600@thi.ucsc.edu
SUMMARY:13th Annual Graduate Research Symposium
DESCRIPTION:Event Photos:\nIf you have trouble viewing above images\, you may view this album directly on Flickr. \nGraduate Research Symposium\nThe Symposium offers graduate students from every division the opportunity to discuss their research with colleagues on campus and with the public. Our students present their work in the form of posters\, live presentations\, and media demonstrations. The Symposium also awards juried prizes\, overseen by a panel of judges comprised of faculty\, staff\, researchers\, alumni\, and industry professionals\, for presenters from each division and two overall awards. \n*This year’s event will be held in the “Information Commons South” area on the 2nd floor of the McHenry Library. \nRegistration Information\nWe welcome presenters from all disciplines on campus\, and encourage live and media presentations as well as traditional poster presentations! For 2016\, registration was available for 48 posters\, 30 live presentations\, and 10 media presentations. \nEach presentation must have a primary presenter\, but may also list up to three co-presenters. \nPresenters will be asked to check into the event between 12:30 and 1:15 depending on their selected format. Presentation judging officially begins at 1:30 pm. \nAn awards reception will immediately follow the Symposium until 4:30 pm. Graduate students are also encouraged to attend the Graduate Alumni Social at the Graduate Student Commons in the Quarry Plaza that evening. \n*Please click here to view the 2016 Graduate Research Symposium Program \n  \nPresenters \nPoster Presentations: All posters must fit on 4′ x 4′ easels provided in the Information Commons South. Posters will be arranged in the order in which they arrive. There will be personnel available to assist with set up. Posters presenters must check in at the registration table between 12:45 and 1:15 pm on the 2ndfloor of the McHenry Library. After you register to present\, you will be assigned a one-hour window during which you must stay with your poster for judging.Posters may be removed after 3:30 pm. \nOral Presentations: Oral and live presentations will be in three classrooms on the 2nd floor of the McHenry Library. A computer and projector will be available so that presenters can bring slides via either flash drive in PowerPoint or Keynote format\, or saved to Google Drive in Google Slides; you may bring your own laptop if you like\, though this is not recommended because of the time constraints involved in setting up/down. An easel will also be available for additional visual aids upon request. Be sure to indicate your media needs on the registration form. Oral presenters must check in at the registration table between 12:30 noon and 1:00 pm on the 2nd floor of the McHenry Library. (Due to time restrictions\, oral/live presentations must be limited to 10 minutes in length including set-up and taking-down.) \nMedia Presentations: Media presentations may be in audio and/or video format. Media presenters will be required to set up a short meeting with McHenry Library staff the week prior to the Symposium to discuss technical and/or physical space needs. Please specify your media needs on your registration form. Media presenters must check in at the registration table between 12:30 noon and 1:00 pm on the 2nd floor of the McHenry Library.  After you register to present\, you will be assigned a one-hour window during which you must stay with your presentation for judging. \n*Please click here to review our Best Practices site! \n  \nClick here to see our previous symposium awardees.
URL:https://thi.ucsc.edu/event/graduate-research-symposium-2-2/
LOCATION:McHenry Library\, UCSC
ATTACH;FMTTYPE=image/jpeg:https://thi.ucsc.edu/wp-content/uploads/2016/12/symposium1.jpg
END:VEVENT
BEGIN:VEVENT
DTSTART;TZID=America/Los_Angeles:20160429T130000
DTEND;TZID=America/Los_Angeles:20160429T160000
DTSTAMP:20260423T034917
CREATED:20160401T170947Z
LAST-MODIFIED:20160401T170947Z
UID:10005217-1461934800-1461945600@thi.ucsc.edu
SUMMARY:12th Annual Graduate Research Symposium
DESCRIPTION:The Symposium offers graduate students from every division the opportunity to discuss their research with colleagues on campus and with the public. Our students present their work in the form of posters\, live presentations\, and media demonstrations. The Symposium also awards juried prizes\, overseen by a panel of judges comprised of faculty\, staff\, researchers\, alumni\, and industry professionals\, for presenters from each division and two overall awards. \nThis year’s event will be held in the “Information Commons South” area on the 2nd floor of the McHenry Library.
URL:https://thi.ucsc.edu/event/12th-annual-graduate-research-symposium-3/
LOCATION:McHenry Library\, UCSC
ATTACH;FMTTYPE=image/jpeg:https://thi.ucsc.edu/wp-content/uploads/2016/04/symposium1.jpg
END:VEVENT
BEGIN:VEVENT
DTSTART;TZID=America/Los_Angeles:20150424T130000
DTEND;TZID=America/Los_Angeles:20150424T150000
DTSTAMP:20260423T034917
CREATED:20150417T170607Z
LAST-MODIFIED:20150417T170607Z
UID:10006087-1429880400-1429887600@thi.ucsc.edu
SUMMARY:11th Annual Graduate Research Symposium
DESCRIPTION:[vc_row][vc_column width=”1/1″][vc_column_text]The Graduate Research Symposium highlights the innovative research being conducted by graduate students in our thirty-eight programs across five academic divisions. \nIt celebrates the scholarly\, creative\, social and commercial impact they make within California and around the world! \nIn addition to graduate students presenting their research to a general audience\, graduate alumni selected by the Division of Graduate Studies will serve as Symposium judges\, and graduate symposium alumni researchers noteworthy contributions will be highlighted. Join us at the Symposium to view presentations and discuss students’ research. \nFor more information\, visit event page![/vc_column_text][/vc_column][/vc_row]
URL:https://thi.ucsc.edu/event/11th-annual-graduate-research-symposium-2/
LOCATION:McHenry Library\, UCSC
END:VEVENT
BEGIN:VEVENT
DTSTART;TZID=America/Los_Angeles:20140509T133000
DTEND;TZID=America/Los_Angeles:20140509T163000
DTSTAMP:20260423T034917
CREATED:20140407T184910Z
LAST-MODIFIED:20140407T184910Z
UID:10005680-1399642200-1399653000@thi.ucsc.edu
SUMMARY:10th Annual Graduate Research Symposium
DESCRIPTION:Join us at 1:30 pm on Friday\, May 9th\, for the 10th Annual Graduate Research Symposium. This event offers graduate students an opportunity to share their research with faculty\, staff\, friends\, colleagues and the local community in the form of poster\, oral\, live or multimedia presentations. \nThis year’s event will take place in the “Information Commons South” area on the 2nd floor of the McHenry Library. The Symposium will feature up to 30 oral and live presentations\, 64 poster presentations and 10 media presentations. The Awards Reception begins at 3:30\, with refreshments being provided by the Global Village Café. \nFor more information\, please visit the Graduate Division website: http://graddiv.ucsc.edu/current-students/student-achievements/graduate-research-symposium.html
URL:https://thi.ucsc.edu/event/10th-annual-graduate-research-symposium-2/
LOCATION:McHenry Library\, UCSC
END:VEVENT
END:VCALENDAR