BEGIN:VCALENDAR
VERSION:2.0
PRODID:-//The Humanities Institute - ECPv6.15.20//NONSGML v1.0//EN
CALSCALE:GREGORIAN
METHOD:PUBLISH
X-WR-CALNAME:The Humanities Institute
X-ORIGINAL-URL:https://thi.ucsc.edu
X-WR-CALDESC:Events for The Humanities Institute
REFRESH-INTERVAL;VALUE=DURATION:PT1H
X-Robots-Tag:noindex
X-PUBLISHED-TTL:PT1H
BEGIN:VTIMEZONE
TZID:America/Los_Angeles
BEGIN:DAYLIGHT
TZOFFSETFROM:-0800
TZOFFSETTO:-0700
TZNAME:PDT
DTSTART:20250309T100000
END:DAYLIGHT
BEGIN:STANDARD
TZOFFSETFROM:-0700
TZOFFSETTO:-0800
TZNAME:PST
DTSTART:20251102T090000
END:STANDARD
BEGIN:DAYLIGHT
TZOFFSETFROM:-0800
TZOFFSETTO:-0700
TZNAME:PDT
DTSTART:20260308T100000
END:DAYLIGHT
BEGIN:STANDARD
TZOFFSETFROM:-0700
TZOFFSETTO:-0800
TZNAME:PST
DTSTART:20261101T090000
END:STANDARD
BEGIN:DAYLIGHT
TZOFFSETFROM:-0800
TZOFFSETTO:-0700
TZNAME:PDT
DTSTART:20270314T100000
END:DAYLIGHT
BEGIN:STANDARD
TZOFFSETFROM:-0700
TZOFFSETTO:-0800
TZNAME:PST
DTSTART:20271107T090000
END:STANDARD
END:VTIMEZONE
BEGIN:VEVENT
DTSTART;TZID=America/Los_Angeles:20260516T130000
DTEND;TZID=America/Los_Angeles:20260516T180000
DTSTAMP:20260423T022157
CREATED:20260421T210223Z
LAST-MODIFIED:20260421T215603Z
UID:10007926-1778936400-1778954400@thi.ucsc.edu
SUMMARY:EarthStory Festival
DESCRIPTION:You are invited to the EarthStory Festival: Our Regenerative Future\, hosted by EarthStory and the Eat•Grow•Learn Community Network at the Agrihood in Santa Clara (76 N. Winchester Boulevard). Join us for an afternoon of storytelling\, music\, workshops\, and booths all celebrating our regenerative future on this planet! Starting at 1:00pm\, come experience a marketplace hosted by local regenerative farms and environmental organizations. There will have workshops all day on the amphitheater stage hosted by Cultivating Self\, Bioticship\, Rising Lotus Reiki\, and Indy Rishi-Singh. At 3:00pm there will be storytelling offered by the Santa Clara Open Space Authority and the Eat•Grow•Learn Community Network. \n \nTickets are free. Donations are welcome. \nFor more information: EarthStory’s Substack \n\nThis event is co-sponsored by The Humanities Institute.
URL:https://thi.ucsc.edu/event/earthstory-festival/
LOCATION:The Agrihood\, 76 N Winchester Blvd\, Santa Clara\, CA\, 95050
ATTACH;FMTTYPE=image/png:https://thi.ucsc.edu/wp-content/uploads/2026/04/Untitled-design-69.png
END:VEVENT
END:VCALENDAR