BEGIN:VCALENDAR
VERSION:2.0
PRODID:-//The Humanities Institute - ECPv6.15.20//NONSGML v1.0//EN
CALSCALE:GREGORIAN
METHOD:PUBLISH
X-ORIGINAL-URL:https://thi.ucsc.edu
X-WR-CALDESC:Events for The Humanities Institute
REFRESH-INTERVAL;VALUE=DURATION:PT1H
X-Robots-Tag:noindex
X-PUBLISHED-TTL:PT1H
BEGIN:VTIMEZONE
TZID:America/Los_Angeles
BEGIN:DAYLIGHT
TZOFFSETFROM:-0800
TZOFFSETTO:-0700
TZNAME:PDT
DTSTART:20160313T100000
END:DAYLIGHT
BEGIN:STANDARD
TZOFFSETFROM:-0700
TZOFFSETTO:-0800
TZNAME:PST
DTSTART:20161106T090000
END:STANDARD
BEGIN:DAYLIGHT
TZOFFSETFROM:-0800
TZOFFSETTO:-0700
TZNAME:PDT
DTSTART:20170312T100000
END:DAYLIGHT
BEGIN:STANDARD
TZOFFSETFROM:-0700
TZOFFSETTO:-0800
TZNAME:PST
DTSTART:20171105T090000
END:STANDARD
BEGIN:DAYLIGHT
TZOFFSETFROM:-0800
TZOFFSETTO:-0700
TZNAME:PDT
DTSTART:20180311T100000
END:DAYLIGHT
BEGIN:STANDARD
TZOFFSETFROM:-0700
TZOFFSETTO:-0800
TZNAME:PST
DTSTART:20181104T090000
END:STANDARD
BEGIN:DAYLIGHT
TZOFFSETFROM:-0800
TZOFFSETTO:-0700
TZNAME:PDT
DTSTART:20190310T100000
END:DAYLIGHT
BEGIN:STANDARD
TZOFFSETFROM:-0700
TZOFFSETTO:-0800
TZNAME:PST
DTSTART:20191103T090000
END:STANDARD
BEGIN:DAYLIGHT
TZOFFSETFROM:-0800
TZOFFSETTO:-0700
TZNAME:PDT
DTSTART:20200308T100000
END:DAYLIGHT
BEGIN:STANDARD
TZOFFSETFROM:-0700
TZOFFSETTO:-0800
TZNAME:PST
DTSTART:20201101T090000
END:STANDARD
BEGIN:DAYLIGHT
TZOFFSETFROM:-0800
TZOFFSETTO:-0700
TZNAME:PDT
DTSTART:20210314T100000
END:DAYLIGHT
BEGIN:STANDARD
TZOFFSETFROM:-0700
TZOFFSETTO:-0800
TZNAME:PST
DTSTART:20211107T090000
END:STANDARD
BEGIN:DAYLIGHT
TZOFFSETFROM:-0800
TZOFFSETTO:-0700
TZNAME:PDT
DTSTART:20220313T100000
END:DAYLIGHT
BEGIN:STANDARD
TZOFFSETFROM:-0700
TZOFFSETTO:-0800
TZNAME:PST
DTSTART:20221106T090000
END:STANDARD
BEGIN:DAYLIGHT
TZOFFSETFROM:-0800
TZOFFSETTO:-0700
TZNAME:PDT
DTSTART:20230312T100000
END:DAYLIGHT
BEGIN:STANDARD
TZOFFSETFROM:-0700
TZOFFSETTO:-0800
TZNAME:PST
DTSTART:20231105T090000
END:STANDARD
BEGIN:DAYLIGHT
TZOFFSETFROM:-0800
TZOFFSETTO:-0700
TZNAME:PDT
DTSTART:20240310T100000
END:DAYLIGHT
BEGIN:STANDARD
TZOFFSETFROM:-0700
TZOFFSETTO:-0800
TZNAME:PST
DTSTART:20241103T090000
END:STANDARD
BEGIN:DAYLIGHT
TZOFFSETFROM:-0800
TZOFFSETTO:-0700
TZNAME:PDT
DTSTART:20250309T100000
END:DAYLIGHT
BEGIN:STANDARD
TZOFFSETFROM:-0700
TZOFFSETTO:-0800
TZNAME:PST
DTSTART:20251102T090000
END:STANDARD
BEGIN:DAYLIGHT
TZOFFSETFROM:-0800
TZOFFSETTO:-0700
TZNAME:PDT
DTSTART:20260308T100000
END:DAYLIGHT
BEGIN:STANDARD
TZOFFSETFROM:-0700
TZOFFSETTO:-0800
TZNAME:PST
DTSTART:20261101T090000
END:STANDARD
END:VTIMEZONE
BEGIN:VEVENT
DTSTART;TZID=America/Los_Angeles:20250313T173000
DTEND;TZID=America/Los_Angeles:20250313T210000
DTSTAMP:20260423T002011
CREATED:20250214T201125Z
LAST-MODIFIED:20250219T213848Z
UID:10007604-1741887000-1741899600@thi.ucsc.edu
SUMMARY:2025 Sidhartha Maitra Memorial Lecture featuring Raghuram Rajan
DESCRIPTION:UC Santa Cruz Chancellor Cynthia Larive and Foundation Board Trustee Anuradha Luther Maitra invite you to the Sidhartha Maitra Memorial Lecture: “How can India (and developing countries) grow? Navigating an automating and protectionist world” featuring Raghuram Rajan. \nThe schedule for Thursday\, March 13\, includes a reception from 5:30 to 6:30 p.m.\, followed by the program from 6:30 to 8:15 p.m.\, and concluding with tea and dessert from 8:15 to 9:00 p.m. \n \nIndia is at a crossroads today. Its economic growth rate\, while respectable relative to other large countries\, is too low for the jobs its youth need. The East Asian path of manufacturing-led exports no longer seems feasible—aside from increasing automation in manufacturing\, the world isn’t prepared or right for another export-driven economy like China. India broke away from the standard development path—from agriculture to low-skilled manufacturing\, then high-skilled manufacturing and\, finally\, services—a long time back by leapfrogging the intermediate steps. \nInstead of now trying to regress to development paths that may no longer be feasible\, Dr. Rajan will lay out an alternative path to accelerate economic development and make India a ferment of ideas and creativity. By breaking from the past and looking to the future\, India can craft a truly Indian way\, a path that could be emulated by other developing countries. \nRaghuram Rajan is the Katherine Dusak Miller Distinguished Service Professor of Finance at the University of Chicago’s Booth School. He was the Governor of the Reserve Bank of India between 2013 and 2016\, Vice-Chairman of the Board of the Bank for International Settlements (2015-16) and Chief Economist at the International Monetary Fund (2003-2006). \nDr. Rajan’s book Fault Lines (2010) won the Financial Times prize for best business book and his book The Third Pillar: How Markets and the State Hold the Community Behind (2019) was a finalist for the award. His most recent book (December 2023) is Breaking the Mold: India’s Untraveled Path to Prosperity\, with Rohit Lamba. \nDr. Rajan received AFA’s inaugural Fischer Black Prize in 2003\, the Deutsche Bank Prize for financial economics in 2013\, Euromoney magazine’s Central Banker of the Year award in 2014\, and The Banker magazine’s Global Central Banker award in 2016. \nAnuradha Luther Maitra received her Ph.D. in Economics from Stanford University\, and has served UC Santa Cruz in many capacities: Professor of Economics\, Special Advisor to the Chancellor on International Initiatives\, UC Santa Cruz Foundation Trustee and President\, and founder of the Sidhartha Maitra Lecture Series on Humanism\, Reason\, and Tolerance. \n\nThis premier campus event series seeks to enrich the intellectual life of the campus and the community\, and is made possible thanks to the Sidhartha Maitra Memorial Lecture endowment. \nThis event is co-sponsored by the India House Foundation\, the Center for South Asian Studies at UCSC\, and The Humanities Institute at UCSC.
URL:https://thi.ucsc.edu/event/2025-sidhartha-maitra-memorial-lecture-featuring-raghuram-rajan/
LOCATION:UC Santa Cruz Silicon Valley Campus
ATTACH;FMTTYPE=image/png:https://thi.ucsc.edu/wp-content/uploads/2025/02/Sidhartha-Maitra-Memorial-Lecture_Raghuram-Rajan.png
END:VEVENT
BEGIN:VEVENT
DTSTART;TZID=America/Los_Angeles:20230420T173000
DTEND;TZID=America/Los_Angeles:20230420T193000
DTSTAMP:20260423T002011
CREATED:20230407T043734Z
LAST-MODIFIED:20230407T044226Z
UID:10007263-1682011800-1682019000@thi.ucsc.edu
SUMMARY:2023 Sidhartha Maitra Memorial Lecture featuring Dr. Partha Mitter
DESCRIPTION:Intense debate has recently been centered on the notion of a cosmopolitanism that arose with colonial era globalization. Cosmopolitanism naturally presupposes travel but what about those who stay at home? The migration of ideas and cross-cultural exchanges made possible by the spread of hegemonic languages and print culture created a virtual cosmopolis that has continued to our day. \nDr. Mitter’s talk will focus on the dynamics\, peculiarities and biases of this world. \n  \n \n  \nIf you are unable to attend in person\, you can join us virtually. Click here to register for the virtual event. \n  \nPartha Mitter is a writer and historian of art and culture\, specializing in the reception of Indian art in the West\, as well as in modernity\, art and identity in India\, and more recently in global modernism. He studied history at London University and did his doctorate with E. H. Gombrich (1970). He began his career as Junior Research Fellow at Churchill College\, Cambridge (1968-69) and Research Fellow at Clare Hall\, Cambridge (1970-74). In 1974 he joined Sussex as a Lecturer in Indian History\, retiring in 2002 as Professor in Art History. He is an Adjunct Research Professor Carleton University\, Ontario\, Canada \nHis publications include Much Maligned Monsters: History of European Reactions to Indian Art (Clarendon Press\, Oxford\, 1977: Chicago University Press Paperback\, 1992; Oxford University Press\, New Delhi\, 2013); Art and Nationalism in Colonial India 1850-1922: Occidental Orientations (Cambridge University Press\, 1994); Indian Art\, Oxford Art History Series (Oxford University Press\, Oxford\, 2002); The Triumph of Modernism: India’s Artists and the Avant-Garde – 1922-1947 (Reaktion Books\, London\, Oxford University Press\, New Delhi\, 2007).  \nMitter was Radhakrishnan Lecturer at All Souls College\, Oxford in 1992 and Getty Visiting Professor at Bogazici University\, Istanbul in 2011. He has held fellowships at the Institute for Advanced Study\, Princeton; Getty Research Institute\, Los Angeles; Clark Art Institute\, Williamstown\, Massachusetts; and CASVA\, National Gallery of Art\, Washington DC. In 2000 he was invited by the Indian Government to set up the School of Art and Aesthetics at Jawaharlal Nehru University in New Delhi.  \nIn 1982 he curated and wrote an introduction to the catalogue of an exhibition on the history of Indian photography for the Photographers Gallery\, London. At present he is Emeritus Professor in Art History\, University of Sussex\, Member of Wolfson College\, Oxford and Adjunct Research Professor\, Carleton University\, Ontario\, Canada. In 2008 he received an Honorary D.Lit. degree from the Courtauld Institute\, London University. \n \nAnuradha Luther Maitra received her Ph.D. in Economics from Stanford University\, and has served UC Santa Cruz in many capacities: Professor of Economics\, Special Advisor to the Chancellor on International Initiatives\, UC Santa Cruz Foundation Trustee and President. In the year 2001\, she established the Sidhartha Maitra Lecture Series on Humanism\, Reason and Tolerance in memory of her late husband “with a little bit of help from my friends”: Vikram Seth delivered the Inaugural Lecture ‘Friendship and Poetry’\, and Kiran and Arjun Malhotra provided the founding endowment. \n  \nThis premier campus event series seeks to enrich the intellectual life of the campus and the community\, and is made possible thanks to the Sidhartha Maitra Memorial Lecture endowment. \nThis event is co-sponsored by the Center for South Asian Studies.
URL:https://thi.ucsc.edu/event/2023-sidhartha-maitra-memorial-lecture-featuring-dr-partha-mitter/
LOCATION:UC Santa Cruz Silicon Valley Campus
END:VEVENT
BEGIN:VEVENT
DTSTART;VALUE=DATE:20170501
DTEND;VALUE=DATE:20170502
DTSTAMP:20260423T002011
CREATED:20161201T191718Z
LAST-MODIFIED:20161201T191718Z
UID:10006433-1493596800-1493683199@thi.ucsc.edu
SUMMARY:Humanists@Work: Graduate Career Workshop in Silicon Valley
DESCRIPTION:Humanists@Work Graduate Career Workshop – UC Santa Cruz Silicon Valley Campus\nSanta Clara – May 1\, 2017\nWhat is Humanists@Work?\nHumanists@Work is a UC-wide initiative geared towards UC Humanities and humanistic Social Science MAs and PhDs interested in careers outside/alongside the academy. \nOn May 1\, 2017\, HumWork will host a sixth workshop for graduate students and faculty members in partnership with the University of California\, Santa Cruz. Inspired by its location\, Humanists@Work Graduate Career Workshop – Silicon Valley will engage the synergistic possibilities at the intersection of new media\, community engagement\, education and public humanities that is characteristic of the greater Bay Area. \n  \n \nWORKSHOP LOCATION \nUCSC Silicon Valley Extension Campus\n3175 Bowers Ave\nSanta Clara\, CA 95054\nFREE PARKING ON CAMPUS \nWORKSHOP SCHEDULE \n8:00—9:00 AM: HOT BREAKFAST \n9:00—9:30 AM: WELCOME \n9:30—11:00 AM: STORIES FROM THE FIELD \nIn Stories from the Field\, four UC humanities PhDs discuss how long-term\, sustained humanistic thought and labor shape\, and potentially transform\, their career trajectories and the industries in which they find themselves employed. How did their values\, ethics\, and politics inform their post-PhD work choices? \nChristian Blood\nCurriculum Specialist\nZoho Corporation \nDana Douglas DePietro\, Ph.D.\nCultural Resources Division Lead\, FirstCarbon Solutions\nExecutive Director\, S.H.A.R.E \nTamao Nakahara\, PhD\nCo-organizer\nDevXCon \nSheri J. Tatsch\, PhD\nOwner/Principal\nIndigenous Consulting Services \n11:00—11:30 AM: COFFEE BREAK AND INFORMAL NETWORKING \n11:30 AM—1:00 PM: FROM ACADEMIC CV TO INNOVATIVE RÉSUMÉ USING JARED REDICK’S “PURPOSE\, CONTENT\, DESIGN” METHODOLOGIES \nThe Résumé Studio’s Jared Redick returns to Humwork\, sharing his “purpose\, content\, design” techniques aimed at helping recent and soon-to-be PhDs shape a purposeful résumé\, while framing the possibilities of a fulfilling future beyond or alongside academia. \n1:00—2:00 PM: LUNCH \n2:00—3:30 PM: BREAKOUT SESSIONS \nSESSION 1 – HUMANITIES PHDS: DESIGNING CAREER PATHS \nDebra Behrens\, PhD\nPhD Counselor\nUniversity of California\, Berkeley \nThis interactive workshop is for humanities PhDs in the early stages of researching careers who want to Explore career ideas\, Learn to research jobs and engage short-term strategies for gaining experience\, and Design potential career paths. \nSESSION 2 – PERSUASIVE INTERVIEWING \nAnnie Maxfield\, MS\nAssociate Director\, Graduate Student Relations and Services\nUniversity of California\, Los Angeles \nExcelling in interview settings is a skill that requires thought\, practice\, and confidence. During this interactive workshop\, attendees will practice and refine their interviewing skills by learning persuasive techniques that enhance their storytelling abilities and highlight their key contributions. \n3:30—4:00 PM: COFFEE BREAK AND INFORMAL NETWORKING \n4:00—5:30 PM: CANDID CONVERSATIONS: DEBT IN THE HUMANITIES \nStudent debt is a collective experience shared by the majority of humanities PhDs\, so why aren’t we talking about it? Candid Conversations engages faculty\, graduate students\, and university staff in a dialogue around the issue of debt and how it influences your post-PhD careers. \nJoshua A. Anderson\nGraduate Student\nUniversity of California\, Berkeley \nJessica Beard\, PhD\nHigher Education Project Organizer\nAmerican Federation of Teachers \nJennifer E. McSpadden\nABD\nUniversity of California\, Davis \nAllison Perlman\, PhD\nAssistant Professor\nUniversity of California\, Irvine
URL:https://thi.ucsc.edu/event/humanistswork-2-2/
LOCATION:UC Santa Cruz Silicon Valley Campus
ATTACH;FMTTYPE=image/png:https://thi.ucsc.edu/wp-content/uploads/2016/12/Hum@Work-web-banner-5.1.17.png
END:VEVENT
END:VCALENDAR